{"text_format":"1","workbook":"xlsx","n_sheets":3,"sheets":["Vstup","Výstup","Sheet3"],"not_rendered":{"charts":0,"images":1,"macros":1,"external_links":0,"defined_names":0,"comments":0,"pivot_tables":0},"unopened":[],"bounds":{"document_bytes":16777216,"sheet_cells":100000,"rows_first":2000,"rows_last":500,"rows_between":2000,"halvings":0,"cell_chars":16384,"cell_head_chars":4096},"cells_cut":0,"cells_raw":0,"read":"whole","date_system":"1900"}

{"sheet":"Vstup","index":0,"n_rows":21,"n_cols":8,"rows_kept":21,"cut":false,"hidden":false,"merged":[[20,2,20,5],[0,3,0,4]]}
[null,null,null,"Hypotéční kalkulátor - www.levnejsihypoteka.cz"]
[]
[null,null,"Zadejte parametry hypotéky:"]
[]
[null,null,"Částka hypotéky","Úroková sazba","Doba splácení (let)","První splátka"]
[null,null,330000000,0.06,20,"2022-01-01",null,{"$f":"-PMT(D6/12,E6*12,C6)","v":2364222.4929779437}]
[]
[]
[]
[]
[]
[]
[]
[null,null,null,null,"Měsíční splátka"]
[null,null,null,null,2364222.4929779437]
[]
[]
[]
[]
[]
[null,null,"Pro další informace o zadané hypotéce přejděte na list Výstup"]

{"sheet":"Výstup","index":1,"n_rows":1395,"n_cols":14,"rows_kept":1395,"cut":false,"hidden":false,"merged":[[5,6,5,7],[1,2,1,6]]}
[null,null,null,null,null,"Hypotéční kalkulátor - www.levnejsihypoteka.cz"]
[null,null,"Parametry hypotéky"]
[null,"Částka hypotéky",null,{"$f":"Vstup!C6","v":330000000},null,"První splátka",{"$f":"Sheet3!D3&\"/\"","v":"1/"},{"$f":"Sheet3!C3","v":2022}]
[null,"Úroková sazba",null,{"$f":"Vstup!D6","v":0.06},null,"Poslední splátka",{"$f":"IF(Sheet3!D3>1,Sheet3!D3-1,12)&\"/\"","v":"12/"},{"$f":"Sheet3!D2","v":2041}]
[null,"Doba splácení v letech",null,{"$f":"Vstup!E6","v":20},null,"Počet splátek",{"$f":"12*Vstup!E6","v":240}]
[null,null,null,null,null,"Výše splátky",{"$f":"Vstup!E15","v":2364222.4929779437}]
[]
[]
[]
[]
[]
[]
[]
[]
[null,null,null,"Roční přehled",null,null,null,null,null,null,"Detailní měsíční přehled"]
[null,"Rok","Součet splátek","Součet úroků","Součet úmorů","Dlužný zůstatek",null,"Rok","Měsíc","Dlužný zůstatek před splátkou","Úmor","Úrok","Dlužný zůstatek po splátce"]
[null,{"$f":"Sheet3!C3","v":2022},{"$f":"SUMIF(Sheet3!C5:C436,B17,Sheet3!D5:D436)","v":28370669.915735323},{"$f":"SUMIF(Sheet3!C5:C436,B17,Sheet3!G5:G436)","v":19560333.805477828},{"$f":"SUMIF(Sheet3!C5:C436,B17,Sheet3!F5:F436)","v":8810336.1102574971},{"$f":"Sheet3!B1-E17","v":321189663.88974249},null,{"$f":"Sheet3!C5","v":2022},{"$f":"Sheet3!B5","v":1},{"$f":"Sheet3!E5","v":330000000},{"$f":"Sheet3!F5","v":714222.49297794374},{"$f":"Sheet3!G5","v":1650000},{"$f":"Sheet3!H5","v":329285777.50702208},{"$f":"Sheet3!A5","v":1}]
[null,{"$f":"IF(B17+1<=Sheet3!$C$2,B17+1,-9.99999999999999E+25)","v":2023},{"$f":"SUMIF(Sheet3!C6:C437,B18,Sheet3!D6:D437)","v":28370669.915735323},{"$f":"SUMIF(Sheet3!C6:C437,B18,Sheet3!G6:G437)","v":19016931.552406356},{"$f":"SUMIF(Sheet3!C6:C437,B18,Sheet3!F6:F437)","v":9353738.3633289672},{"$f":"F17-E18","v":311835925.5264135},null,{"$f":"Sheet3!C6","v":2022},{"$f":"Sheet3!B6","v":2},{"$f":"Sheet3!E6","v":329285777.50702208},{"$f":"Sheet3!F6","v":717793.60544283339},{"$f":"Sheet3!G6","v":1646428.8875351103},{"$f":"Sheet3!H6","v":328567983.90157926},{"$f":"Sheet3!A6","v":2}]
[null,{"$f":"IF(B18+1<=Sheet3!$C$2,B18+1,-9.99999999999999E+25)","v":2024},{"$f":"SUMIF(Sheet3!C7:C438,B19,Sheet3!D7:D438)","v":28370669.915735323},{"$f":"SUMIF(Sheet3!C7:C438,B19,Sheet3!G7:G438)","v":18440013.437403195},{"$f":"SUMIF(Sheet3!C7:C438,B19,Sheet3!F7:F438)","v":9930656.4783321302},{"$f":"F18-E19","v":301905269.0480814},null,{"$f":"Sheet3!C7","v":2022},{"$f":"Sheet3!B7","v":3},{"$f":"Sheet3!E7","v":328567983.90157926},{"$f":"Sheet3!F7","v":721382.57347004744},{"$f":"Sheet3!G7","v":1642839.9195078963},{"$f":"Sheet3!H7","v":327846601.3281092},{"$f":"Sheet3!A7","v":2}]
[null,{"$f":"IF(B19+1<=Sheet3!$C$2,B19+1,-9.99999999999999E+25)","v":2025},{"$f":"SUMIF(Sheet3!C8:C439,B20,Sheet3!D8:D439)","v":28370669.915735323},{"$f":"SUMIF(Sheet3!C8:C439,B20,Sheet3!G8:G439)","v":17827512.27544165},{"$f":"SUMIF(Sheet3!C8:C439,B20,Sheet3!F8:F439)","v":10543157.640293676},{"$f":"F19-E20","v":291362111.40778774},null,{"$f":"Sheet3!C8","v":2022},{"$f":"Sheet3!B8","v":4},{"$f":"Sheet3!E8","v":327846601.3281092},{"$f":"Sheet3!F8","v":724989.48633739771},{"$f":"Sheet3!G8","v":1639233.006640546},{"$f":"Sheet3!H8","v":327121611.84177178},{"$f":"Sheet3!A8","v":2}]
[null,{"$f":"IF(B20+1<=Sheet3!$C$2,B20+1,-9.99999999999999E+25)","v":2026},{"$f":"SUMIF(Sheet3!C9:C440,B21,Sheet3!D9:D440)","v":28370669.915735323},{"$f":"SUMIF(Sheet3!C9:C440,B21,Sheet3!G9:G440)","v":17177233.38204585},{"$f":"SUMIF(Sheet3!C9:C440,B21,Sheet3!F9:F440)","v":11193436.533689475},{"$f":"F20-E21","v":280168674.87409824},null,{"$f":"Sheet3!C9","v":2022},{"$f":"Sheet3!B9","v":5},{"$f":"Sheet3!E9","v":327121611.84177178},{"$f":"Sheet3!F9","v":728614.43376908498},{"$f":"Sheet3!G9","v":1635608.0592088588},{"$f":"Sheet3!H9","v":326392997.40800267},{"$f":"Sheet3!A9","v":2}]
[null,{"$f":"IF(B21+1<=Sheet3!$C$2,B21+1,-9.99999999999999E+25)","v":2027},{"$f":"SUMIF(Sheet3!C10:C441,B22,Sheet3!D10:D441)","v":28370669.915735323},{"$f":"SUMIF(Sheet3!C10:C441,B22,Sheet3!G10:G441)","v":16486846.709403733},{"$f":"SUMIF(Sheet3!C10:C441,B22,Sheet3!F10:F441)","v":11883823.206331592},268284851.66776666,null,{"$f":"Sheet3!C10","v":2022},{"$f":"Sheet3!B10","v":6},{"$f":"Sheet3!E10","v":326392997.40800267},{"$f":"Sheet3!F10","v":732257.50593793043},{"$f":"Sheet3!G10","v":1631964.9870400133},{"$f":"Sheet3!H10","v":325660739.90206474},{"$f":"Sheet3!A10","v":2}]
[null,{"$f":"IF(B22+1<=Sheet3!$C$2,B22+1,-9.99999999999999E+25)","v":2028},{"$f":"SUMIF(Sheet3!C11:C442,B23,Sheet3!D11:D442)","v":28370669.915735323},{"$f":"SUMIF(Sheet3!C11:C442,B23,Sheet3!G11:G442)","v":15753878.497452635},{"$f":"SUMIF(Sheet3!C11:C442,B23,Sheet3!F11:F442)","v":12616791.41828269},255668060.24948397,null,{"$f":"Sheet3!C11","v":2022},{"$f":"Sheet3!B11","v":7},{"$f":"Sheet3!E11","v":325660739.90206474},{"$f":"Sheet3!F11","v":735918.79346762015},{"$f":"Sheet3!G11","v":1628303.6995103236},{"$f":"Sheet3!H11","v":324924821.1085971},{"$f":"Sheet3!A11","v":2}]
[null,{"$f":"IF(B23+1<=Sheet3!$C$2,B23+1,-9.99999999999999E+25)","v":2029},{"$f":"SUMIF(Sheet3!C12:C443,B24,Sheet3!D12:D443)","v":28370669.915735323},{"$f":"SUMIF(Sheet3!C12:C443,B24,Sheet3!G12:G443)","v":14975702.410022166},{"$f":"SUMIF(Sheet3!C12:C443,B24,Sheet3!F12:F443)","v":13394967.505713165},242273092.74377081,null,{"$f":"Sheet3!C12","v":2022},{"$f":"Sheet3!B12","v":8},{"$f":"Sheet3!E12","v":324924821.1085971},{"$f":"Sheet3!F12","v":739598.38743495825},{"$f":"Sheet3!G12","v":1624624.1055429855},{"$f":"Sheet3!H12","v":324185222.72116214},{"$f":"Sheet3!A12","v":2}]
[null,{"$f":"IF(B24+1<=Sheet3!$C$2,B24+1,-9.99999999999999E+25)","v":2030},{"$f":"SUMIF(Sheet3!C13:C444,B25,Sheet3!D13:D444)","v":28370669.915735323},{"$f":"SUMIF(Sheet3!C13:C444,B25,Sheet3!G13:G444)","v":14149530.124273703},{"$f":"SUMIF(Sheet3!C13:C444,B25,Sheet3!F13:F444)","v":14221139.791461622},228051952.95230919,null,{"$f":"Sheet3!C13","v":2022},{"$f":"Sheet3!B13","v":9},{"$f":"Sheet3!E13","v":324185222.72116214},{"$f":"Sheet3!F13","v":743296.37937213317},{"$f":"Sheet3!G13","v":1620926.1136058106},{"$f":"Sheet3!H13","v":323441926.34179002},{"$f":"Sheet3!A13","v":2}]
[null,{"$f":"IF(B25+1<=Sheet3!$C$2,B25+1,-9.99999999999999E+25)","v":2031},{"$f":"SUMIF(Sheet3!C14:C445,B26,Sheet3!D14:D445)","v":28370669.915735323},{"$f":"SUMIF(Sheet3!C14:C445,B26,Sheet3!G14:G445)","v":13272401.339717181},{"$f":"SUMIF(Sheet3!C14:C445,B26,Sheet3!F14:F445)","v":15098268.576018142},212953684.37629104,null,{"$f":"Sheet3!C14","v":2022},{"$f":"Sheet3!B14","v":10},{"$f":"Sheet3!E14","v":323441926.34179002},{"$f":"Sheet3!F14","v":747012.8612689937},{"$f":"Sheet3!G14","v":1617209.63170895},{"$f":"Sheet3!H14","v":322694913.48052102},{"$f":"Sheet3!A14","v":2}]
[null,{"$f":"IF(B26+1<=Sheet3!$C$2,B26+1,-9.99999999999999E+25)","v":2032},{"$f":"SUMIF(Sheet3!C15:C446,B27,Sheet3!D15:D446)","v":28370669.915735323},{"$f":"SUMIF(Sheet3!C15:C446,B27,Sheet3!G15:G446)","v":12341173.171005847},{"$f":"SUMIF(Sheet3!C15:C446,B27,Sheet3!F15:F446)","v":16029496.744729478},196924187.63156155,null,{"$f":"Sheet3!C15","v":2022},{"$f":"Sheet3!B15","v":11},{"$f":"Sheet3!E15","v":322694913.48052102},{"$f":"Sheet3!F15","v":750747.92557533877},{"$f":"Sheet3!G15","v":1613474.567402605},{"$f":"Sheet3!H15","v":321944165.55494571},{"$f":"Sheet3!A15","v":2}]
[null,{"$f":"IF(B27+1<=Sheet3!$C$2,B27+1,-9.99999999999999E+25)","v":2033},{"$f":"SUMIF(Sheet3!C16:C447,B28,Sheet3!D16:D447)","v":28370669.915735323},{"$f":"SUMIF(Sheet3!C16:C447,B28,Sheet3!G16:G447)","v":11352508.886501815},{"$f":"SUMIF(Sheet3!C16:C447,B28,Sheet3!F16:F447)","v":17018161.029233512},179906026.60232803,null,{"$f":"Sheet3!C16","v":2022},{"$f":"Sheet3!B16","v":12},{"$f":"Sheet3!E16","v":321944165.55494571},{"$f":"Sheet3!F16","v":754501.66520321532},{"$f":"Sheet3!G16","v":1609720.8277747284},{"$f":"Sheet3!H16","v":321189663.88974249},{"$f":"Sheet3!A16","v":2}]
[null,{"$f":"IF(B28+1<=Sheet3!$C$2,B28+1,-9.99999999999999E+25)","v":2034},{"$f":"SUMIF(Sheet3!C17:C448,B29,Sheet3!D17:D448)","v":28370669.915735323},{"$f":"SUMIF(Sheet3!C17:C448,B29,Sheet3!G17:G448)","v":10302865.952260992},{"$f":"SUMIF(Sheet3!C17:C448,B29,Sheet3!F17:F448)","v":18067803.963474333},161838222.6388537,null,{"$f":"Sheet3!C17","v":2023},{"$f":"Sheet3!B17","v":1},{"$f":"Sheet3!E17","v":321189663.88974249},{"$f":"Sheet3!F17","v":758274.17352923146},{"$f":"Sheet3!G17","v":1605948.3194487123},{"$f":"Sheet3!H17","v":320431389.71621329},{"$f":"Sheet3!A17","v":2}]
[null,{"$f":"IF(B29+1<=Sheet3!$C$2,B29+1,-9.99999999999999E+25)","v":2035},{"$f":"SUMIF(Sheet3!C18:C449,B30,Sheet3!D18:D449)","v":28370669.915735323},{"$f":"SUMIF(Sheet3!C18:C449,B30,Sheet3!G18:G449)","v":9188483.3385971617},{"$f":"SUMIF(Sheet3!C18:C449,B30,Sheet3!F18:F449)","v":19182186.577138167},142656036.06171554,null,{"$f":"Sheet3!C18","v":2023},{"$f":"Sheet3!B18","v":2},{"$f":"Sheet3!E18","v":320431389.71621329},{"$f":"Sheet3!F18","v":762065.54439687752},{"$f":"Sheet3!G18","v":1602156.9485810662},{"$f":"Sheet3!H18","v":319669324.17181641},{"$f":"Sheet3!A18","v":2}]
[null,{"$f":"IF(B30+1<=Sheet3!$C$2,B30+1,-9.99999999999999E+25)","v":2036},{"$f":"SUMIF(Sheet3!C19:C450,B31,Sheet3!D19:D450)","v":28370669.915735323},{"$f":"SUMIF(Sheet3!C19:C450,B31,Sheet3!G19:G450)","v":8005368.0437427014},{"$f":"SUMIF(Sheet3!C19:C450,B31,Sheet3!F19:F450)","v":20365301.871992625},122290734.18972293,null,{"$f":"Sheet3!C19","v":2023},{"$f":"Sheet3!B19","v":3},{"$f":"Sheet3!E19","v":319669324.17181641},{"$f":"Sheet3!F19","v":765875.87211886188},{"$f":"Sheet3!G19","v":1598346.6208590819},{"$f":"Sheet3!H19","v":318903448.29969752},{"$f":"Sheet3!A19","v":2}]
[null,{"$f":"IF(B31+1<=Sheet3!$C$2,B31+1,-9.99999999999999E+25)","v":2037},{"$f":"SUMIF(Sheet3!C20:C451,B32,Sheet3!D20:D451)","v":28370669.915735323},{"$f":"SUMIF(Sheet3!C20:C451,B32,Sheet3!G20:G451)","v":6749280.7863181988},{"$f":"SUMIF(Sheet3!C20:C451,B32,Sheet3!F20:F451)","v":21621389.129417125},100669345.0603058,null,{"$f":"Sheet3!C20","v":2023},{"$f":"Sheet3!B20","v":4},{"$f":"Sheet3!E20","v":318903448.29969752},{"$f":"Sheet3!F20","v":769705.25147945643},{"$f":"Sheet3!G20","v":1594517.2414984873},{"$f":"Sheet3!H20","v":318133743.04821807},{"$f":"Sheet3!A20","v":2}]
[null,{"$f":"IF(B32+1<=Sheet3!$C$2,B32+1,-9.99999999999999E+25)","v":2038},{"$f":"SUMIF(Sheet3!C21:C452,B33,Sheet3!D21:D452)","v":28370669.915735323},{"$f":"SUMIF(Sheet3!C21:C452,B33,Sheet3!G21:G452)","v":5415720.8153448747},{"$f":"SUMIF(Sheet3!C21:C452,B33,Sheet3!F21:F452)","v":22954949.100390445},77714395.959915355,null,{"$f":"Sheet3!C21","v":2023},{"$f":"Sheet3!B21","v":5},{"$f":"Sheet3!E21","v":318133743.04821807},{"$f":"Sheet3!F21","v":773553.77773685334},{"$f":"Sheet3!G21","v":1590668.7152410904},{"$f":"Sheet3!H21","v":317360189.27048123},{"$f":"Sheet3!A21","v":2}]
[null,{"$f":"IF(B33+1<=Sheet3!$C$2,B33+1,-9.99999999999999E+25)","v":2039},{"$f":"SUMIF(Sheet3!C22:C453,B34,Sheet3!D22:D453)","v":28370669.915735323},{"$f":"SUMIF(Sheet3!C22:C453,B34,Sheet3!G22:G453)","v":3999909.783371829},{"$f":"SUMIF(Sheet3!C22:C453,B34,Sheet3!F22:F453)","v":24370760.132363498},53343635.827551857,null,{"$f":"Sheet3!C22","v":2023},{"$f":"Sheet3!B22","v":6},{"$f":"Sheet3!E22","v":317360189.27048123},{"$f":"Sheet3!F22","v":777421.54662553756},{"$f":"Sheet3!G22","v":1586800.9463524062},{"$f":"Sheet3!H22","v":316582767.72385567},{"$f":"Sheet3!A22","v":2}]
[null,{"$f":"IF(B34+1<=Sheet3!$C$2,B34+1,-9.99999999999999E+25)","v":2040},{"$f":"SUMIF(Sheet3!C23:C454,B35,Sheet3!D23:D454)","v":28370669.915735323},{"$f":"SUMIF(Sheet3!C23:C454,B35,Sheet3!G23:G454)","v":2496774.6249330668},{"$f":"SUMIF(Sheet3!C23:C454,B35,Sheet3!F23:F454)","v":25873895.290802255},27469740.536749601,null,{"$f":"Sheet3!C23","v":2023},{"$f":"Sheet3!B23","v":7},{"$f":"Sheet3!E23","v":316582767.72385567},{"$f":"Sheet3!F23","v":781308.65435866523},{"$f":"Sheet3!G23","v":1582913.8386192785},{"$f":"Sheet3!H23","v":315801459.06949699},{"$f":"Sheet3!A23","v":2}]
[null,{"$f":"IF(B35+1<=Sheet3!$C$2,B35+1,-9.99999999999999E+25)","v":2041},{"$f":"SUMIF(Sheet3!C24:C455,B36,Sheet3!D24:D455)","v":28370669.915735323},{"$f":"SUMIF(Sheet3!C24:C455,B36,Sheet3!G24:G455)","v":900929.37898520438},{"$f":"SUMIF(Sheet3!C24:C455,B36,Sheet3!F24:F455)","v":27469740.536750123},-5.2154064178466797E-7,null,{"$f":"Sheet3!C24","v":2023},{"$f":"Sheet3!B24","v":8},{"$f":"Sheet3!E24","v":315801459.06949699},{"$f":"Sheet3!F24","v":785215.19763045898},{"$f":"Sheet3!G24","v":1579007.2953474848},{"$f":"Sheet3!H24","v":315016243.87186652},{"$f":"Sheet3!A24","v":2}]
[null,{"$f":"IF(B36+1<=Sheet3!$C$2,B36+1,-9.99999999999999E+25)","v":2042},{"$f":"SUMIF(Sheet3!C25:C456,B37,Sheet3!D25:D456)","v":0},{"$f":"SUMIF(Sheet3!C25:C456,B37,Sheet3!G25:G456)","v":-5.8590777313140732E-8},{"$f":"SUMIF(Sheet3!C25:C456,B37,Sheet3!F25:F456)","v":5.8590777313140732E-8},-5.801314190978087E-7,null,{"$f":"Sheet3!C25","v":2023},{"$f":"Sheet3!B25","v":9},{"$f":"Sheet3!E25","v":315016243.87186652},{"$f":"Sheet3!F25","v":789141.27361861104},{"$f":"Sheet3!G25","v":1575081.2193593327},{"$f":"Sheet3!H25","v":314227102.59824789},{"$f":"Sheet3!A25","v":2}]
[null,{"$f":"IF(B37+1<=Sheet3!$C$2,B37+1,-9.99999999999999E+25)","v":-9.9999999999999902E+25},{"$f":"SUMIF(Sheet3!C26:C457,B38,Sheet3!D26:D457)","v":0},{"$f":"SUMIF(Sheet3!C26:C457,B38,Sheet3!G26:G457)","v":0},{"$f":"SUMIF(Sheet3!C26:C457,B38,Sheet3!F26:F457)","v":0},-5.801314190978087E-7,null,{"$f":"Sheet3!C26","v":2023},{"$f":"Sheet3!B26","v":10},{"$f":"Sheet3!E26","v":314227102.59824789},{"$f":"Sheet3!F26","v":793086.97998670442},{"$f":"Sheet3!G26","v":1571135.5129912393},{"$f":"Sheet3!H26","v":313434015.61826116},{"$f":"Sheet3!A26","v":2}]
[null,{"$f":"IF(B38+1<=Sheet3!$C$2,B38+1,-9.99999999999999E+25)","v":-9.9999999999999902E+25},{"$f":"SUMIF(Sheet3!C27:C458,B39,Sheet3!D27:D458)","v":0},{"$f":"SUMIF(Sheet3!C27:C458,B39,Sheet3!G27:G458)","v":0},{"$f":"SUMIF(Sheet3!C27:C458,B39,Sheet3!F27:F458)","v":0},-5.801314190978087E-7,null,{"$f":"Sheet3!C27","v":2023},{"$f":"Sheet3!B27","v":11},{"$f":"Sheet3!E27","v":313434015.61826116},{"$f":"Sheet3!F27","v":797052.41488663806},{"$f":"Sheet3!G27","v":1567170.0780913057},{"$f":"Sheet3!H27","v":312636963.20337451},{"$f":"Sheet3!A27","v":2}]
[null,{"$f":"IF(B39+1<=Sheet3!$C$2,B39+1,-9.99999999999999E+25)","v":-9.9999999999999902E+25},{"$f":"SUMIF(Sheet3!C28:C459,B40,Sheet3!D28:D459)","v":0},{"$f":"SUMIF(Sheet3!C28:C459,B40,Sheet3!G28:G459)","v":0},{"$f":"SUMIF(Sheet3!C28:C459,B40,Sheet3!F28:F459)","v":0},-5.801314190978087E-7,null,{"$f":"Sheet3!C28","v":2023},{"$f":"Sheet3!B28","v":12},{"$f":"Sheet3!E28","v":312636963.20337451},{"$f":"Sheet3!F28","v":801037.67696107132},{"$f":"Sheet3!G28","v":1563184.8160168724},{"$f":"Sheet3!H28","v":311835925.52641344},{"$f":"Sheet3!A28","v":2}]
[null,{"$f":"IF(B40+1<=Sheet3!$C$2,B40+1,-9.99999999999999E+25)","v":-9.9999999999999902E+25},{"$f":"SUMIF(Sheet3!C29:C460,B41,Sheet3!D29:D460)","v":0},{"$f":"SUMIF(Sheet3!C29:C460,B41,Sheet3!G29:G460)","v":0},{"$f":"SUMIF(Sheet3!C29:C460,B41,Sheet3!F29:F460)","v":0},-5.801314190978087E-7,null,{"$f":"Sheet3!C29","v":2024},{"$f":"Sheet3!B29","v":1},{"$f":"Sheet3!E29","v":311835925.52641344},{"$f":"Sheet3!F29","v":805042.86534587643},{"$f":"Sheet3!G29","v":1559179.6276320673},{"$f":"Sheet3!H29","v":311030882.66106755},{"$f":"Sheet3!A29","v":2}]
[null,{"$f":"IF(B41+1<=Sheet3!$C$2,B41+1,-9.99999999999999E+25)","v":-9.9999999999999902E+25},{"$f":"SUMIF(Sheet3!C30:C461,B42,Sheet3!D30:D461)","v":0},{"$f":"SUMIF(Sheet3!C30:C461,B42,Sheet3!G30:G461)","v":0},{"$f":"SUMIF(Sheet3!C30:C461,B42,Sheet3!F30:F461)","v":0},-5.801314190978087E-7,null,{"$f":"Sheet3!C30","v":2024},{"$f":"Sheet3!B30","v":2},{"$f":"Sheet3!E30","v":311030882.66106755},{"$f":"Sheet3!F30","v":809068.0796726062},{"$f":"Sheet3!G30","v":1555154.4133053375},{"$f":"Sheet3!H30","v":310221814.58139491},{"$f":"Sheet3!A30","v":2}]
[null,{"$f":"IF(B42+1<=Sheet3!$C$2,B42+1,-9.99999999999999E+25)","v":-9.9999999999999902E+25},{"$f":"SUMIF(Sheet3!C31:C462,B43,Sheet3!D31:D462)","v":0},{"$f":"SUMIF(Sheet3!C31:C462,B43,Sheet3!G31:G462)","v":0},{"$f":"SUMIF(Sheet3!C31:C462,B43,Sheet3!F31:F462)","v":0},-5.801314190978087E-7,null,{"$f":"Sheet3!C31","v":2024},{"$f":"Sheet3!B31","v":3},{"$f":"Sheet3!E31","v":310221814.58139491},{"$f":"Sheet3!F31","v":813113.42007096927},{"$f":"Sheet3!G31","v":1551109.0729069745},{"$f":"Sheet3!H31","v":309408701.16132396},{"$f":"Sheet3!A31","v":2}]
[null,{"$f":"IF(B43+1<=Sheet3!$C$2,B43+1,-9.99999999999999E+25)","v":-9.9999999999999902E+25},{"$f":"SUMIF(Sheet3!C32:C463,B44,Sheet3!D32:D463)","v":0},{"$f":"SUMIF(Sheet3!C32:C463,B44,Sheet3!G32:G463)","v":0},{"$f":"SUMIF(Sheet3!C32:C463,B44,Sheet3!F32:F463)","v":0},-5.801314190978087E-7,null,{"$f":"Sheet3!C32","v":2024},{"$f":"Sheet3!B32","v":4},{"$f":"Sheet3!E32","v":309408701.16132396},{"$f":"Sheet3!F32","v":817178.9871713242},{"$f":"Sheet3!G32","v":1547043.5058066195},{"$f":"Sheet3!H32","v":308591522.17415261},{"$f":"Sheet3!A32","v":2}]
[null,{"$f":"IF(B44+1<=Sheet3!$C$2,B44+1,-9.99999999999999E+25)","v":-9.9999999999999902E+25},{"$f":"SUMIF(Sheet3!C33:C464,B45,Sheet3!D33:D464)","v":0},{"$f":"SUMIF(Sheet3!C33:C464,B45,Sheet3!G33:G464)","v":0},{"$f":"SUMIF(Sheet3!C33:C464,B45,Sheet3!F33:F464)","v":0},-5.801314190978087E-7,null,{"$f":"Sheet3!C33","v":2024},{"$f":"Sheet3!B33","v":5},{"$f":"Sheet3!E33","v":308591522.17415261},{"$f":"Sheet3!F33","v":821264.88210718078},{"$f":"Sheet3!G33","v":1542957.610870763},{"$f":"Sheet3!H33","v":307770257.29204541},{"$f":"Sheet3!A33","v":2}]
[null,{"$f":"IF(B45+1<=Sheet3!$C$2,B45+1,-9.99999999999999E+25)","v":-9.9999999999999902E+25},{"$f":"SUMIF(Sheet3!C34:C465,B46,Sheet3!D34:D465)","v":0},{"$f":"SUMIF(Sheet3!C34:C465,B46,Sheet3!G34:G465)","v":0},{"$f":"SUMIF(Sheet3!C34:C465,B46,Sheet3!F34:F465)","v":0},-5.801314190978087E-7,null,{"$f":"Sheet3!C34","v":2024},{"$f":"Sheet3!B34","v":6},{"$f":"Sheet3!E34","v":307770257.29204541},{"$f":"Sheet3!F34","v":825371.20651771664},{"$f":"Sheet3!G34","v":1538851.2864602271},{"$f":"Sheet3!H34","v":306944886.08552772},{"$f":"Sheet3!A34","v":2}]
[null,{"$f":"IF(B46+1<=Sheet3!$C$2,B46+1,-9.99999999999999E+25)","v":-9.9999999999999902E+25},{"$f":"SUMIF(Sheet3!C35:C466,B47,Sheet3!D35:D466)","v":0},{"$f":"SUMIF(Sheet3!C35:C466,B47,Sheet3!G35:G466)","v":0},{"$f":"SUMIF(Sheet3!C35:C466,B47,Sheet3!F35:F466)","v":0},-5.801314190978087E-7,null,{"$f":"Sheet3!C35","v":2024},{"$f":"Sheet3!B35","v":7},{"$f":"Sheet3!E35","v":306944886.08552772},{"$f":"Sheet3!F35","v":829498.06255030516},{"$f":"Sheet3!G35","v":1534724.4304276386},{"$f":"Sheet3!H35","v":306115388.02297741},{"$f":"Sheet3!A35","v":2}]
[null,{"$f":"IF(B47+1<=Sheet3!$C$2,B47+1,-9.99999999999999E+25)","v":-9.9999999999999902E+25},{"$f":"SUMIF(Sheet3!C36:C467,B48,Sheet3!D36:D467)","v":0},{"$f":"SUMIF(Sheet3!C36:C467,B48,Sheet3!G36:G467)","v":0},{"$f":"SUMIF(Sheet3!C36:C467,B48,Sheet3!F36:F467)","v":0},-5.801314190978087E-7,null,{"$f":"Sheet3!C36","v":2024},{"$f":"Sheet3!B36","v":8},{"$f":"Sheet3!E36","v":306115388.02297741},{"$f":"Sheet3!F36","v":833645.55286305654},{"$f":"Sheet3!G36","v":1530576.9401148872},{"$f":"Sheet3!H36","v":305281742.47011435},{"$f":"Sheet3!A36","v":2}]
[null,{"$f":"IF(B48+1<=Sheet3!$C$2,B48+1,-9.99999999999999E+25)","v":-9.9999999999999902E+25},{"$f":"SUMIF(Sheet3!C37:C468,B49,Sheet3!D37:D468)","v":0},{"$f":"SUMIF(Sheet3!C37:C468,B49,Sheet3!G37:G468)","v":0},{"$f":"SUMIF(Sheet3!C37:C468,B49,Sheet3!F37:F468)","v":0},-5.801314190978087E-7,null,{"$f":"Sheet3!C37","v":2024},{"$f":"Sheet3!B37","v":9},{"$f":"Sheet3!E37","v":305281742.47011435},{"$f":"Sheet3!F37","v":837813.78062737198},{"$f":"Sheet3!G37","v":1526408.7123505718},{"$f":"Sheet3!H37","v":304443928.68948698},{"$f":"Sheet3!A37","v":2}]
[null,{"$f":"IF(B49+1<=Sheet3!$C$2,B49+1,-9.99999999999999E+25)","v":-9.9999999999999902E+25},{"$f":"SUMIF(Sheet3!C38:C469,B50,Sheet3!D38:D469)","v":0},{"$f":"SUMIF(Sheet3!C38:C469,B50,Sheet3!G38:G469)","v":0},{"$f":"SUMIF(Sheet3!C38:C469,B50,Sheet3!F38:F469)","v":0},-5.801314190978087E-7,null,{"$f":"Sheet3!C38","v":2024},{"$f":"Sheet3!B38","v":10},{"$f":"Sheet3!E38","v":304443928.68948698},{"$f":"Sheet3!F38","v":842002.84953050897},{"$f":"Sheet3!G38","v":1522219.6434474348},{"$f":"Sheet3!H38","v":303601925.83995646},{"$f":"Sheet3!A38","v":2}]
[null,{"$f":"IF(B50+1<=Sheet3!$C$2,B50+1,-9.99999999999999E+25)","v":-9.9999999999999902E+25},{"$f":"SUMIF(Sheet3!C39:C470,B51,Sheet3!D39:D470)","v":0},{"$f":"SUMIF(Sheet3!C39:C470,B51,Sheet3!G39:G470)","v":0},{"$f":"SUMIF(Sheet3!C39:C470,B51,Sheet3!F39:F470)","v":0},-5.801314190978087E-7,null,{"$f":"Sheet3!C39","v":2024},{"$f":"Sheet3!B39","v":11},{"$f":"Sheet3!E39","v":303601925.83995646},{"$f":"Sheet3!F39","v":846212.86377816135},{"$f":"Sheet3!G39","v":1518009.6291997824},{"$f":"Sheet3!H39","v":302755712.97617829},{"$f":"Sheet3!A39","v":2}]
[null,{"$f":"IF(B51+1<=Sheet3!$C$2,B51+1,-9.99999999999999E+25)","v":-9.9999999999999902E+25},{"$f":"SUMIF(Sheet3!C40:C471,B52,Sheet3!D40:D471)","v":0},{"$f":"SUMIF(Sheet3!C40:C471,B52,Sheet3!G40:G471)","v":0},{"$f":"SUMIF(Sheet3!C40:C471,B52,Sheet3!F40:F471)","v":0},-5.801314190978087E-7,null,{"$f":"Sheet3!C40","v":2024},{"$f":"Sheet3!B40","v":12},{"$f":"Sheet3!E40","v":302755712.97617829},{"$f":"Sheet3!F40","v":850443.92809705227},{"$f":"Sheet3!G40","v":1513778.5648808915},{"$f":"Sheet3!H40","v":301905269.04808122},{"$f":"Sheet3!A40","v":2}]
[null,{"$f":"IF(B52+1<=Sheet3!$C$2,B52+1,-9.99999999999999E+25)","v":-9.9999999999999902E+25},{"$f":"SUMIF(Sheet3!C41:C472,B53,Sheet3!D41:D472)","v":0},{"$f":"SUMIF(Sheet3!C41:C472,B53,Sheet3!G41:G472)","v":0},{"$f":"SUMIF(Sheet3!C41:C472,B53,Sheet3!F41:F472)","v":0},-5.801314190978087E-7,null,{"$f":"Sheet3!C41","v":2025},{"$f":"Sheet3!B41","v":1},{"$f":"Sheet3!E41","v":301905269.04808122},{"$f":"Sheet3!F41","v":854696.14773753774},{"$f":"Sheet3!G41","v":1509526.345240406},{"$f":"Sheet3!H41","v":301050572.90034366},{"$f":"Sheet3!A41","v":2}]
[null,{"$f":"IF(B53+1<=Sheet3!$C$2,B53+1,-9.99999999999999E+25)","v":-9.9999999999999902E+25},{"$f":"SUMIF(Sheet3!C42:C473,B54,Sheet3!D42:D473)","v":0},{"$f":"SUMIF(Sheet3!C42:C473,B54,Sheet3!G42:G473)","v":0},{"$f":"SUMIF(Sheet3!C42:C473,B54,Sheet3!F42:F473)","v":0},-5.801314190978087E-7,null,{"$f":"Sheet3!C42","v":2025},{"$f":"Sheet3!B42","v":2},{"$f":"Sheet3!E42","v":301050572.90034366},{"$f":"Sheet3!F42","v":858969.62847622554},{"$f":"Sheet3!G42","v":1505252.8645017182},{"$f":"Sheet3!H42","v":300191603.27186745},{"$f":"Sheet3!A42","v":2}]
[null,{"$f":"IF(B54+1<=Sheet3!$C$2,B54+1,-9.99999999999999E+25)","v":-9.9999999999999902E+25},{"$f":"SUMIF(Sheet3!C43:C474,B55,Sheet3!D43:D474)","v":0},{"$f":"SUMIF(Sheet3!C43:C474,B55,Sheet3!G43:G474)","v":0},{"$f":"SUMIF(Sheet3!C43:C474,B55,Sheet3!F43:F474)","v":0},-5.801314190978087E-7,null,{"$f":"Sheet3!C43","v":2025},{"$f":"Sheet3!B43","v":3},{"$f":"Sheet3!E43","v":300191603.27186745},{"$f":"Sheet3!F43","v":863264.47661860636},{"$f":"Sheet3!G43","v":1500958.0163593374},{"$f":"Sheet3!H43","v":299328338.79524887},{"$f":"Sheet3!A43","v":2}]
[null,{"$f":"IF(B55+1<=Sheet3!$C$2,B55+1,-9.99999999999999E+25)","v":-9.9999999999999902E+25},{"$f":"SUMIF(Sheet3!C44:C475,B56,Sheet3!D44:D475)","v":0},{"$f":"SUMIF(Sheet3!C44:C475,B56,Sheet3!G44:G475)","v":0},{"$f":"SUMIF(Sheet3!C44:C475,B56,Sheet3!F44:F475)","v":0},-5.801314190978087E-7,null,{"$f":"Sheet3!C44","v":2025},{"$f":"Sheet3!B44","v":4},{"$f":"Sheet3!E44","v":299328338.79524887},{"$f":"Sheet3!F44","v":867580.79900169955},{"$f":"Sheet3!G44","v":1496641.6939762442},{"$f":"Sheet3!H44","v":298460757.99624717},{"$f":"Sheet3!A44","v":2}]
[null,{"$f":"IF(B56+1<=Sheet3!$C$2,B56+1,-9.99999999999999E+25)","v":-9.9999999999999902E+25},{"$f":"SUMIF(Sheet3!C45:C476,B57,Sheet3!D45:D476)","v":0},{"$f":"SUMIF(Sheet3!C45:C476,B57,Sheet3!G45:G476)","v":0},{"$f":"SUMIF(Sheet3!C45:C476,B57,Sheet3!F45:F476)","v":0},-5.801314190978087E-7,null,{"$f":"Sheet3!C45","v":2025},{"$f":"Sheet3!B45","v":5},{"$f":"Sheet3!E45","v":298460757.99624717},{"$f":"Sheet3!F45","v":871918.70299670799},{"$f":"Sheet3!G45","v":1492303.7899812358},{"$f":"Sheet3!H45","v":297588839.29325044},{"$f":"Sheet3!A45","v":2}]
[null,{"$f":"IF(B57+1<=Sheet3!$C$2,B57+1,-9.99999999999999E+25)","v":-9.9999999999999902E+25},{"$f":"SUMIF(Sheet3!C46:C477,B58,Sheet3!D46:D477)","v":0},{"$f":"SUMIF(Sheet3!C46:C477,B58,Sheet3!G46:G477)","v":0},{"$f":"SUMIF(Sheet3!C46:C477,B58,Sheet3!F46:F477)","v":0},-5.801314190978087E-7,null,{"$f":"Sheet3!C46","v":2025},{"$f":"Sheet3!B46","v":6},{"$f":"Sheet3!E46","v":297588839.29325044},{"$f":"Sheet3!F46","v":876278.29651169153},{"$f":"Sheet3!G46","v":1487944.1964662522},{"$f":"Sheet3!H46","v":296712560.99673873},{"$f":"Sheet3!A46","v":2}]
[null,{"$f":"IF(B58+1<=Sheet3!$C$2,B58+1,-9.99999999999999E+25)","v":-9.9999999999999902E+25},{"$f":"SUMIF(Sheet3!C47:C478,B59,Sheet3!D47:D478)","v":0},{"$f":"SUMIF(Sheet3!C47:C478,B59,Sheet3!G47:G478)","v":0},{"$f":"SUMIF(Sheet3!C47:C478,B59,Sheet3!F47:F478)","v":0},-5.801314190978087E-7,null,{"$f":"Sheet3!C47","v":2025},{"$f":"Sheet3!B47","v":7},{"$f":"Sheet3!E47","v":296712560.99673873},{"$f":"Sheet3!F47","v":880659.68799425033},{"$f":"Sheet3!G47","v":1483562.8049836934},{"$f":"Sheet3!H47","v":295831901.30874449},{"$f":"Sheet3!A47","v":2}]
[null,{"$f":"IF(B59+1<=Sheet3!$C$2,B59+1,-9.99999999999999E+25)","v":-9.9999999999999902E+25},{"$f":"SUMIF(Sheet3!C48:C479,B60,Sheet3!D48:D479)","v":0},{"$f":"SUMIF(Sheet3!C48:C479,B60,Sheet3!G48:G479)","v":0},{"$f":"SUMIF(Sheet3!C48:C479,B60,Sheet3!F48:F479)","v":0},-5.801314190978087E-7,null,{"$f":"Sheet3!C48","v":2025},{"$f":"Sheet3!B48","v":8},{"$f":"Sheet3!E48","v":295831901.30874449},{"$f":"Sheet3!F48","v":885062.9864342215},{"$f":"Sheet3!G48","v":1479159.5065437222},{"$f":"Sheet3!H48","v":294946838.32231027},{"$f":"Sheet3!A48","v":2}]
[null,{"$f":"IF(B60+1<=Sheet3!$C$2,B60+1,-9.99999999999999E+25)","v":-9.9999999999999902E+25},{"$f":"SUMIF(Sheet3!C49:C480,B61,Sheet3!D49:D480)","v":0},{"$f":"SUMIF(Sheet3!C49:C480,B61,Sheet3!G49:G480)","v":0},{"$f":"SUMIF(Sheet3!C49:C480,B61,Sheet3!F49:F480)","v":0},-5.801314190978087E-7,null,{"$f":"Sheet3!C49","v":2025},{"$f":"Sheet3!B49","v":9},{"$f":"Sheet3!E49","v":294946838.32231027},{"$f":"Sheet3!F49","v":889488.30136639229},{"$f":"Sheet3!G49","v":1474734.1916115514},{"$f":"Sheet3!H49","v":294057350.02094388},{"$f":"Sheet3!A49","v":2}]
[null,{"$f":"IF(B61+1<=Sheet3!$C$2,B61+1,-9.99999999999999E+25)","v":-9.9999999999999902E+25},{"$f":"SUMIF(Sheet3!C50:C481,B62,Sheet3!D50:D481)","v":0},{"$f":"SUMIF(Sheet3!C50:C481,B62,Sheet3!G50:G481)","v":0},{"$f":"SUMIF(Sheet3!C50:C481,B62,Sheet3!F50:F481)","v":0},-5.801314190978087E-7,null,{"$f":"Sheet3!C50","v":2025},{"$f":"Sheet3!B50","v":10},{"$f":"Sheet3!E50","v":294057350.02094388},{"$f":"Sheet3!F50","v":893935.7428732242},{"$f":"Sheet3!G50","v":1470286.7501047195},{"$f":"Sheet3!H50","v":293163414.27807063},{"$f":"Sheet3!A50","v":2}]
[null,{"$f":"IF(B62+1<=Sheet3!$C$2,B62+1,-9.99999999999999E+25)","v":-9.9999999999999902E+25},{"$f":"SUMIF(Sheet3!C51:C482,B63,Sheet3!D51:D482)","v":0},{"$f":"SUMIF(Sheet3!C51:C482,B63,Sheet3!G51:G482)","v":0},{"$f":"SUMIF(Sheet3!C51:C482,B63,Sheet3!F51:F482)","v":0},-5.801314190978087E-7,null,{"$f":"Sheet3!C51","v":2025},{"$f":"Sheet3!B51","v":11},{"$f":"Sheet3!E51","v":293163414.27807063},{"$f":"Sheet3!F51","v":898405.42158759059},{"$f":"Sheet3!G51","v":1465817.0713903531},{"$f":"Sheet3!H51","v":292265008.85648304},{"$f":"Sheet3!A51","v":2}]
[null,{"$f":"IF(B63+1<=Sheet3!$C$2,B63+1,-9.99999999999999E+25)","v":-9.9999999999999902E+25},{"$f":"SUMIF(Sheet3!C52:C483,B64,Sheet3!D52:D483)","v":0},{"$f":"SUMIF(Sheet3!C52:C483,B64,Sheet3!G52:G483)","v":0},{"$f":"SUMIF(Sheet3!C52:C483,B64,Sheet3!F52:F483)","v":0},-5.801314190978087E-7,null,{"$f":"Sheet3!C52","v":2025},{"$f":"Sheet3!B52","v":12},{"$f":"Sheet3!E52","v":292265008.85648304},{"$f":"Sheet3!F52","v":902897.44869552855},{"$f":"Sheet3!G52","v":1461325.0442824152},{"$f":"Sheet3!H52","v":291362111.4077875},{"$f":"Sheet3!A52","v":2}]
[null,{"$f":"IF(B64+1<=Sheet3!$C$2,B64+1,-9.99999999999999E+25)","v":-9.9999999999999902E+25},{"$f":"SUMIF(Sheet3!C53:C484,B65,Sheet3!D53:D484)","v":0},{"$f":"SUMIF(Sheet3!C53:C484,B65,Sheet3!G53:G484)","v":0},{"$f":"SUMIF(Sheet3!C53:C484,B65,Sheet3!F53:F484)","v":0},-5.801314190978087E-7,null,{"$f":"Sheet3!C53","v":2026},{"$f":"Sheet3!B53","v":1},{"$f":"Sheet3!E53","v":291362111.4077875},{"$f":"Sheet3!F53","v":907411.93593900627},{"$f":"Sheet3!G53","v":1456810.5570389375},{"$f":"Sheet3!H53","v":290454699.47184849},{"$f":"Sheet3!A53","v":2}]
[null,{"$f":"IF(B65+1<=Sheet3!$C$2,B65+1,-9.99999999999999E+25)","v":-9.9999999999999902E+25},{"$f":"SUMIF(Sheet3!C54:C485,B66,Sheet3!D54:D485)","v":0},{"$f":"SUMIF(Sheet3!C54:C485,B66,Sheet3!G54:G485)","v":0},{"$f":"SUMIF(Sheet3!C54:C485,B66,Sheet3!F54:F485)","v":0},-5.801314190978087E-7,null,{"$f":"Sheet3!C54","v":2026},{"$f":"Sheet3!B54","v":2},{"$f":"Sheet3!E54","v":290454699.47184849},{"$f":"Sheet3!F54","v":911948.99561870145},{"$f":"Sheet3!G54","v":1452273.4973592423},{"$f":"Sheet3!H54","v":289542750.47622979},{"$f":"Sheet3!A54","v":2}]
[null,{"$f":"IF(B66+1<=Sheet3!$C$2,B66+1,-9.99999999999999E+25)","v":-9.9999999999999902E+25},{"$f":"SUMIF(Sheet3!C55:C486,B67,Sheet3!D55:D486)","v":0},{"$f":"SUMIF(Sheet3!C55:C486,B67,Sheet3!G55:G486)","v":0},{"$f":"SUMIF(Sheet3!C55:C486,B67,Sheet3!F55:F486)","v":0},-5.801314190978087E-7,null,{"$f":"Sheet3!C55","v":2026},{"$f":"Sheet3!B55","v":3},{"$f":"Sheet3!E55","v":289542750.47622979},{"$f":"Sheet3!F55","v":916508.74059679499},{"$f":"Sheet3!G55","v":1447713.7523811487},{"$f":"Sheet3!H55","v":288626241.73563302},{"$f":"Sheet3!A55","v":2}]
[null,{"$f":"IF(B67+1<=Sheet3!$C$2,B67+1,-9.99999999999999E+25)","v":-9.9999999999999902E+25},{"$f":"SUMIF(Sheet3!C56:C487,B68,Sheet3!D56:D487)","v":0},{"$f":"SUMIF(Sheet3!C56:C487,B68,Sheet3!G56:G487)","v":0},{"$f":"SUMIF(Sheet3!C56:C487,B68,Sheet3!F56:F487)","v":0},-5.801314190978087E-7,null,{"$f":"Sheet3!C56","v":2026},{"$f":"Sheet3!B56","v":4},{"$f":"Sheet3!E56","v":288626241.73563302},{"$f":"Sheet3!F56","v":921091.28429977852},{"$f":"Sheet3!G56","v":1443131.2086781652},{"$f":"Sheet3!H56","v":287705150.45133322},{"$f":"Sheet3!A56","v":2}]
[null,{"$f":"IF(B68+1<=Sheet3!$C$2,B68+1,-9.99999999999999E+25)","v":-9.9999999999999902E+25},{"$f":"SUMIF(Sheet3!C57:C488,B69,Sheet3!D57:D488)","v":0},{"$f":"SUMIF(Sheet3!C57:C488,B69,Sheet3!G57:G488)","v":0},{"$f":"SUMIF(Sheet3!C57:C488,B69,Sheet3!F57:F488)","v":0},-5.801314190978087E-7,null,{"$f":"Sheet3!C57","v":2026},{"$f":"Sheet3!B57","v":5},{"$f":"Sheet3!E57","v":287705150.45133322},{"$f":"Sheet3!F57","v":925696.74072127766},{"$f":"Sheet3!G57","v":1438525.7522566661},{"$f":"Sheet3!H57","v":286779453.71061194},{"$f":"Sheet3!A57","v":2}]
[null,{"$f":"IF(B69+1<=Sheet3!$C$2,B69+1,-9.99999999999999E+25)","v":-9.9999999999999902E+25},{"$f":"SUMIF(Sheet3!C58:C489,B70,Sheet3!D58:D489)","v":0},{"$f":"SUMIF(Sheet3!C58:C489,B70,Sheet3!G58:G489)","v":0},{"$f":"SUMIF(Sheet3!C58:C489,B70,Sheet3!F58:F489)","v":0},-5.801314190978087E-7,null,{"$f":"Sheet3!C58","v":2026},{"$f":"Sheet3!B58","v":6},{"$f":"Sheet3!E58","v":286779453.71061194},{"$f":"Sheet3!F58","v":930325.22442488419},{"$f":"Sheet3!G58","v":1433897.2685530595},{"$f":"Sheet3!H58","v":285849128.48618704},{"$f":"Sheet3!A58","v":2}]
[null,{"$f":"IF(B70+1<=Sheet3!$C$2,B70+1,-9.99999999999999E+25)","v":-9.9999999999999902E+25},{"$f":"SUMIF(Sheet3!C59:C490,B71,Sheet3!D59:D490)","v":0},{"$f":"SUMIF(Sheet3!C59:C490,B71,Sheet3!G59:G490)","v":0},{"$f":"SUMIF(Sheet3!C59:C490,B71,Sheet3!F59:F490)","v":0},-5.801314190978087E-7,null,{"$f":"Sheet3!C59","v":2026},{"$f":"Sheet3!B59","v":7},{"$f":"Sheet3!E59","v":285849128.48618704},{"$f":"Sheet3!F59","v":934976.85054700868},{"$f":"Sheet3!G59","v":1429245.6424309351},{"$f":"Sheet3!H59","v":284914151.63564003},{"$f":"Sheet3!A59","v":2}]
[null,{"$f":"IF(B71+1<=Sheet3!$C$2,B71+1,-9.99999999999999E+25)","v":-9.9999999999999902E+25},{"$f":"SUMIF(Sheet3!C60:C491,B72,Sheet3!D60:D491)","v":0},{"$f":"SUMIF(Sheet3!C60:C491,B72,Sheet3!G60:G491)","v":0},{"$f":"SUMIF(Sheet3!C60:C491,B72,Sheet3!F60:F491)","v":0},-5.801314190978087E-7,null,{"$f":"Sheet3!C60","v":2026},{"$f":"Sheet3!B60","v":8},{"$f":"Sheet3!E60","v":284914151.63564003},{"$f":"Sheet3!F60","v":939651.73479974386},{"$f":"Sheet3!G60","v":1424570.7581781999},{"$f":"Sheet3!H60","v":283974499.90084028},{"$f":"Sheet3!A60","v":2}]
[null,{"$f":"IF(B72+1<=Sheet3!$C$2,B72+1,-9.99999999999999E+25)","v":-9.9999999999999902E+25},{"$f":"SUMIF(Sheet3!C61:C492,B73,Sheet3!D61:D492)","v":0},{"$f":"SUMIF(Sheet3!C61:C492,B73,Sheet3!G61:G492)","v":0},{"$f":"SUMIF(Sheet3!C61:C492,B73,Sheet3!F61:F492)","v":0},-5.801314190978087E-7,null,{"$f":"Sheet3!C61","v":2026},{"$f":"Sheet3!B61","v":9},{"$f":"Sheet3!E61","v":283974499.90084028},{"$f":"Sheet3!F61","v":944349.99347374239},{"$f":"Sheet3!G61","v":1419872.4995042013},{"$f":"Sheet3!H61","v":283030149.90736651},{"$f":"Sheet3!A61","v":2}]
[null,{"$f":"IF(B73+1<=Sheet3!$C$2,B73+1,-9.99999999999999E+25)","v":-9.9999999999999902E+25},{"$f":"SUMIF(Sheet3!C62:C493,B74,Sheet3!D62:D493)","v":0},{"$f":"SUMIF(Sheet3!C62:C493,B74,Sheet3!G62:G493)","v":0},{"$f":"SUMIF(Sheet3!C62:C493,B74,Sheet3!F62:F493)","v":0},-5.801314190978087E-7,null,{"$f":"Sheet3!C62","v":2026},{"$f":"Sheet3!B62","v":10},{"$f":"Sheet3!E62","v":283030149.90736651},{"$f":"Sheet3!F62","v":949071.74344111118},{"$f":"Sheet3!G62","v":1415150.7495368326},{"$f":"Sheet3!H62","v":282081078.16392541},{"$f":"Sheet3!A62","v":2}]
[null,{"$f":"IF(B74+1<=Sheet3!$C$2,B74+1,-9.99999999999999E+25)","v":-9.9999999999999902E+25},{"$f":"SUMIF(Sheet3!C63:C494,B75,Sheet3!D63:D494)","v":0},{"$f":"SUMIF(Sheet3!C63:C494,B75,Sheet3!G63:G494)","v":0},{"$f":"SUMIF(Sheet3!C63:C494,B75,Sheet3!F63:F494)","v":0},-5.801314190978087E-7,null,{"$f":"Sheet3!C63","v":2026},{"$f":"Sheet3!B63","v":11},{"$f":"Sheet3!E63","v":282081078.16392541},{"$f":"Sheet3!F63","v":953817.10215831688},{"$f":"Sheet3!G63","v":1410405.3908196269},{"$f":"Sheet3!H63","v":281127261.0617671},{"$f":"Sheet3!A63","v":2}]
[null,{"$f":"IF(B75+1<=Sheet3!$C$2,B75+1,-9.99999999999999E+25)","v":-9.9999999999999902E+25},{"$f":"SUMIF(Sheet3!C64:C495,B76,Sheet3!D64:D495)","v":0},{"$f":"SUMIF(Sheet3!C64:C495,B76,Sheet3!G64:G495)","v":0},{"$f":"SUMIF(Sheet3!C64:C495,B76,Sheet3!F64:F495)","v":0},-5.801314190978087E-7,null,{"$f":"Sheet3!C64","v":2026},{"$f":"Sheet3!B64","v":12},{"$f":"Sheet3!E64","v":281127261.0617671},{"$f":"Sheet3!F64","v":958586.18766910816},{"$f":"Sheet3!G64","v":1405636.3053088356},{"$f":"Sheet3!H64","v":280168674.874098},{"$f":"Sheet3!A64","v":2}]
[null,{"$f":"IF(B76+1<=Sheet3!$C$2,B76+1,-9.99999999999999E+25)","v":-9.9999999999999902E+25},{"$f":"SUMIF(Sheet3!C65:C496,B77,Sheet3!D65:D496)","v":0},{"$f":"SUMIF(Sheet3!C65:C496,B77,Sheet3!G65:G496)","v":0},{"$f":"SUMIF(Sheet3!C65:C496,B77,Sheet3!F65:F496)","v":0},-5.801314190978087E-7,null,{"$f":"Sheet3!C65","v":2027},{"$f":"Sheet3!B65","v":1},{"$f":"Sheet3!E65","v":280168674.874098},{"$f":"Sheet3!F65","v":963379.11860745377},{"$f":"Sheet3!G65","v":1400843.37437049},{"$f":"Sheet3!H65","v":279205295.75549054},{"$f":"Sheet3!A65","v":2}]
[null,{"$f":"IF(B77+1<=Sheet3!$C$2,B77+1,-9.99999999999999E+25)","v":-9.9999999999999902E+25},{"$f":"SUMIF(Sheet3!C66:C497,B78,Sheet3!D66:D497)","v":0},{"$f":"SUMIF(Sheet3!C66:C497,B78,Sheet3!G66:G497)","v":0},{"$f":"SUMIF(Sheet3!C66:C497,B78,Sheet3!F66:F497)","v":0},-5.801314190978087E-7,null,{"$f":"Sheet3!C66","v":2027},{"$f":"Sheet3!B66","v":2},{"$f":"Sheet3!E66","v":279205295.75549054},{"$f":"Sheet3!F66","v":968196.01420049113},{"$f":"Sheet3!G66","v":1396026.4787774526},{"$f":"Sheet3!H66","v":278237099.74129003},{"$f":"Sheet3!A66","v":2}]
[null,{"$f":"IF(B78+1<=Sheet3!$C$2,B78+1,-9.99999999999999E+25)","v":-9.9999999999999902E+25},{"$f":"SUMIF(Sheet3!C67:C498,B79,Sheet3!D67:D498)","v":0},{"$f":"SUMIF(Sheet3!C67:C498,B79,Sheet3!G67:G498)","v":0},{"$f":"SUMIF(Sheet3!C67:C498,B79,Sheet3!F67:F498)","v":0},-5.801314190978087E-7,null,{"$f":"Sheet3!C67","v":2027},{"$f":"Sheet3!B67","v":3},{"$f":"Sheet3!E67","v":278237099.74129003},{"$f":"Sheet3!F67","v":973036.99427149375},{"$f":"Sheet3!G67","v":1391185.49870645},{"$f":"Sheet3!H67","v":277264062.74701852},{"$f":"Sheet3!A67","v":2}]
[null,{"$f":"IF(B79+1<=Sheet3!$C$2,B79+1,-9.99999999999999E+25)","v":-9.9999999999999902E+25},{"$f":"SUMIF(Sheet3!C68:C499,B80,Sheet3!D68:D499)","v":0},{"$f":"SUMIF(Sheet3!C68:C499,B80,Sheet3!G68:G499)","v":0},{"$f":"SUMIF(Sheet3!C68:C499,B80,Sheet3!F68:F499)","v":0},-5.801314190978087E-7,null,{"$f":"Sheet3!C68","v":2027},{"$f":"Sheet3!B68","v":4},{"$f":"Sheet3!E68","v":277264062.74701852},{"$f":"Sheet3!F68","v":977902.17924285121},{"$f":"Sheet3!G68","v":1386320.3137350925},{"$f":"Sheet3!H68","v":276286160.56777567},{"$f":"Sheet3!A68","v":2}]
[null,{"$f":"IF(B80+1<=Sheet3!$C$2,B80+1,-9.99999999999999E+25)","v":-9.9999999999999902E+25},{"$f":"SUMIF(Sheet3!C69:C500,B81,Sheet3!D69:D500)","v":0},{"$f":"SUMIF(Sheet3!C69:C500,B81,Sheet3!G69:G500)","v":0},{"$f":"SUMIF(Sheet3!C69:C500,B81,Sheet3!F69:F500)","v":0},-5.801314190978087E-7,null,{"$f":"Sheet3!C69","v":2027},{"$f":"Sheet3!B69","v":5},{"$f":"Sheet3!E69","v":276286160.56777567},{"$f":"Sheet3!F69","v":982791.6901390655},{"$f":"Sheet3!G69","v":1381430.8028388782},{"$f":"Sheet3!H69","v":275303368.87763661},{"$f":"Sheet3!A69","v":2}]
[null,{"$f":"IF(B81+1<=Sheet3!$C$2,B81+1,-9.99999999999999E+25)","v":-9.9999999999999902E+25},{"$f":"SUMIF(Sheet3!C70:C501,B82,Sheet3!D70:D501)","v":0},{"$f":"SUMIF(Sheet3!C70:C501,B82,Sheet3!G70:G501)","v":0},{"$f":"SUMIF(Sheet3!C70:C501,B82,Sheet3!F70:F501)","v":0},-5.801314190978087E-7,null,{"$f":"Sheet3!C70","v":2027},{"$f":"Sheet3!B70","v":6},{"$f":"Sheet3!E70","v":275303368.87763661},{"$f":"Sheet3!F70","v":987705.64858976076},{"$f":"Sheet3!G70","v":1376516.844388183},{"$f":"Sheet3!H70","v":274315663.22904682},{"$f":"Sheet3!A70","v":2}]
[null,{"$f":"IF(B82+1<=Sheet3!$C$2,B82+1,-9.99999999999999E+25)","v":-9.9999999999999902E+25},{"$f":"SUMIF(Sheet3!C71:C502,B83,Sheet3!D71:D502)","v":0},{"$f":"SUMIF(Sheet3!C71:C502,B83,Sheet3!G71:G502)","v":0},{"$f":"SUMIF(Sheet3!C71:C502,B83,Sheet3!F71:F502)","v":0},-5.801314190978087E-7,null,{"$f":"Sheet3!C71","v":2027},{"$f":"Sheet3!B71","v":7},{"$f":"Sheet3!E71","v":274315663.22904682},{"$f":"Sheet3!F71","v":992644.17683270969},{"$f":"Sheet3!G71","v":1371578.316145234},{"$f":"Sheet3!H71","v":273323019.05221409},{"$f":"Sheet3!A71","v":2}]
[null,{"$f":"IF(B83+1<=Sheet3!$C$2,B83+1,-9.99999999999999E+25)","v":-9.9999999999999902E+25},{"$f":"SUMIF(Sheet3!C72:C503,B84,Sheet3!D72:D503)","v":0},{"$f":"SUMIF(Sheet3!C72:C503,B84,Sheet3!G72:G503)","v":0},{"$f":"SUMIF(Sheet3!C72:C503,B84,Sheet3!F72:F503)","v":0},-5.801314190978087E-7,null,{"$f":"Sheet3!C72","v":2027},{"$f":"Sheet3!B72","v":8},{"$f":"Sheet3!E72","v":273323019.05221409},{"$f":"Sheet3!F72","v":997607.39771687333},{"$f":"Sheet3!G72","v":1366615.0952610704},{"$f":"Sheet3!H72","v":272325411.65449721},{"$f":"Sheet3!A72","v":2}]
[null,{"$f":"IF(B84+1<=Sheet3!$C$2,B84+1,-9.99999999999999E+25)","v":-9.9999999999999902E+25},{"$f":"SUMIF(Sheet3!C73:C504,B85,Sheet3!D73:D504)","v":0},{"$f":"SUMIF(Sheet3!C73:C504,B85,Sheet3!G73:G504)","v":0},{"$f":"SUMIF(Sheet3!C73:C504,B85,Sheet3!F73:F504)","v":0},{"$f":"F84-E85","v":-5.801314190978087E-7},null,{"$f":"Sheet3!C73","v":2027},{"$f":"Sheet3!B73","v":9},{"$f":"Sheet3!E73","v":272325411.65449721},{"$f":"Sheet3!F73","v":1002595.4347054579},{"$f":"Sheet3!G73","v":1361627.0582724859},{"$f":"Sheet3!H73","v":271322816.21979177},{"$f":"Sheet3!A73","v":2}]
[null,{"$f":"IF(B85+1<=Sheet3!$C$2,B85+1,-9.99999999999999E+25)","v":-9.9999999999999902E+25},{"$f":"SUMIF(Sheet3!C74:C505,B86,Sheet3!D74:D505)","v":0},{"$f":"SUMIF(Sheet3!C74:C505,B86,Sheet3!G74:G505)","v":0},{"$f":"SUMIF(Sheet3!C74:C505,B86,Sheet3!F74:F505)","v":0},-5.801314190978087E-7,null,{"$f":"Sheet3!C74","v":2027},{"$f":"Sheet3!B74","v":10},{"$f":"Sheet3!E74","v":271322816.21979177},{"$f":"Sheet3!F74","v":1007608.4118789849},{"$f":"Sheet3!G74","v":1356614.0810989588},{"$f":"Sheet3!H74","v":270315207.80791277},{"$f":"Sheet3!A74","v":2}]
[null,{"$f":"IF(B86+1<=Sheet3!$C$2,B86+1,-9.99999999999999E+25)","v":-9.9999999999999902E+25},{"$f":"SUMIF(Sheet3!C75:C506,B87,Sheet3!D75:D506)","v":0},{"$f":"SUMIF(Sheet3!C75:C506,B87,Sheet3!G75:G506)","v":0},{"$f":"SUMIF(Sheet3!C75:C506,B87,Sheet3!F75:F506)","v":0},-5.801314190978087E-7,null,{"$f":"Sheet3!C75","v":2027},{"$f":"Sheet3!B75","v":11},{"$f":"Sheet3!E75","v":270315207.80791277},{"$f":"Sheet3!F75","v":1012646.4539383799},{"$f":"Sheet3!G75","v":1351576.0390395639},{"$f":"Sheet3!H75","v":269302561.3539744},{"$f":"Sheet3!A75","v":2}]
[null,{"$f":"IF(B87+1<=Sheet3!$C$2,B87+1,-9.99999999999999E+25)","v":-9.9999999999999902E+25},{"$f":"SUMIF(Sheet3!C76:C507,B88,Sheet3!D76:D507)","v":0},{"$f":"SUMIF(Sheet3!C76:C507,B88,Sheet3!G76:G507)","v":0},{"$f":"SUMIF(Sheet3!C76:C507,B88,Sheet3!F76:F507)","v":0},-5.801314190978087E-7,null,{"$f":"Sheet3!C76","v":2027},{"$f":"Sheet3!B76","v":12},{"$f":"Sheet3!E76","v":269302561.3539744},{"$f":"Sheet3!F76","v":1017709.6862080719},{"$f":"Sheet3!G76","v":1346512.8067698719},{"$f":"Sheet3!H76","v":268284851.66776633},{"$f":"Sheet3!A76","v":2}]
[null,{"$f":"IF(B88+1<=Sheet3!$C$2,B88+1,-9.99999999999999E+25)","v":-9.9999999999999902E+25},{"$f":"SUMIF(Sheet3!C77:C508,B89,Sheet3!D77:D508)","v":0},{"$f":"SUMIF(Sheet3!C77:C508,B89,Sheet3!G77:G508)","v":0},{"$f":"SUMIF(Sheet3!C77:C508,B89,Sheet3!F77:F508)","v":0},-5.801314190978087E-7,null,{"$f":"Sheet3!C77","v":2028},{"$f":"Sheet3!B77","v":1},{"$f":"Sheet3!E77","v":268284851.66776633},{"$f":"Sheet3!F77","v":1022798.2346391121},{"$f":"Sheet3!G77","v":1341424.2583388316},{"$f":"Sheet3!H77","v":267262053.43312722},{"$f":"Sheet3!A77","v":2}]
[null,{"$f":"IF(B89+1<=Sheet3!$C$2,B89+1,-9.99999999999999E+25)","v":-9.9999999999999902E+25},{"$f":"SUMIF(Sheet3!C78:C509,B90,Sheet3!D78:D509)","v":0},{"$f":"SUMIF(Sheet3!C78:C509,B90,Sheet3!G78:G509)","v":0},{"$f":"SUMIF(Sheet3!C78:C509,B90,Sheet3!F78:F509)","v":0},-5.801314190978087E-7,null,{"$f":"Sheet3!C78","v":2028},{"$f":"Sheet3!B78","v":2},{"$f":"Sheet3!E78","v":267262053.43312722},{"$f":"Sheet3!F78","v":1027912.2258123078},{"$f":"Sheet3!G78","v":1336310.2671656359},{"$f":"Sheet3!H78","v":266234141.20731491},{"$f":"Sheet3!A78","v":2}]
[null,{"$f":"IF(B90+1<=Sheet3!$C$2,B90+1,-9.99999999999999E+25)","v":-9.9999999999999902E+25},{"$f":"SUMIF(Sheet3!C79:C510,B91,Sheet3!D79:D510)","v":0},{"$f":"SUMIF(Sheet3!C79:C510,B91,Sheet3!G79:G510)","v":0},{"$f":"SUMIF(Sheet3!C79:C510,B91,Sheet3!F79:F510)","v":0},-5.801314190978087E-7,null,{"$f":"Sheet3!C79","v":2028},{"$f":"Sheet3!B79","v":3},{"$f":"Sheet3!E79","v":266234141.20731491},{"$f":"Sheet3!F79","v":1033051.7869413693},{"$f":"Sheet3!G79","v":1331170.7060365744},{"$f":"Sheet3!H79","v":265201089.42037353},{"$f":"Sheet3!A79","v":2}]
[null,{"$f":"IF(B91+1<=Sheet3!$C$2,B91+1,-9.99999999999999E+25)","v":-9.9999999999999902E+25},{"$f":"SUMIF(Sheet3!C80:C511,B92,Sheet3!D80:D511)","v":0},{"$f":"SUMIF(Sheet3!C80:C511,B92,Sheet3!G80:G511)","v":0},{"$f":"SUMIF(Sheet3!C80:C511,B92,Sheet3!F80:F511)","v":0},-5.801314190978087E-7,null,{"$f":"Sheet3!C80","v":2028},{"$f":"Sheet3!B80","v":4},{"$f":"Sheet3!E80","v":265201089.42037353},{"$f":"Sheet3!F80","v":1038217.0458760762},{"$f":"Sheet3!G80","v":1326005.4471018675},{"$f":"Sheet3!H80","v":264162872.37449744},{"$f":"Sheet3!A80","v":2}]
[null,{"$f":"IF(B92+1<=Sheet3!$C$2,B92+1,-9.99999999999999E+25)","v":-9.9999999999999902E+25},{"$f":"SUMIF(Sheet3!C81:C512,B93,Sheet3!D81:D512)","v":0},{"$f":"SUMIF(Sheet3!C81:C512,B93,Sheet3!G81:G512)","v":0},{"$f":"SUMIF(Sheet3!C81:C512,B93,Sheet3!F81:F512)","v":0},-5.801314190978087E-7,null,{"$f":"Sheet3!C81","v":2028},{"$f":"Sheet3!B81","v":5},{"$f":"Sheet3!E81","v":264162872.37449744},{"$f":"Sheet3!F81","v":1043408.1311054565},{"$f":"Sheet3!G81","v":1320814.3618724872},{"$f":"Sheet3!H81","v":263119464.24339199},{"$f":"Sheet3!A81","v":2}]
[null,{"$f":"IF(B93+1<=Sheet3!$C$2,B93+1,-9.99999999999999E+25)","v":-9.9999999999999902E+25},{"$f":"SUMIF(Sheet3!C82:C513,B94,Sheet3!D82:D513)","v":0},{"$f":"SUMIF(Sheet3!C82:C513,B94,Sheet3!G82:G513)","v":0},{"$f":"SUMIF(Sheet3!C82:C513,B94,Sheet3!F82:F513)","v":0},-5.801314190978087E-7,null,{"$f":"Sheet3!C82","v":2028},{"$f":"Sheet3!B82","v":6},{"$f":"Sheet3!E82","v":263119464.24339199},{"$f":"Sheet3!F82","v":1048625.1717609838},{"$f":"Sheet3!G82","v":1315597.32121696},{"$f":"Sheet3!H82","v":262070839.07163101},{"$f":"Sheet3!A82","v":2}]
[null,{"$f":"IF(B94+1<=Sheet3!$C$2,B94+1,-9.99999999999999E+25)","v":-9.9999999999999902E+25},{"$f":"SUMIF(Sheet3!C83:C514,B95,Sheet3!D83:D514)","v":0},{"$f":"SUMIF(Sheet3!C83:C514,B95,Sheet3!G83:G514)","v":0},{"$f":"SUMIF(Sheet3!C83:C514,B95,Sheet3!F83:F514)","v":0},-5.801314190978087E-7,null,{"$f":"Sheet3!C83","v":2028},{"$f":"Sheet3!B83","v":7},{"$f":"Sheet3!E83","v":262070839.07163101},{"$f":"Sheet3!F83","v":1053868.2976197887},{"$f":"Sheet3!G83","v":1310354.1953581551},{"$f":"Sheet3!H83","v":261016970.77401122},{"$f":"Sheet3!A83","v":2}]
[null,{"$f":"IF(B95+1<=Sheet3!$C$2,B95+1,-9.99999999999999E+25)","v":-9.9999999999999902E+25},{"$f":"SUMIF(Sheet3!C84:C515,B96,Sheet3!D84:D515)","v":0},{"$f":"SUMIF(Sheet3!C84:C515,B96,Sheet3!G84:G515)","v":0},{"$f":"SUMIF(Sheet3!C84:C515,B96,Sheet3!F84:F515)","v":0},-5.801314190978087E-7,null,{"$f":"Sheet3!C84","v":2028},{"$f":"Sheet3!B84","v":8},{"$f":"Sheet3!E84","v":261016970.77401122},{"$f":"Sheet3!F84","v":1059137.6391078876},{"$f":"Sheet3!G84","v":1305084.8538700561},{"$f":"Sheet3!H84","v":259957833.13490334},{"$f":"Sheet3!A84","v":2}]
[null,{"$f":"IF(B96+1<=Sheet3!$C$2,B96+1,-9.99999999999999E+25)","v":-9.9999999999999902E+25},{"$f":"SUMIF(Sheet3!C85:C516,B97,Sheet3!D85:D516)","v":0},{"$f":"SUMIF(Sheet3!C85:C516,B97,Sheet3!G85:G516)","v":0},{"$f":"SUMIF(Sheet3!C85:C516,B97,Sheet3!F85:F516)","v":0},-5.801314190978087E-7,null,{"$f":"Sheet3!C85","v":2028},{"$f":"Sheet3!B85","v":9},{"$f":"Sheet3!E85","v":259957833.13490334},{"$f":"Sheet3!F85","v":1064433.327303427},{"$f":"Sheet3!G85","v":1299789.1656745167},{"$f":"Sheet3!H85","v":258893399.8075999},{"$f":"Sheet3!A85","v":2}]
[null,{"$f":"IF(B97+1<=Sheet3!$C$2,B97+1,-9.99999999999999E+25)","v":-9.9999999999999902E+25},{"$f":"SUMIF(Sheet3!C86:C517,B98,Sheet3!D86:D517)","v":0},{"$f":"SUMIF(Sheet3!C86:C517,B98,Sheet3!G86:G517)","v":0},{"$f":"SUMIF(Sheet3!C86:C517,B98,Sheet3!F86:F517)","v":0},-5.801314190978087E-7,null,{"$f":"Sheet3!C86","v":2028},{"$f":"Sheet3!B86","v":10},{"$f":"Sheet3!E86","v":258893399.8075999},{"$f":"Sheet3!F86","v":1069755.4939399443},{"$f":"Sheet3!G86","v":1294466.9990379994},{"$f":"Sheet3!H86","v":257823644.31365997},{"$f":"Sheet3!A86","v":2}]
[null,{"$f":"IF(B98+1<=Sheet3!$C$2,B98+1,-9.99999999999999E+25)","v":-9.9999999999999902E+25},{"$f":"SUMIF(Sheet3!C87:C518,B99,Sheet3!D87:D518)","v":0},{"$f":"SUMIF(Sheet3!C87:C518,B99,Sheet3!G87:G518)","v":0},{"$f":"SUMIF(Sheet3!C87:C518,B99,Sheet3!F87:F518)","v":0},-5.801314190978087E-7,null,{"$f":"Sheet3!C87","v":2028},{"$f":"Sheet3!B87","v":11},{"$f":"Sheet3!E87","v":257823644.31365997},{"$f":"Sheet3!F87","v":1075104.271409644},{"$f":"Sheet3!G87","v":1289118.2215682997},{"$f":"Sheet3!H87","v":256748540.04225034},{"$f":"Sheet3!A87","v":2}]
[null,{"$f":"IF(B99+1<=Sheet3!$C$2,B99+1,-9.99999999999999E+25)","v":-9.9999999999999902E+25},{"$f":"SUMIF(Sheet3!C88:C519,B100,Sheet3!D88:D519)","v":0},{"$f":"SUMIF(Sheet3!C88:C519,B100,Sheet3!G88:G519)","v":0},{"$f":"SUMIF(Sheet3!C88:C519,B100,Sheet3!F88:F519)","v":0},-5.801314190978087E-7,null,{"$f":"Sheet3!C88","v":2028},{"$f":"Sheet3!B88","v":12},{"$f":"Sheet3!E88","v":256748540.04225034},{"$f":"Sheet3!F88","v":1080479.7927666921},{"$f":"Sheet3!G88","v":1283742.7002112516},{"$f":"Sheet3!H88","v":255668060.24948364},{"$f":"Sheet3!A88","v":2}]
[null,{"$f":"IF(B100+1<=Sheet3!$C$2,B100+1,-9.99999999999999E+25)","v":-9.9999999999999902E+25},{"$f":"SUMIF(Sheet3!C89:C520,B101,Sheet3!D89:D520)","v":0},{"$f":"SUMIF(Sheet3!C89:C520,B101,Sheet3!G89:G520)","v":0},{"$f":"SUMIF(Sheet3!C89:C520,B101,Sheet3!F89:F520)","v":0},-5.801314190978087E-7,null,{"$f":"Sheet3!C89","v":2029},{"$f":"Sheet3!B89","v":1},{"$f":"Sheet3!E89","v":255668060.24948364},{"$f":"Sheet3!F89","v":1085882.1917305256},{"$f":"Sheet3!G89","v":1278340.3012474182},{"$f":"Sheet3!H89","v":254582178.05775312},{"$f":"Sheet3!A89","v":2}]
[null,{"$f":"IF(B101+1<=Sheet3!$C$2,B101+1,-9.99999999999999E+25)","v":-9.9999999999999902E+25},{"$f":"SUMIF(Sheet3!C90:C521,B102,Sheet3!D90:D521)","v":0},{"$f":"SUMIF(Sheet3!C90:C521,B102,Sheet3!G90:G521)","v":0},{"$f":"SUMIF(Sheet3!C90:C521,B102,Sheet3!F90:F521)","v":0},-5.801314190978087E-7,null,{"$f":"Sheet3!C90","v":2029},{"$f":"Sheet3!B90","v":2},{"$f":"Sheet3!E90","v":254582178.05775312},{"$f":"Sheet3!F90","v":1091311.6026891782},{"$f":"Sheet3!G90","v":1272910.8902887655},{"$f":"Sheet3!H90","v":253490866.45506394},{"$f":"Sheet3!A90","v":2}]
[null,{"$f":"IF(B102+1<=Sheet3!$C$2,B102+1,-9.99999999999999E+25)","v":-9.9999999999999902E+25},{"$f":"SUMIF(Sheet3!C91:C522,B103,Sheet3!D91:D522)","v":0},{"$f":"SUMIF(Sheet3!C91:C522,B103,Sheet3!G91:G522)","v":0},{"$f":"SUMIF(Sheet3!C91:C522,B103,Sheet3!F91:F522)","v":0},-5.801314190978087E-7,null,{"$f":"Sheet3!C91","v":2029},{"$f":"Sheet3!B91","v":3},{"$f":"Sheet3!E91","v":253490866.45506394},{"$f":"Sheet3!F91","v":1096768.1607026241},{"$f":"Sheet3!G91","v":1267454.3322753196},{"$f":"Sheet3!H91","v":252394098.29436132},{"$f":"Sheet3!A91","v":2}]
[null,{"$f":"IF(B103+1<=Sheet3!$C$2,B103+1,-9.99999999999999E+25)","v":-9.9999999999999902E+25},{"$f":"SUMIF(Sheet3!C92:C523,B104,Sheet3!D92:D523)","v":0},{"$f":"SUMIF(Sheet3!C92:C523,B104,Sheet3!G92:G523)","v":0},{"$f":"SUMIF(Sheet3!C92:C523,B104,Sheet3!F92:F523)","v":0},-5.801314190978087E-7,null,{"$f":"Sheet3!C92","v":2029},{"$f":"Sheet3!B92","v":4},{"$f":"Sheet3!E92","v":252394098.29436132},{"$f":"Sheet3!F92","v":1102252.0015061372},{"$f":"Sheet3!G92","v":1261970.4914718065},{"$f":"Sheet3!H92","v":251291846.29285517},{"$f":"Sheet3!A92","v":2}]
[null,{"$f":"IF(B104+1<=Sheet3!$C$2,B104+1,-9.99999999999999E+25)","v":-9.9999999999999902E+25},{"$f":"SUMIF(Sheet3!C93:C524,B105,Sheet3!D93:D524)","v":0},{"$f":"SUMIF(Sheet3!C93:C524,B105,Sheet3!G93:G524)","v":0},{"$f":"SUMIF(Sheet3!C93:C524,B105,Sheet3!F93:F524)","v":0},-5.801314190978087E-7,null,{"$f":"Sheet3!C93","v":2029},{"$f":"Sheet3!B93","v":5},{"$f":"Sheet3!E93","v":251291846.29285517},{"$f":"Sheet3!F93","v":1107763.2615136679},{"$f":"Sheet3!G93","v":1256459.2314642759},{"$f":"Sheet3!H93","v":250184083.03134149},{"$f":"Sheet3!A93","v":2}]
[null,{"$f":"IF(B105+1<=Sheet3!$C$2,B105+1,-9.99999999999999E+25)","v":-9.9999999999999902E+25},{"$f":"SUMIF(Sheet3!C94:C525,B106,Sheet3!D94:D525)","v":0},{"$f":"SUMIF(Sheet3!C94:C525,B106,Sheet3!G94:G525)","v":0},{"$f":"SUMIF(Sheet3!C94:C525,B106,Sheet3!F94:F525)","v":0},-5.801314190978087E-7,null,{"$f":"Sheet3!C94","v":2029},{"$f":"Sheet3!B94","v":6},{"$f":"Sheet3!E94","v":250184083.03134149},{"$f":"Sheet3!F94","v":1113302.0778212363},{"$f":"Sheet3!G94","v":1250920.4151567074},{"$f":"Sheet3!H94","v":249070780.95352027},{"$f":"Sheet3!A94","v":2}]
[null,{"$f":"IF(B106+1<=Sheet3!$C$2,B106+1,-9.99999999999999E+25)","v":-9.9999999999999902E+25},{"$f":"SUMIF(Sheet3!C95:C526,B107,Sheet3!D95:D526)","v":0},{"$f":"SUMIF(Sheet3!C95:C526,B107,Sheet3!G95:G526)","v":0},{"$f":"SUMIF(Sheet3!C95:C526,B107,Sheet3!F95:F526)","v":0},-5.801314190978087E-7,null,{"$f":"Sheet3!C95","v":2029},{"$f":"Sheet3!B95","v":7},{"$f":"Sheet3!E95","v":249070780.95352027},{"$f":"Sheet3!F95","v":1118868.5882103425},{"$f":"Sheet3!G95","v":1245353.9047676013},{"$f":"Sheet3!H95","v":247951912.36530992},{"$f":"Sheet3!A95","v":2}]
[null,{"$f":"IF(B107+1<=Sheet3!$C$2,B107+1,-9.99999999999999E+25)","v":-9.9999999999999902E+25},{"$f":"SUMIF(Sheet3!C96:C527,B108,Sheet3!D96:D527)","v":0},{"$f":"SUMIF(Sheet3!C96:C527,B108,Sheet3!G96:G527)","v":0},{"$f":"SUMIF(Sheet3!C96:C527,B108,Sheet3!F96:F527)","v":0},-5.801314190978087E-7,null,{"$f":"Sheet3!C96","v":2029},{"$f":"Sheet3!B96","v":8},{"$f":"Sheet3!E96","v":247951912.36530992},{"$f":"Sheet3!F96","v":1124462.931151394},{"$f":"Sheet3!G96","v":1239759.5618265497},{"$f":"Sheet3!H96","v":246827449.43415853},{"$f":"Sheet3!A96","v":2}]
[null,{"$f":"IF(B108+1<=Sheet3!$C$2,B108+1,-9.99999999999999E+25)","v":-9.9999999999999902E+25},{"$f":"SUMIF(Sheet3!C97:C528,B109,Sheet3!D97:D528)","v":0},{"$f":"SUMIF(Sheet3!C97:C528,B109,Sheet3!G97:G528)","v":0},{"$f":"SUMIF(Sheet3!C97:C528,B109,Sheet3!F97:F528)","v":0},-5.801314190978087E-7,null,{"$f":"Sheet3!C97","v":2029},{"$f":"Sheet3!B97","v":9},{"$f":"Sheet3!E97","v":246827449.43415853},{"$f":"Sheet3!F97","v":1130085.2458071511},{"$f":"Sheet3!G97","v":1234137.2471707927},{"$f":"Sheet3!H97","v":245697364.18835139},{"$f":"Sheet3!A97","v":2}]
[null,{"$f":"IF(B109+1<=Sheet3!$C$2,B109+1,-9.99999999999999E+25)","v":-9.9999999999999902E+25},{"$f":"SUMIF(Sheet3!C98:C529,B110,Sheet3!D98:D529)","v":0},{"$f":"SUMIF(Sheet3!C98:C529,B110,Sheet3!G98:G529)","v":0},{"$f":"SUMIF(Sheet3!C98:C529,B110,Sheet3!F98:F529)","v":0},-5.801314190978087E-7,null,{"$f":"Sheet3!C98","v":2029},{"$f":"Sheet3!B98","v":10},{"$f":"Sheet3!E98","v":245697364.18835139},{"$f":"Sheet3!F98","v":1135735.6720361868},{"$f":"Sheet3!G98","v":1228486.8209417569},{"$f":"Sheet3!H98","v":244561628.51631519},{"$f":"Sheet3!A98","v":2}]
[null,{"$f":"IF(B110+1<=Sheet3!$C$2,B110+1,-9.99999999999999E+25)","v":-9.9999999999999902E+25},{"$f":"SUMIF(Sheet3!C99:C530,B111,Sheet3!D99:D530)","v":0},{"$f":"SUMIF(Sheet3!C99:C530,B111,Sheet3!G99:G530)","v":0},{"$f":"SUMIF(Sheet3!C99:C530,B111,Sheet3!F99:F530)","v":0},-5.801314190978087E-7,null,{"$f":"Sheet3!C99","v":2029},{"$f":"Sheet3!B99","v":11},{"$f":"Sheet3!E99","v":244561628.51631519},{"$f":"Sheet3!F99","v":1141414.350396368},{"$f":"Sheet3!G99","v":1222808.1425815758},{"$f":"Sheet3!H99","v":243420214.16591883},{"$f":"Sheet3!A99","v":2}]
[null,{"$f":"IF(B111+1<=Sheet3!$C$2,B111+1,-9.99999999999999E+25)","v":-9.9999999999999902E+25},{"$f":"SUMIF(Sheet3!C100:C531,B112,Sheet3!D100:D531)","v":0},{"$f":"SUMIF(Sheet3!C100:C531,B112,Sheet3!G100:G531)","v":0},{"$f":"SUMIF(Sheet3!C100:C531,B112,Sheet3!F100:F531)","v":0},-5.801314190978087E-7,null,{"$f":"Sheet3!C100","v":2029},{"$f":"Sheet3!B100","v":12},{"$f":"Sheet3!E100","v":243420214.16591883},{"$f":"Sheet3!F100","v":1147121.4221483497},{"$f":"Sheet3!G100","v":1217101.070829594},{"$f":"Sheet3!H100","v":242273092.74377048},{"$f":"Sheet3!A100","v":2}]
[null,{"$f":"IF(B112+1<=Sheet3!$C$2,B112+1,-9.99999999999999E+25)","v":-9.9999999999999902E+25},{"$f":"SUMIF(Sheet3!C101:C532,B113,Sheet3!D101:D532)","v":0},{"$f":"SUMIF(Sheet3!C101:C532,B113,Sheet3!G101:G532)","v":0},{"$f":"SUMIF(Sheet3!C101:C532,B113,Sheet3!F101:F532)","v":0},-5.801314190978087E-7,null,{"$f":"Sheet3!C101","v":2030},{"$f":"Sheet3!B101","v":1},{"$f":"Sheet3!E101","v":242273092.74377048},{"$f":"Sheet3!F101","v":1152857.0292590915},{"$f":"Sheet3!G101","v":1211365.4637188523},{"$f":"Sheet3!H101","v":241120235.71451139},{"$f":"Sheet3!A101","v":2}]
[null,{"$f":"IF(B113+1<=Sheet3!$C$2,B113+1,-9.99999999999999E+25)","v":-9.9999999999999902E+25},{"$f":"SUMIF(Sheet3!C102:C533,B114,Sheet3!D102:D533)","v":0},{"$f":"SUMIF(Sheet3!C102:C533,B114,Sheet3!G102:G533)","v":0},{"$f":"SUMIF(Sheet3!C102:C533,B114,Sheet3!F102:F533)","v":0},-5.801314190978087E-7,null,{"$f":"Sheet3!C102","v":2030},{"$f":"Sheet3!B102","v":2},{"$f":"Sheet3!E102","v":241120235.71451139},{"$f":"Sheet3!F102","v":1158621.3144053868},{"$f":"Sheet3!G102","v":1205601.1785725569},{"$f":"Sheet3!H102","v":239961614.40010601},{"$f":"Sheet3!A102","v":2}]
[null,{"$f":"IF(B114+1<=Sheet3!$C$2,B114+1,-9.99999999999999E+25)","v":-9.9999999999999902E+25},{"$f":"SUMIF(Sheet3!C103:C534,B115,Sheet3!D103:D534)","v":0},{"$f":"SUMIF(Sheet3!C103:C534,B115,Sheet3!G103:G534)","v":0},{"$f":"SUMIF(Sheet3!C103:C534,B115,Sheet3!F103:F534)","v":0},-5.801314190978087E-7,null,{"$f":"Sheet3!C103","v":2030},{"$f":"Sheet3!B103","v":3},{"$f":"Sheet3!E103","v":239961614.40010601},{"$f":"Sheet3!F103","v":1164414.4209774137},{"$f":"Sheet3!G103","v":1199808.0720005301},{"$f":"Sheet3!H103","v":238797199.9791286},{"$f":"Sheet3!A103","v":2}]
[null,{"$f":"IF(B115+1<=Sheet3!$C$2,B115+1,-9.99999999999999E+25)","v":-9.9999999999999902E+25},{"$f":"SUMIF(Sheet3!C104:C535,B116,Sheet3!D104:D535)","v":0},{"$f":"SUMIF(Sheet3!C104:C535,B116,Sheet3!G104:G535)","v":0},{"$f":"SUMIF(Sheet3!C104:C535,B116,Sheet3!F104:F535)","v":0},-5.801314190978087E-7,null,{"$f":"Sheet3!C104","v":2030},{"$f":"Sheet3!B104","v":4},{"$f":"Sheet3!E104","v":238797199.9791286},{"$f":"Sheet3!F104","v":1170236.4930823008},{"$f":"Sheet3!G104","v":1193985.999895643},{"$f":"Sheet3!H104","v":237626963.48604628},{"$f":"Sheet3!A104","v":2}]
[null,{"$f":"IF(B116+1<=Sheet3!$C$2,B116+1,-9.99999999999999E+25)","v":-9.9999999999999902E+25},{"$f":"SUMIF(Sheet3!C105:C536,B117,Sheet3!D105:D536)","v":0},{"$f":"SUMIF(Sheet3!C105:C536,B117,Sheet3!G105:G536)","v":0},{"$f":"SUMIF(Sheet3!C105:C536,B117,Sheet3!F105:F536)","v":0},-5.801314190978087E-7,null,{"$f":"Sheet3!C105","v":2030},{"$f":"Sheet3!B105","v":5},{"$f":"Sheet3!E105","v":237626963.48604628},{"$f":"Sheet3!F105","v":1176087.6755477122},{"$f":"Sheet3!G105","v":1188134.8174302315},{"$f":"Sheet3!H105","v":236450875.81049857},{"$f":"Sheet3!A105","v":2}]
[null,{"$f":"IF(B117+1<=Sheet3!$C$2,B117+1,-9.99999999999999E+25)","v":-9.9999999999999902E+25},{"$f":"SUMIF(Sheet3!C106:C537,B118,Sheet3!D106:D537)","v":0},{"$f":"SUMIF(Sheet3!C106:C537,B118,Sheet3!G106:G537)","v":0},{"$f":"SUMIF(Sheet3!C106:C537,B118,Sheet3!F106:F537)","v":0},-5.801314190978087E-7,null,{"$f":"Sheet3!C106","v":2030},{"$f":"Sheet3!B106","v":6},{"$f":"Sheet3!E106","v":236450875.81049857},{"$f":"Sheet3!F106","v":1181968.1139254509},{"$f":"Sheet3!G106","v":1182254.3790524928},{"$f":"Sheet3!H106","v":235268907.69657311},{"$f":"Sheet3!A106","v":2}]
[null,{"$f":"IF(B118+1<=Sheet3!$C$2,B118+1,-9.99999999999999E+25)","v":-9.9999999999999902E+25},{"$f":"SUMIF(Sheet3!C107:C538,B119,Sheet3!D107:D538)","v":0},{"$f":"SUMIF(Sheet3!C107:C538,B119,Sheet3!G107:G538)","v":0},{"$f":"SUMIF(Sheet3!C107:C538,B119,Sheet3!F107:F538)","v":0},-5.801314190978087E-7,null,{"$f":"Sheet3!C107","v":2030},{"$f":"Sheet3!B107","v":7},{"$f":"Sheet3!E107","v":235268907.69657311},{"$f":"Sheet3!F107","v":1187877.9544950782},{"$f":"Sheet3!G107","v":1176344.5384828656},{"$f":"Sheet3!H107","v":234081029.74207804},{"$f":"Sheet3!A107","v":2}]
[null,{"$f":"IF(B119+1<=Sheet3!$C$2,B119+1,-9.99999999999999E+25)","v":-9.9999999999999902E+25},{"$f":"SUMIF(Sheet3!C108:C539,B120,Sheet3!D108:D539)","v":0},{"$f":"SUMIF(Sheet3!C108:C539,B120,Sheet3!G108:G539)","v":0},{"$f":"SUMIF(Sheet3!C108:C539,B120,Sheet3!F108:F539)","v":0},-5.801314190978087E-7,null,{"$f":"Sheet3!C108","v":2030},{"$f":"Sheet3!B108","v":8},{"$f":"Sheet3!E108","v":234081029.74207804},{"$f":"Sheet3!F108","v":1193817.3442675536},{"$f":"Sheet3!G108","v":1170405.1487103901},{"$f":"Sheet3!H108","v":232887212.39781049},{"$f":"Sheet3!A108","v":2}]
[null,{"$f":"IF(B120+1<=Sheet3!$C$2,B120+1,-9.99999999999999E+25)","v":-9.9999999999999902E+25},{"$f":"SUMIF(Sheet3!C109:C540,B121,Sheet3!D109:D540)","v":0},{"$f":"SUMIF(Sheet3!C109:C540,B121,Sheet3!G109:G540)","v":0},{"$f":"SUMIF(Sheet3!C109:C540,B121,Sheet3!F109:F540)","v":0},-5.801314190978087E-7,null,{"$f":"Sheet3!C109","v":2030},{"$f":"Sheet3!B109","v":9},{"$f":"Sheet3!E109","v":232887212.39781049},{"$f":"Sheet3!F109","v":1199786.4309888913},{"$f":"Sheet3!G109","v":1164436.0619890525},{"$f":"Sheet3!H109","v":231687425.96682161},{"$f":"Sheet3!A109","v":2}]
[null,{"$f":"IF(B121+1<=Sheet3!$C$2,B121+1,-9.99999999999999E+25)","v":-9.9999999999999902E+25},{"$f":"SUMIF(Sheet3!C110:C541,B122,Sheet3!D110:D541)","v":0},{"$f":"SUMIF(Sheet3!C110:C541,B122,Sheet3!G110:G541)","v":0},{"$f":"SUMIF(Sheet3!C110:C541,B122,Sheet3!F110:F541)","v":0},-5.801314190978087E-7,null,{"$f":"Sheet3!C110","v":2030},{"$f":"Sheet3!B110","v":10},{"$f":"Sheet3!E110","v":231687425.96682161},{"$f":"Sheet3!F110","v":1205785.3631438357},{"$f":"Sheet3!G110","v":1158437.1298341081},{"$f":"Sheet3!H110","v":230481640.60367778},{"$f":"Sheet3!A110","v":2}]
[null,{"$f":"IF(B122+1<=Sheet3!$C$2,B122+1,-9.99999999999999E+25)","v":-9.9999999999999902E+25},{"$f":"SUMIF(Sheet3!C111:C542,B123,Sheet3!D111:D542)","v":0},{"$f":"SUMIF(Sheet3!C111:C542,B123,Sheet3!G111:G542)","v":0},{"$f":"SUMIF(Sheet3!C111:C542,B123,Sheet3!F111:F542)","v":0},-5.801314190978087E-7,null,{"$f":"Sheet3!C111","v":2030},{"$f":"Sheet3!B111","v":11},{"$f":"Sheet3!E111","v":230481640.60367778},{"$f":"Sheet3!F111","v":1211814.2899595548},{"$f":"Sheet3!G111","v":1152408.2030183889},{"$f":"Sheet3!H111","v":229269826.31371823},{"$f":"Sheet3!A111","v":2}]
[null,{"$f":"IF(B123+1<=Sheet3!$C$2,B123+1,-9.99999999999999E+25)","v":-9.9999999999999902E+25},{"$f":"SUMIF(Sheet3!C112:C543,B124,Sheet3!D112:D543)","v":0},{"$f":"SUMIF(Sheet3!C112:C543,B124,Sheet3!G112:G543)","v":0},{"$f":"SUMIF(Sheet3!C112:C543,B124,Sheet3!F112:F543)","v":0},-5.801314190978087E-7,null,{"$f":"Sheet3!C112","v":2030},{"$f":"Sheet3!B112","v":12},{"$f":"Sheet3!E112","v":229269826.31371823},{"$f":"Sheet3!F112","v":1217873.3614093526},{"$f":"Sheet3!G112","v":1146349.1315685911},{"$f":"Sheet3!H112","v":228051952.95230886},{"$f":"Sheet3!A112","v":2}]
[null,{"$f":"IF(B124+1<=Sheet3!$C$2,B124+1,-9.99999999999999E+25)","v":-9.9999999999999902E+25},{"$f":"SUMIF(Sheet3!C113:C544,B125,Sheet3!D113:D544)","v":0},{"$f":"SUMIF(Sheet3!C113:C544,B125,Sheet3!G113:G544)","v":0},{"$f":"SUMIF(Sheet3!C113:C544,B125,Sheet3!F113:F544)","v":0},-5.801314190978087E-7,null,{"$f":"Sheet3!C113","v":2031},{"$f":"Sheet3!B113","v":1},{"$f":"Sheet3!E113","v":228051952.95230886},{"$f":"Sheet3!F113","v":1223962.7282163994},{"$f":"Sheet3!G113","v":1140259.7647615443},{"$f":"Sheet3!H113","v":226827990.22409245},{"$f":"Sheet3!A113","v":2}]
[null,{"$f":"IF(B125+1<=Sheet3!$C$2,B125+1,-9.99999999999999E+25)","v":-9.9999999999999902E+25},{"$f":"SUMIF(Sheet3!C114:C545,B126,Sheet3!D114:D545)","v":0},{"$f":"SUMIF(Sheet3!C114:C545,B126,Sheet3!G114:G545)","v":0},{"$f":"SUMIF(Sheet3!C114:C545,B126,Sheet3!F114:F545)","v":0},-5.801314190978087E-7,null,{"$f":"Sheet3!C114","v":2031},{"$f":"Sheet3!B114","v":2},{"$f":"Sheet3!E114","v":226827990.22409245},{"$f":"Sheet3!F114","v":1230082.5418574815},{"$f":"Sheet3!G114","v":1134139.9511204623},{"$f":"Sheet3!H114","v":225597907.68223497},{"$f":"Sheet3!A114","v":2}]
[null,{"$f":"IF(B126+1<=Sheet3!$C$2,B126+1,-9.99999999999999E+25)","v":-9.9999999999999902E+25},{"$f":"SUMIF(Sheet3!C115:C546,B127,Sheet3!D115:D546)","v":0},{"$f":"SUMIF(Sheet3!C115:C546,B127,Sheet3!G115:G546)","v":0},{"$f":"SUMIF(Sheet3!C115:C546,B127,Sheet3!F115:F546)","v":0},-5.801314190978087E-7,null,{"$f":"Sheet3!C115","v":2031},{"$f":"Sheet3!B115","v":3},{"$f":"Sheet3!E115","v":225597907.68223497},{"$f":"Sheet3!F115","v":1236232.9545667691},{"$f":"Sheet3!G115","v":1127989.5384111747},{"$f":"Sheet3!H115","v":224361674.7276682},{"$f":"Sheet3!A115","v":2}]
[null,{"$f":"IF(B127+1<=Sheet3!$C$2,B127+1,-9.99999999999999E+25)","v":-9.9999999999999902E+25},{"$f":"SUMIF(Sheet3!C116:C547,B128,Sheet3!D116:D547)","v":0},{"$f":"SUMIF(Sheet3!C116:C547,B128,Sheet3!G116:G547)","v":0},{"$f":"SUMIF(Sheet3!C116:C547,B128,Sheet3!F116:F547)","v":0},-5.801314190978087E-7,null,{"$f":"Sheet3!C116","v":2031},{"$f":"Sheet3!B116","v":4},{"$f":"Sheet3!E116","v":224361674.7276682},{"$f":"Sheet3!F116","v":1242414.1193396028},{"$f":"Sheet3!G116","v":1121808.373638341},{"$f":"Sheet3!H116","v":223119260.60832858},{"$f":"Sheet3!A116","v":2}]
[null,{"$f":"IF(B128+1<=Sheet3!$C$2,B128+1,-9.99999999999999E+25)","v":-9.9999999999999902E+25},{"$f":"SUMIF(Sheet3!C117:C548,B129,Sheet3!D117:D548)","v":0},{"$f":"SUMIF(Sheet3!C117:C548,B129,Sheet3!G117:G548)","v":0},{"$f":"SUMIF(Sheet3!C117:C548,B129,Sheet3!F117:F548)","v":0},-5.801314190978087E-7,null,{"$f":"Sheet3!C117","v":2031},{"$f":"Sheet3!B117","v":5},{"$f":"Sheet3!E117","v":223119260.60832858},{"$f":"Sheet3!F117","v":1248626.189936301},{"$f":"Sheet3!G117","v":1115596.3030416428},{"$f":"Sheet3!H117","v":221870634.41839227},{"$f":"Sheet3!A117","v":2}]
[null,{"$f":"IF(B129+1<=Sheet3!$C$2,B129+1,-9.99999999999999E+25)","v":-9.9999999999999902E+25},{"$f":"SUMIF(Sheet3!C118:C549,B130,Sheet3!D118:D549)","v":0},{"$f":"SUMIF(Sheet3!C118:C549,B130,Sheet3!G118:G549)","v":0},{"$f":"SUMIF(Sheet3!C118:C549,B130,Sheet3!F118:F549)","v":0},-5.801314190978087E-7,null,{"$f":"Sheet3!C118","v":2031},{"$f":"Sheet3!B118","v":6},{"$f":"Sheet3!E118","v":221870634.41839227},{"$f":"Sheet3!F118","v":1254869.3208859824},{"$f":"Sheet3!G118","v":1109353.1720919614},{"$f":"Sheet3!H118","v":220615765.09750628},{"$f":"Sheet3!A118","v":2}]
[null,{"$f":"IF(B130+1<=Sheet3!$C$2,B130+1,-9.99999999999999E+25)","v":-9.9999999999999902E+25},{"$f":"SUMIF(Sheet3!C119:C550,B131,Sheet3!D119:D550)","v":0},{"$f":"SUMIF(Sheet3!C119:C550,B131,Sheet3!G119:G550)","v":0},{"$f":"SUMIF(Sheet3!C119:C550,B131,Sheet3!F119:F550)","v":0},-5.801314190978087E-7,null,{"$f":"Sheet3!C119","v":2031},{"$f":"Sheet3!B119","v":7},{"$f":"Sheet3!E119","v":220615765.09750628},{"$f":"Sheet3!F119","v":1261143.6674904122},{"$f":"Sheet3!G119","v":1103078.8254875315},{"$f":"Sheet3!H119","v":219354621.43001586},{"$f":"Sheet3!A119","v":2}]
[null,{"$f":"IF(B131+1<=Sheet3!$C$2,B131+1,-9.99999999999999E+25)","v":-9.9999999999999902E+25},{"$f":"SUMIF(Sheet3!C120:C551,B132,Sheet3!D120:D551)","v":0},{"$f":"SUMIF(Sheet3!C120:C551,B132,Sheet3!G120:G551)","v":0},{"$f":"SUMIF(Sheet3!C120:C551,B132,Sheet3!F120:F551)","v":0},-5.801314190978087E-7,null,{"$f":"Sheet3!C120","v":2031},{"$f":"Sheet3!B120","v":8},{"$f":"Sheet3!E120","v":219354621.43001586},{"$f":"Sheet3!F120","v":1267449.3858278645},{"$f":"Sheet3!G120","v":1096773.1071500792},{"$f":"Sheet3!H120","v":218087172.04418799},{"$f":"Sheet3!A120","v":2}]
[null,{"$f":"IF(B132+1<=Sheet3!$C$2,B132+1,-9.99999999999999E+25)","v":-9.9999999999999902E+25},{"$f":"SUMIF(Sheet3!C121:C552,B133,Sheet3!D121:D552)","v":0},{"$f":"SUMIF(Sheet3!C121:C552,B133,Sheet3!G121:G552)","v":0},{"$f":"SUMIF(Sheet3!C121:C552,B133,Sheet3!F121:F552)","v":0},-5.801314190978087E-7,null,{"$f":"Sheet3!C121","v":2031},{"$f":"Sheet3!B121","v":9},{"$f":"Sheet3!E121","v":218087172.04418799},{"$f":"Sheet3!F121","v":1273786.6327570039},{"$f":"Sheet3!G121","v":1090435.8602209399},{"$f":"Sheet3!H121","v":216813385.41143098},{"$f":"Sheet3!A121","v":2}]
[null,{"$f":"IF(B133+1<=Sheet3!$C$2,B133+1,-9.99999999999999E+25)","v":-9.9999999999999902E+25},{"$f":"SUMIF(Sheet3!C122:C553,B134,Sheet3!D122:D553)","v":0},{"$f":"SUMIF(Sheet3!C122:C553,B134,Sheet3!G122:G553)","v":0},{"$f":"SUMIF(Sheet3!C122:C553,B134,Sheet3!F122:F553)","v":0},-5.801314190978087E-7,null,{"$f":"Sheet3!C122","v":2031},{"$f":"Sheet3!B122","v":10},{"$f":"Sheet3!E122","v":216813385.41143098},{"$f":"Sheet3!F122","v":1280155.5659207888},{"$f":"Sheet3!G122","v":1084066.9270571549},{"$f":"Sheet3!H122","v":215533229.84551018},{"$f":"Sheet3!A122","v":2}]
[null,{"$f":"IF(B134+1<=Sheet3!$C$2,B134+1,-9.99999999999999E+25)","v":-9.9999999999999902E+25},{"$f":"SUMIF(Sheet3!C123:C554,B135,Sheet3!D123:D554)","v":0},{"$f":"SUMIF(Sheet3!C123:C554,B135,Sheet3!G123:G554)","v":0},{"$f":"SUMIF(Sheet3!C123:C554,B135,Sheet3!F123:F554)","v":0},-5.801314190978087E-7,null,{"$f":"Sheet3!C123","v":2031},{"$f":"Sheet3!B123","v":11},{"$f":"Sheet3!E123","v":215533229.84551018},{"$f":"Sheet3!F123","v":1286556.3437503928},{"$f":"Sheet3!G123","v":1077666.149227551},{"$f":"Sheet3!H123","v":214246673.5017598},{"$f":"Sheet3!A123","v":2}]
[null,{"$f":"IF(B135+1<=Sheet3!$C$2,B135+1,-9.99999999999999E+25)","v":-9.9999999999999902E+25},{"$f":"SUMIF(Sheet3!C124:C555,B136,Sheet3!D124:D555)","v":0},{"$f":"SUMIF(Sheet3!C124:C555,B136,Sheet3!G124:G555)","v":0},{"$f":"SUMIF(Sheet3!C124:C555,B136,Sheet3!F124:F555)","v":0},-5.801314190978087E-7,null,{"$f":"Sheet3!C124","v":2031},{"$f":"Sheet3!B124","v":12},{"$f":"Sheet3!E124","v":214246673.5017598},{"$f":"Sheet3!F124","v":1292989.1254691447},{"$f":"Sheet3!G124","v":1071233.3675087991},{"$f":"Sheet3!H124","v":212953684.37629065},{"$f":"Sheet3!A124","v":2}]
[null,{"$f":"IF(B136+1<=Sheet3!$C$2,B136+1,-9.99999999999999E+25)","v":-9.9999999999999902E+25},{"$f":"SUMIF(Sheet3!C125:C556,B137,Sheet3!D125:D556)","v":0},{"$f":"SUMIF(Sheet3!C125:C556,B137,Sheet3!G125:G556)","v":0},{"$f":"SUMIF(Sheet3!C125:C556,B137,Sheet3!F125:F556)","v":0},-5.801314190978087E-7,null,{"$f":"Sheet3!C125","v":2032},{"$f":"Sheet3!B125","v":1},{"$f":"Sheet3!E125","v":212953684.37629065},{"$f":"Sheet3!F125","v":1299454.0710964906},{"$f":"Sheet3!G125","v":1064768.4218814531},{"$f":"Sheet3!H125","v":211654230.30519417},{"$f":"Sheet3!A125","v":2}]
[null,{"$f":"IF(B137+1<=Sheet3!$C$2,B137+1,-9.99999999999999E+25)","v":-9.9999999999999902E+25},{"$f":"SUMIF(Sheet3!C126:C557,B138,Sheet3!D126:D557)","v":0},{"$f":"SUMIF(Sheet3!C126:C557,B138,Sheet3!G126:G557)","v":0},{"$f":"SUMIF(Sheet3!C126:C557,B138,Sheet3!F126:F557)","v":0},-5.801314190978087E-7,null,{"$f":"Sheet3!C126","v":2032},{"$f":"Sheet3!B126","v":2},{"$f":"Sheet3!E126","v":211654230.30519417},{"$f":"Sheet3!F126","v":1305951.341451973},{"$f":"Sheet3!G126","v":1058271.1515259708},{"$f":"Sheet3!H126","v":210348278.9637422},{"$f":"Sheet3!A126","v":2}]
[null,{"$f":"IF(B138+1<=Sheet3!$C$2,B138+1,-9.99999999999999E+25)","v":-9.9999999999999902E+25},{"$f":"SUMIF(Sheet3!C127:C558,B139,Sheet3!D127:D558)","v":0},{"$f":"SUMIF(Sheet3!C127:C558,B139,Sheet3!G127:G558)","v":0},{"$f":"SUMIF(Sheet3!C127:C558,B139,Sheet3!F127:F558)","v":0},-5.801314190978087E-7,null,{"$f":"Sheet3!C127","v":2032},{"$f":"Sheet3!B127","v":3},{"$f":"Sheet3!E127","v":210348278.9637422},{"$f":"Sheet3!F127","v":1312481.0981592329},{"$f":"Sheet3!G127","v":1051741.3948187109},{"$f":"Sheet3!H127","v":209035797.86558297},{"$f":"Sheet3!A127","v":2}]
[null,{"$f":"IF(B139+1<=Sheet3!$C$2,B139+1,-9.99999999999999E+25)","v":-9.9999999999999902E+25},{"$f":"SUMIF(Sheet3!C128:C559,B140,Sheet3!D128:D559)","v":0},{"$f":"SUMIF(Sheet3!C128:C559,B140,Sheet3!G128:G559)","v":0},{"$f":"SUMIF(Sheet3!C128:C559,B140,Sheet3!F128:F559)","v":0},-5.801314190978087E-7,null,{"$f":"Sheet3!C128","v":2032},{"$f":"Sheet3!B128","v":4},{"$f":"Sheet3!E128","v":209035797.86558297},{"$f":"Sheet3!F128","v":1319043.5036500287},{"$f":"Sheet3!G128","v":1045178.9893279149},{"$f":"Sheet3!H128","v":207716754.36193293},{"$f":"Sheet3!A128","v":2}]
[null,{"$f":"IF(B140+1<=Sheet3!$C$2,B140+1,-9.99999999999999E+25)","v":-9.9999999999999902E+25},{"$f":"SUMIF(Sheet3!C129:C560,B141,Sheet3!D129:D560)","v":0},{"$f":"SUMIF(Sheet3!C129:C560,B141,Sheet3!G129:G560)","v":0},{"$f":"SUMIF(Sheet3!C129:C560,B141,Sheet3!F129:F560)","v":0},-5.801314190978087E-7,null,{"$f":"Sheet3!C129","v":2032},{"$f":"Sheet3!B129","v":5},{"$f":"Sheet3!E129","v":207716754.36193293},{"$f":"Sheet3!F129","v":1325638.7211682792},{"$f":"Sheet3!G129","v":1038583.7718096646},{"$f":"Sheet3!H129","v":206391115.64076465},{"$f":"Sheet3!A129","v":2}]
[null,{"$f":"IF(B141+1<=Sheet3!$C$2,B141+1,-9.99999999999999E+25)","v":-9.9999999999999902E+25},{"$f":"SUMIF(Sheet3!C130:C561,B142,Sheet3!D130:D561)","v":0},{"$f":"SUMIF(Sheet3!C130:C561,B142,Sheet3!G130:G561)","v":0},{"$f":"SUMIF(Sheet3!C130:C561,B142,Sheet3!F130:F561)","v":0},-5.801314190978087E-7,null,{"$f":"Sheet3!C130","v":2032},{"$f":"Sheet3!B130","v":6},{"$f":"Sheet3!E130","v":206391115.64076465},{"$f":"Sheet3!F130","v":1332266.9147741203},{"$f":"Sheet3!G130","v":1031955.5782038233},{"$f":"Sheet3!H130","v":205058848.72599053},{"$f":"Sheet3!A130","v":2}]
[null,{"$f":"IF(B142+1<=Sheet3!$C$2,B142+1,-9.99999999999999E+25)","v":-9.9999999999999902E+25},{"$f":"SUMIF(Sheet3!C131:C562,B143,Sheet3!D131:D562)","v":0},{"$f":"SUMIF(Sheet3!C131:C562,B143,Sheet3!G131:G562)","v":0},{"$f":"SUMIF(Sheet3!C131:C562,B143,Sheet3!F131:F562)","v":0},-5.801314190978087E-7,null,{"$f":"Sheet3!C131","v":2032},{"$f":"Sheet3!B131","v":7},{"$f":"Sheet3!E131","v":205058848.72599053},{"$f":"Sheet3!F131","v":1338928.2493479913},{"$f":"Sheet3!G131","v":1025294.2436299525},{"$f":"Sheet3!H131","v":203719920.47664255},{"$f":"Sheet3!A131","v":2}]
[null,{"$f":"IF(B143+1<=Sheet3!$C$2,B143+1,-9.99999999999999E+25)","v":-9.9999999999999902E+25},{"$f":"SUMIF(Sheet3!C132:C563,B144,Sheet3!D132:D563)","v":0},{"$f":"SUMIF(Sheet3!C132:C563,B144,Sheet3!G132:G563)","v":0},{"$f":"SUMIF(Sheet3!C132:C563,B144,Sheet3!F132:F563)","v":0},-5.801314190978087E-7,null,{"$f":"Sheet3!C132","v":2032},{"$f":"Sheet3!B132","v":8},{"$f":"Sheet3!E132","v":203719920.47664255},{"$f":"Sheet3!F132","v":1345622.8905947311},{"$f":"Sheet3!G132","v":1018599.6023832127},{"$f":"Sheet3!H132","v":202374297.58604783},{"$f":"Sheet3!A132","v":2}]
[null,{"$f":"IF(B144+1<=Sheet3!$C$2,B144+1,-9.99999999999999E+25)","v":-9.9999999999999902E+25},{"$f":"SUMIF(Sheet3!C133:C564,B145,Sheet3!D133:D564)","v":0},{"$f":"SUMIF(Sheet3!C133:C564,B145,Sheet3!G133:G564)","v":0},{"$f":"SUMIF(Sheet3!C133:C564,B145,Sheet3!F133:F564)","v":0},-5.801314190978087E-7,null,{"$f":"Sheet3!C133","v":2032},{"$f":"Sheet3!B133","v":9},{"$f":"Sheet3!E133","v":202374297.58604783},{"$f":"Sheet3!F133","v":1352351.0050477046},{"$f":"Sheet3!G133","v":1011871.4879302392},{"$f":"Sheet3!H133","v":201021946.58100012},{"$f":"Sheet3!A133","v":2}]
[null,{"$f":"IF(B145+1<=Sheet3!$C$2,B145+1,-9.99999999999999E+25)","v":-9.9999999999999902E+25},{"$f":"SUMIF(Sheet3!C134:C565,B146,Sheet3!D134:D565)","v":0},{"$f":"SUMIF(Sheet3!C134:C565,B146,Sheet3!G134:G565)","v":0},{"$f":"SUMIF(Sheet3!C134:C565,B146,Sheet3!F134:F565)","v":0},-5.801314190978087E-7,null,{"$f":"Sheet3!C134","v":2032},{"$f":"Sheet3!B134","v":10},{"$f":"Sheet3!E134","v":201021946.58100012},{"$f":"Sheet3!F134","v":1359112.7600729433},{"$f":"Sheet3!G134","v":1005109.7329050006},{"$f":"Sheet3!H134","v":199662833.82092717},{"$f":"Sheet3!A134","v":2}]
[null,{"$f":"IF(B146+1<=Sheet3!$C$2,B146+1,-9.99999999999999E+25)","v":-9.9999999999999902E+25},{"$f":"SUMIF(Sheet3!C135:C566,B147,Sheet3!D135:D566)","v":0},{"$f":"SUMIF(Sheet3!C135:C566,B147,Sheet3!G135:G566)","v":0},{"$f":"SUMIF(Sheet3!C135:C566,B147,Sheet3!F135:F566)","v":0},-5.801314190978087E-7,null,{"$f":"Sheet3!C135","v":2032},{"$f":"Sheet3!B135","v":11},{"$f":"Sheet3!E135","v":199662833.82092717},{"$f":"Sheet3!F135","v":1365908.323873308},{"$f":"Sheet3!G135","v":998314.16910463583},{"$f":"Sheet3!H135","v":198296925.49705386},{"$f":"Sheet3!A135","v":2}]
[null,{"$f":"IF(B147+1<=Sheet3!$C$2,B147+1,-9.99999999999999E+25)","v":-9.9999999999999902E+25},{"$f":"SUMIF(Sheet3!C136:C567,B148,Sheet3!D136:D567)","v":0},{"$f":"SUMIF(Sheet3!C136:C567,B148,Sheet3!G136:G567)","v":0},{"$f":"SUMIF(Sheet3!C136:C567,B148,Sheet3!F136:F567)","v":0},-5.801314190978087E-7,null,{"$f":"Sheet3!C136","v":2032},{"$f":"Sheet3!B136","v":12},{"$f":"Sheet3!E136","v":198296925.49705386},{"$f":"Sheet3!F136","v":1372737.8654926745},{"$f":"Sheet3!G136","v":991484.62748526921},{"$f":"Sheet3!H136","v":196924187.63156119},{"$f":"Sheet3!A136","v":2}]
[null,{"$f":"IF(B148+1<=Sheet3!$C$2,B148+1,-9.99999999999999E+25)","v":-9.9999999999999902E+25},{"$f":"SUMIF(Sheet3!C137:C568,B149,Sheet3!D137:D568)","v":0},{"$f":"SUMIF(Sheet3!C137:C568,B149,Sheet3!G137:G568)","v":0},{"$f":"SUMIF(Sheet3!C137:C568,B149,Sheet3!F137:F568)","v":0},{"$f":"F148-E149","v":-5.801314190978087E-7},null,{"$f":"Sheet3!C137","v":2033},{"$f":"Sheet3!B137","v":1},{"$f":"Sheet3!E137","v":196924187.63156119},{"$f":"Sheet3!F137","v":1379601.554820138},{"$f":"Sheet3!G137","v":984620.93815780582},{"$f":"Sheet3!H137","v":195544586.07674104},{"$f":"Sheet3!A137","v":2}]
[null,{"$f":"IF(B149+1<=Sheet3!$C$2,B149+1,-9.99999999999999E+25)","v":-9.9999999999999902E+25},{"$f":"SUMIF(Sheet3!C138:C569,B150,Sheet3!D138:D569)","v":0},{"$f":"SUMIF(Sheet3!C138:C569,B150,Sheet3!G138:G569)","v":0},{"$f":"SUMIF(Sheet3!C138:C569,B150,Sheet3!F138:F569)","v":0},-5.801314190978087E-7,null,{"$f":"Sheet3!C138","v":2033},{"$f":"Sheet3!B138","v":2},{"$f":"Sheet3!E138","v":195544586.07674104},{"$f":"Sheet3!F138","v":1386499.5625942387},{"$f":"Sheet3!G138","v":977722.93038370518},{"$f":"Sheet3!H138","v":194158086.5141468},{"$f":"Sheet3!A138","v":2}]
[null,{"$f":"IF(B150+1<=Sheet3!$C$2,B150+1,-9.99999999999999E+25)","v":-9.9999999999999902E+25},{"$f":"SUMIF(Sheet3!C139:C570,B151,Sheet3!D139:D570)","v":0},{"$f":"SUMIF(Sheet3!C139:C570,B151,Sheet3!G139:G570)","v":0},{"$f":"SUMIF(Sheet3!C139:C570,B151,Sheet3!F139:F570)","v":0},-5.801314190978087E-7,null,{"$f":"Sheet3!C139","v":2033},{"$f":"Sheet3!B139","v":3},{"$f":"Sheet3!E139","v":194158086.5141468},{"$f":"Sheet3!F139","v":1393432.0604072097},{"$f":"Sheet3!G139","v":970790.43257073406},{"$f":"Sheet3!H139","v":192764654.45373958},{"$f":"Sheet3!A139","v":2}]
[null,{"$f":"IF(B151+1<=Sheet3!$C$2,B151+1,-9.99999999999999E+25)","v":-9.9999999999999902E+25},{"$f":"SUMIF(Sheet3!C140:C571,B152,Sheet3!D140:D571)","v":0},{"$f":"SUMIF(Sheet3!C140:C571,B152,Sheet3!G140:G571)","v":0},{"$f":"SUMIF(Sheet3!C140:C571,B152,Sheet3!F140:F571)","v":0},-5.801314190978087E-7,null,{"$f":"Sheet3!C140","v":2033},{"$f":"Sheet3!B140","v":4},{"$f":"Sheet3!E140","v":192764654.45373958},{"$f":"Sheet3!F140","v":1400399.2207092457},{"$f":"Sheet3!G140","v":963823.27226869797},{"$f":"Sheet3!H140","v":191364255.23303035},{"$f":"Sheet3!A140","v":2}]
[null,{"$f":"IF(B152+1<=Sheet3!$C$2,B152+1,-9.99999999999999E+25)","v":-9.9999999999999902E+25},{"$f":"SUMIF(Sheet3!C141:C572,B153,Sheet3!D141:D572)","v":0},{"$f":"SUMIF(Sheet3!C141:C572,B153,Sheet3!G141:G572)","v":0},{"$f":"SUMIF(Sheet3!C141:C572,B153,Sheet3!F141:F572)","v":0},-5.801314190978087E-7,null,{"$f":"Sheet3!C141","v":2033},{"$f":"Sheet3!B141","v":5},{"$f":"Sheet3!E141","v":191364255.23303035},{"$f":"Sheet3!F141","v":1407401.2168127922},{"$f":"Sheet3!G141","v":956821.27616515162},{"$f":"Sheet3!H141","v":189956854.01621756},{"$f":"Sheet3!A141","v":2}]
[null,{"$f":"IF(B153+1<=Sheet3!$C$2,B153+1,-9.99999999999999E+25)","v":-9.9999999999999902E+25},{"$f":"SUMIF(Sheet3!C142:C573,B154,Sheet3!D142:D573)","v":0},{"$f":"SUMIF(Sheet3!C142:C573,B154,Sheet3!G142:G573)","v":0},{"$f":"SUMIF(Sheet3!C142:C573,B154,Sheet3!F142:F573)","v":0},-5.801314190978087E-7,null,{"$f":"Sheet3!C142","v":2033},{"$f":"Sheet3!B142","v":6},{"$f":"Sheet3!E142","v":189956854.01621756},{"$f":"Sheet3!F142","v":1414438.2228968558},{"$f":"Sheet3!G142","v":949784.27008108783},{"$f":"Sheet3!H142","v":188542415.79332072},{"$f":"Sheet3!A142","v":2}]
[null,{"$f":"IF(B154+1<=Sheet3!$C$2,B154+1,-9.99999999999999E+25)","v":-9.9999999999999902E+25},{"$f":"SUMIF(Sheet3!C143:C574,B155,Sheet3!D143:D574)","v":0},{"$f":"SUMIF(Sheet3!C143:C574,B155,Sheet3!G143:G574)","v":0},{"$f":"SUMIF(Sheet3!C143:C574,B155,Sheet3!F143:F574)","v":0},-5.801314190978087E-7,null,{"$f":"Sheet3!C143","v":2033},{"$f":"Sheet3!B143","v":7},{"$f":"Sheet3!E143","v":188542415.79332072},{"$f":"Sheet3!F143","v":1421510.4140113401},{"$f":"Sheet3!G143","v":942712.07896660361},{"$f":"Sheet3!H143","v":187120905.37930939},{"$f":"Sheet3!A143","v":2}]
[null,{"$f":"IF(B155+1<=Sheet3!$C$2,B155+1,-9.99999999999999E+25)","v":-9.9999999999999902E+25},{"$f":"SUMIF(Sheet3!C144:C575,B156,Sheet3!D144:D575)","v":0},{"$f":"SUMIF(Sheet3!C144:C575,B156,Sheet3!G144:G575)","v":0},{"$f":"SUMIF(Sheet3!C144:C575,B156,Sheet3!F144:F575)","v":0},-5.801314190978087E-7,null,{"$f":"Sheet3!C144","v":2033},{"$f":"Sheet3!B144","v":8},{"$f":"Sheet3!E144","v":187120905.37930939},{"$f":"Sheet3!F144","v":1428617.9660813967},{"$f":"Sheet3!G144","v":935604.52689654694},{"$f":"Sheet3!H144","v":185692287.41322798},{"$f":"Sheet3!A144","v":2}]
[null,{"$f":"IF(B156+1<=Sheet3!$C$2,B156+1,-9.99999999999999E+25)","v":-9.9999999999999902E+25},{"$f":"SUMIF(Sheet3!C145:C576,B157,Sheet3!D145:D576)","v":0},{"$f":"SUMIF(Sheet3!C145:C576,B157,Sheet3!G145:G576)","v":0},{"$f":"SUMIF(Sheet3!C145:C576,B157,Sheet3!F145:F576)","v":0},-5.801314190978087E-7,null,{"$f":"Sheet3!C145","v":2033},{"$f":"Sheet3!B145","v":9},{"$f":"Sheet3!E145","v":185692287.41322798},{"$f":"Sheet3!F145","v":1435761.0559118041},{"$f":"Sheet3!G145","v":928461.43706613977},{"$f":"Sheet3!H145","v":184256526.35731617},{"$f":"Sheet3!A145","v":2}]
[null,{"$f":"IF(B157+1<=Sheet3!$C$2,B157+1,-9.99999999999999E+25)","v":-9.9999999999999902E+25},{"$f":"SUMIF(Sheet3!C146:C577,B158,Sheet3!D146:D577)","v":0},{"$f":"SUMIF(Sheet3!C146:C577,B158,Sheet3!G146:G577)","v":0},{"$f":"SUMIF(Sheet3!C146:C577,B158,Sheet3!F146:F577)","v":0},-5.801314190978087E-7,null,{"$f":"Sheet3!C146","v":2033},{"$f":"Sheet3!B146","v":10},{"$f":"Sheet3!E146","v":184256526.35731617},{"$f":"Sheet3!F146","v":1442939.8611913631},{"$f":"Sheet3!G146","v":921282.63178658078},{"$f":"Sheet3!H146","v":182813586.4961248},{"$f":"Sheet3!A146","v":2}]
[null,{"$f":"IF(B158+1<=Sheet3!$C$2,B158+1,-9.99999999999999E+25)","v":-9.9999999999999902E+25},{"$f":"SUMIF(Sheet3!C147:C578,B159,Sheet3!D147:D578)","v":0},{"$f":"SUMIF(Sheet3!C147:C578,B159,Sheet3!G147:G578)","v":0},{"$f":"SUMIF(Sheet3!C147:C578,B159,Sheet3!F147:F578)","v":0},-5.801314190978087E-7,null,{"$f":"Sheet3!C147","v":2033},{"$f":"Sheet3!B147","v":11},{"$f":"Sheet3!E147","v":182813586.4961248},{"$f":"Sheet3!F147","v":1450154.5604973198},{"$f":"Sheet3!G147","v":914067.93248062395},{"$f":"Sheet3!H147","v":181363431.93562749},{"$f":"Sheet3!A147","v":2}]
[null,{"$f":"IF(B159+1<=Sheet3!$C$2,B159+1,-9.99999999999999E+25)","v":-9.9999999999999902E+25},{"$f":"SUMIF(Sheet3!C148:C579,B160,Sheet3!D148:D579)","v":0},{"$f":"SUMIF(Sheet3!C148:C579,B160,Sheet3!G148:G579)","v":0},{"$f":"SUMIF(Sheet3!C148:C579,B160,Sheet3!F148:F579)","v":0},-5.801314190978087E-7,null,{"$f":"Sheet3!C148","v":2033},{"$f":"Sheet3!B148","v":12},{"$f":"Sheet3!E148","v":181363431.93562749},{"$f":"Sheet3!F148","v":1457405.3332998063},{"$f":"Sheet3!G148","v":906817.1596781374},{"$f":"Sheet3!H148","v":179906026.60232767},{"$f":"Sheet3!A148","v":2}]
[null,{"$f":"IF(B160+1<=Sheet3!$C$2,B160+1,-9.99999999999999E+25)","v":-9.9999999999999902E+25},{"$f":"SUMIF(Sheet3!C149:C580,B161,Sheet3!D149:D580)","v":0},{"$f":"SUMIF(Sheet3!C149:C580,B161,Sheet3!G149:G580)","v":0},{"$f":"SUMIF(Sheet3!C149:C580,B161,Sheet3!F149:F580)","v":0},-5.801314190978087E-7,null,{"$f":"Sheet3!C149","v":2034},{"$f":"Sheet3!B149","v":1},{"$f":"Sheet3!E149","v":179906026.60232767},{"$f":"Sheet3!F149","v":1464692.3599663056},{"$f":"Sheet3!G149","v":899530.1330116383},{"$f":"Sheet3!H149","v":178441334.24236137},{"$f":"Sheet3!A149","v":2}]
[null,{"$f":"IF(B161+1<=Sheet3!$C$2,B161+1,-9.99999999999999E+25)","v":-9.9999999999999902E+25},{"$f":"SUMIF(Sheet3!C150:C581,B162,Sheet3!D150:D581)","v":0},{"$f":"SUMIF(Sheet3!C150:C581,B162,Sheet3!G150:G581)","v":0},{"$f":"SUMIF(Sheet3!C150:C581,B162,Sheet3!F150:F581)","v":0},-5.801314190978087E-7,null,{"$f":"Sheet3!C150","v":2034},{"$f":"Sheet3!B150","v":2},{"$f":"Sheet3!E150","v":178441334.24236137},{"$f":"Sheet3!F150","v":1472015.8217661371},{"$f":"Sheet3!G150","v":892206.67121180671},{"$f":"Sheet3!H150","v":176969318.42059523},{"$f":"Sheet3!A150","v":2}]
[null,{"$f":"IF(B162+1<=Sheet3!$C$2,B162+1,-9.99999999999999E+25)","v":-9.9999999999999902E+25},{"$f":"SUMIF(Sheet3!C151:C582,B163,Sheet3!D151:D582)","v":0},{"$f":"SUMIF(Sheet3!C151:C582,B163,Sheet3!G151:G582)","v":0},{"$f":"SUMIF(Sheet3!C151:C582,B163,Sheet3!F151:F582)","v":0},-5.801314190978087E-7,null,{"$f":"Sheet3!C151","v":2034},{"$f":"Sheet3!B151","v":3},{"$f":"Sheet3!E151","v":176969318.42059523},{"$f":"Sheet3!F151","v":1479375.9008749677},{"$f":"Sheet3!G151","v":884846.59210297605},{"$f":"Sheet3!H151","v":175489942.51972026},{"$f":"Sheet3!A151","v":2}]
[null,{"$f":"IF(B163+1<=Sheet3!$C$2,B163+1,-9.99999999999999E+25)","v":-9.9999999999999902E+25},{"$f":"SUMIF(Sheet3!C152:C583,B164,Sheet3!D152:D583)","v":0},{"$f":"SUMIF(Sheet3!C152:C583,B164,Sheet3!G152:G583)","v":0},{"$f":"SUMIF(Sheet3!C152:C583,B164,Sheet3!F152:F583)","v":0},-5.801314190978087E-7,null,{"$f":"Sheet3!C152","v":2034},{"$f":"Sheet3!B152","v":4},{"$f":"Sheet3!E152","v":175489942.51972026},{"$f":"Sheet3!F152","v":1486772.7803793424},{"$f":"Sheet3!G152","v":877449.71259860124},{"$f":"Sheet3!H152","v":174003169.7393409},{"$f":"Sheet3!A152","v":2}]
[null,{"$f":"IF(B164+1<=Sheet3!$C$2,B164+1,-9.99999999999999E+25)","v":-9.9999999999999902E+25},{"$f":"SUMIF(Sheet3!C153:C584,B165,Sheet3!D153:D584)","v":0},{"$f":"SUMIF(Sheet3!C153:C584,B165,Sheet3!G153:G584)","v":0},{"$f":"SUMIF(Sheet3!C153:C584,B165,Sheet3!F153:F584)","v":0},-5.801314190978087E-7,null,{"$f":"Sheet3!C153","v":2034},{"$f":"Sheet3!B153","v":5},{"$f":"Sheet3!E153","v":174003169.7393409},{"$f":"Sheet3!F153","v":1494206.6442812392},{"$f":"Sheet3!G153","v":870015.84869670449},{"$f":"Sheet3!H153","v":172508963.09505966},{"$f":"Sheet3!A153","v":2}]
[null,{"$f":"IF(B165+1<=Sheet3!$C$2,B165+1,-9.99999999999999E+25)","v":-9.9999999999999902E+25},{"$f":"SUMIF(Sheet3!C154:C585,B166,Sheet3!D154:D585)","v":0},{"$f":"SUMIF(Sheet3!C154:C585,B166,Sheet3!G154:G585)","v":0},{"$f":"SUMIF(Sheet3!C154:C585,B166,Sheet3!F154:F585)","v":0},-5.801314190978087E-7,null,{"$f":"Sheet3!C154","v":2034},{"$f":"Sheet3!B154","v":6},{"$f":"Sheet3!E154","v":172508963.09505966},{"$f":"Sheet3!F154","v":1501677.6775026456},{"$f":"Sheet3!G154","v":862544.81547529821},{"$f":"Sheet3!H154","v":171007285.41755703},{"$f":"Sheet3!A154","v":2}]
[null,{"$f":"IF(B166+1<=Sheet3!$C$2,B166+1,-9.99999999999999E+25)","v":-9.9999999999999902E+25},{"$f":"SUMIF(Sheet3!C155:C586,B167,Sheet3!D155:D586)","v":0},{"$f":"SUMIF(Sheet3!C155:C586,B167,Sheet3!G155:G586)","v":0},{"$f":"SUMIF(Sheet3!C155:C586,B167,Sheet3!F155:F586)","v":0},-5.801314190978087E-7,null,{"$f":"Sheet3!C155","v":2034},{"$f":"Sheet3!B155","v":7},{"$f":"Sheet3!E155","v":171007285.41755703},{"$f":"Sheet3!F155","v":1509186.0658901585},{"$f":"Sheet3!G155","v":855036.42708778509},{"$f":"Sheet3!H155","v":169498099.35166687},{"$f":"Sheet3!A155","v":2}]
[null,{"$f":"IF(B167+1<=Sheet3!$C$2,B167+1,-9.99999999999999E+25)","v":-9.9999999999999902E+25},{"$f":"SUMIF(Sheet3!C156:C587,B168,Sheet3!D156:D587)","v":0},{"$f":"SUMIF(Sheet3!C156:C587,B168,Sheet3!G156:G587)","v":0},{"$f":"SUMIF(Sheet3!C156:C587,B168,Sheet3!F156:F587)","v":0},-5.801314190978087E-7,null,{"$f":"Sheet3!C156","v":2034},{"$f":"Sheet3!B156","v":8},{"$f":"Sheet3!E156","v":169498099.35166687},{"$f":"Sheet3!F156","v":1516731.9962196094},{"$f":"Sheet3!G156","v":847490.49675833434},{"$f":"Sheet3!H156","v":167981367.35544726},{"$f":"Sheet3!A156","v":2}]
[null,{"$f":"IF(B168+1<=Sheet3!$C$2,B168+1,-9.99999999999999E+25)","v":-9.9999999999999902E+25},{"$f":"SUMIF(Sheet3!C157:C588,B169,Sheet3!D157:D588)","v":0},{"$f":"SUMIF(Sheet3!C157:C588,B169,Sheet3!G157:G588)","v":0},{"$f":"SUMIF(Sheet3!C157:C588,B169,Sheet3!F157:F588)","v":0},-5.801314190978087E-7,null,{"$f":"Sheet3!C157","v":2034},{"$f":"Sheet3!B157","v":9},{"$f":"Sheet3!E157","v":167981367.35544726},{"$f":"Sheet3!F157","v":1524315.6562007074},{"$f":"Sheet3!G157","v":839906.83677723631},{"$f":"Sheet3!H157","v":166457051.69924656},{"$f":"Sheet3!A157","v":2}]
[null,{"$f":"IF(B169+1<=Sheet3!$C$2,B169+1,-9.99999999999999E+25)","v":-9.9999999999999902E+25},{"$f":"SUMIF(Sheet3!C158:C589,B170,Sheet3!D158:D589)","v":0},{"$f":"SUMIF(Sheet3!C158:C589,B170,Sheet3!G158:G589)","v":0},{"$f":"SUMIF(Sheet3!C158:C589,B170,Sheet3!F158:F589)","v":0},-5.801314190978087E-7,null,{"$f":"Sheet3!C158","v":2034},{"$f":"Sheet3!B158","v":10},{"$f":"Sheet3!E158","v":166457051.69924656},{"$f":"Sheet3!F158","v":1531937.2344817109},{"$f":"Sheet3!G158","v":832285.2584962328},{"$f":"Sheet3!H158","v":164925114.46476483},{"$f":"Sheet3!A158","v":2}]
[null,{"$f":"IF(B170+1<=Sheet3!$C$2,B170+1,-9.99999999999999E+25)","v":-9.9999999999999902E+25},{"$f":"SUMIF(Sheet3!C159:C590,B171,Sheet3!D159:D590)","v":0},{"$f":"SUMIF(Sheet3!C159:C590,B171,Sheet3!G159:G590)","v":0},{"$f":"SUMIF(Sheet3!C159:C590,B171,Sheet3!F159:F590)","v":0},-5.801314190978087E-7,null,{"$f":"Sheet3!C159","v":2034},{"$f":"Sheet3!B159","v":11},{"$f":"Sheet3!E159","v":164925114.46476483},{"$f":"Sheet3!F159","v":1539596.9206541195},{"$f":"Sheet3!G159","v":824625.57232382416},{"$f":"Sheet3!H159","v":163385517.54411072},{"$f":"Sheet3!A159","v":2}]
[null,{"$f":"IF(B171+1<=Sheet3!$C$2,B171+1,-9.99999999999999E+25)","v":-9.9999999999999902E+25},{"$f":"SUMIF(Sheet3!C160:C591,B172,Sheet3!D160:D591)","v":0},{"$f":"SUMIF(Sheet3!C160:C591,B172,Sheet3!G160:G591)","v":0},{"$f":"SUMIF(Sheet3!C160:C591,B172,Sheet3!F160:F591)","v":0},-5.801314190978087E-7,null,{"$f":"Sheet3!C160","v":2034},{"$f":"Sheet3!B160","v":12},{"$f":"Sheet3!E160","v":163385517.54411072},{"$f":"Sheet3!F160","v":1547294.9052573903},{"$f":"Sheet3!G160","v":816927.58772055351},{"$f":"Sheet3!H160","v":161838222.63885331},{"$f":"Sheet3!A160","v":2}]
[null,{"$f":"IF(B172+1<=Sheet3!$C$2,B172+1,-9.99999999999999E+25)","v":-9.9999999999999902E+25},{"$f":"SUMIF(Sheet3!C161:C592,B173,Sheet3!D161:D592)","v":0},{"$f":"SUMIF(Sheet3!C161:C592,B173,Sheet3!G161:G592)","v":0},{"$f":"SUMIF(Sheet3!C161:C592,B173,Sheet3!F161:F592)","v":0},-5.801314190978087E-7,null,{"$f":"Sheet3!C161","v":2035},{"$f":"Sheet3!B161","v":1},{"$f":"Sheet3!E161","v":161838222.63885331},{"$f":"Sheet3!F161","v":1555031.3797836774},{"$f":"Sheet3!G161","v":809191.11319426645},{"$f":"Sheet3!H161","v":160283191.25906962},{"$f":"Sheet3!A161","v":2}]
[null,{"$f":"IF(B173+1<=Sheet3!$C$2,B173+1,-9.99999999999999E+25)","v":-9.9999999999999902E+25},{"$f":"SUMIF(Sheet3!C162:C593,B174,Sheet3!D162:D593)","v":0},{"$f":"SUMIF(Sheet3!C162:C593,B174,Sheet3!G162:G593)","v":0},{"$f":"SUMIF(Sheet3!C162:C593,B174,Sheet3!F162:F593)","v":0},-5.801314190978087E-7,null,{"$f":"Sheet3!C162","v":2035},{"$f":"Sheet3!B162","v":2},{"$f":"Sheet3!E162","v":160283191.25906962},{"$f":"Sheet3!F162","v":1562806.5366825955},{"$f":"Sheet3!G162","v":801415.95629534812},{"$f":"Sheet3!H162","v":158720384.72238702},{"$f":"Sheet3!A162","v":2}]
[null,{"$f":"IF(B174+1<=Sheet3!$C$2,B174+1,-9.99999999999999E+25)","v":-9.9999999999999902E+25},{"$f":"SUMIF(Sheet3!C163:C594,B175,Sheet3!D163:D594)","v":0},{"$f":"SUMIF(Sheet3!C163:C594,B175,Sheet3!G163:G594)","v":0},{"$f":"SUMIF(Sheet3!C163:C594,B175,Sheet3!F163:F594)","v":0},-5.801314190978087E-7,null,{"$f":"Sheet3!C163","v":2035},{"$f":"Sheet3!B163","v":3},{"$f":"Sheet3!E163","v":158720384.72238702},{"$f":"Sheet3!F163","v":1570620.5693660085},{"$f":"Sheet3!G163","v":793601.92361193511},{"$f":"Sheet3!H163","v":157149764.15302101},{"$f":"Sheet3!A163","v":2}]
[null,{"$f":"IF(B175+1<=Sheet3!$C$2,B175+1,-9.99999999999999E+25)","v":-9.9999999999999902E+25},{"$f":"SUMIF(Sheet3!C164:C595,B176,Sheet3!D164:D595)","v":0},{"$f":"SUMIF(Sheet3!C164:C595,B176,Sheet3!G164:G595)","v":0},{"$f":"SUMIF(Sheet3!C164:C595,B176,Sheet3!F164:F595)","v":0},-5.801314190978087E-7,null,{"$f":"Sheet3!C164","v":2035},{"$f":"Sheet3!B164","v":4},{"$f":"Sheet3!E164","v":157149764.15302101},{"$f":"Sheet3!F164","v":1578473.6722128387},{"$f":"Sheet3!G164","v":785748.82076510508},{"$f":"Sheet3!H164","v":155571290.48080817},{"$f":"Sheet3!A164","v":2}]
[null,{"$f":"IF(B176+1<=Sheet3!$C$2,B176+1,-9.99999999999999E+25)","v":-9.9999999999999902E+25},{"$f":"SUMIF(Sheet3!C165:C596,B177,Sheet3!D165:D596)","v":0},{"$f":"SUMIF(Sheet3!C165:C596,B177,Sheet3!G165:G596)","v":0},{"$f":"SUMIF(Sheet3!C165:C596,B177,Sheet3!F165:F596)","v":0},-5.801314190978087E-7,null,{"$f":"Sheet3!C165","v":2035},{"$f":"Sheet3!B165","v":5},{"$f":"Sheet3!E165","v":155571290.48080817},{"$f":"Sheet3!F165","v":1586366.0405739029},{"$f":"Sheet3!G165","v":777856.45240404084},{"$f":"Sheet3!H165","v":153984924.44023427},{"$f":"Sheet3!A165","v":2}]
[null,{"$f":"IF(B177+1<=Sheet3!$C$2,B177+1,-9.99999999999999E+25)","v":-9.9999999999999902E+25},{"$f":"SUMIF(Sheet3!C166:C597,B178,Sheet3!D166:D597)","v":0},{"$f":"SUMIF(Sheet3!C166:C597,B178,Sheet3!G166:G597)","v":0},{"$f":"SUMIF(Sheet3!C166:C597,B178,Sheet3!F166:F597)","v":0},-5.801314190978087E-7,null,{"$f":"Sheet3!C166","v":2035},{"$f":"Sheet3!B166","v":6},{"$f":"Sheet3!E166","v":153984924.44023427},{"$f":"Sheet3!F166","v":1594297.8707767725},{"$f":"Sheet3!G166","v":769924.62220117135},{"$f":"Sheet3!H166","v":152390626.5694575},{"$f":"Sheet3!A166","v":2}]
[null,{"$f":"IF(B178+1<=Sheet3!$C$2,B178+1,-9.99999999999999E+25)","v":-9.9999999999999902E+25},{"$f":"SUMIF(Sheet3!C167:C598,B179,Sheet3!D167:D598)","v":0},{"$f":"SUMIF(Sheet3!C167:C598,B179,Sheet3!G167:G598)","v":0},{"$f":"SUMIF(Sheet3!C167:C598,B179,Sheet3!F167:F598)","v":0},-5.801314190978087E-7,null,{"$f":"Sheet3!C167","v":2035},{"$f":"Sheet3!B167","v":7},{"$f":"Sheet3!E167","v":152390626.5694575},{"$f":"Sheet3!F167","v":1602269.360130656},{"$f":"Sheet3!G167","v":761953.13284728758},{"$f":"Sheet3!H167","v":150788357.20932683},{"$f":"Sheet3!A167","v":2}]
[null,{"$f":"IF(B179+1<=Sheet3!$C$2,B179+1,-9.99999999999999E+25)","v":-9.9999999999999902E+25},{"$f":"SUMIF(Sheet3!C168:C599,B180,Sheet3!D168:D599)","v":0},{"$f":"SUMIF(Sheet3!C168:C599,B180,Sheet3!G168:G599)","v":0},{"$f":"SUMIF(Sheet3!C168:C599,B180,Sheet3!F168:F599)","v":0},-5.801314190978087E-7,null,{"$f":"Sheet3!C168","v":2035},{"$f":"Sheet3!B168","v":8},{"$f":"Sheet3!E168","v":150788357.20932683},{"$f":"Sheet3!F168","v":1610280.7069313098},{"$f":"Sheet3!G168","v":753941.78604663408},{"$f":"Sheet3!H168","v":149178076.50239551},{"$f":"Sheet3!A168","v":2}]
[null,{"$f":"IF(B180+1<=Sheet3!$C$2,B180+1,-9.99999999999999E+25)","v":-9.9999999999999902E+25},{"$f":"SUMIF(Sheet3!C169:C600,B181,Sheet3!D169:D600)","v":0},{"$f":"SUMIF(Sheet3!C169:C600,B181,Sheet3!G169:G600)","v":0},{"$f":"SUMIF(Sheet3!C169:C600,B181,Sheet3!F169:F600)","v":0},-5.801314190978087E-7,null,{"$f":"Sheet3!C169","v":2035},{"$f":"Sheet3!B169","v":9},{"$f":"Sheet3!E169","v":149178076.50239551},{"$f":"Sheet3!F169","v":1618332.1104659662},{"$f":"Sheet3!G169","v":745890.38251197757},{"$f":"Sheet3!H169","v":147559744.39192954},{"$f":"Sheet3!A169","v":2}]
[null,{"$f":"IF(B181+1<=Sheet3!$C$2,B181+1,-9.99999999999999E+25)","v":-9.9999999999999902E+25},{"$f":"SUMIF(Sheet3!C170:C601,B182,Sheet3!D170:D601)","v":0},{"$f":"SUMIF(Sheet3!C170:C601,B182,Sheet3!G170:G601)","v":0},{"$f":"SUMIF(Sheet3!C170:C601,B182,Sheet3!F170:F601)","v":0},-5.801314190978087E-7,null,{"$f":"Sheet3!C170","v":2035},{"$f":"Sheet3!B170","v":10},{"$f":"Sheet3!E170","v":147559744.39192954},{"$f":"Sheet3!F170","v":1626423.771018296},{"$f":"Sheet3!G170","v":737798.72195964772},{"$f":"Sheet3!H170","v":145933320.62091124},{"$f":"Sheet3!A170","v":2}]
[null,{"$f":"IF(B182+1<=Sheet3!$C$2,B182+1,-9.99999999999999E+25)","v":-9.9999999999999902E+25},{"$f":"SUMIF(Sheet3!C171:C602,B183,Sheet3!D171:D602)","v":0},{"$f":"SUMIF(Sheet3!C171:C602,B183,Sheet3!G171:G602)","v":0},{"$f":"SUMIF(Sheet3!C171:C602,B183,Sheet3!F171:F602)","v":0},-5.801314190978087E-7,null,{"$f":"Sheet3!C171","v":2035},{"$f":"Sheet3!B171","v":11},{"$f":"Sheet3!E171","v":145933320.62091124},{"$f":"Sheet3!F171","v":1634555.8898733878},{"$f":"Sheet3!G171","v":729666.6031045561},{"$f":"Sheet3!H171","v":144298764.73103786},{"$f":"Sheet3!A171","v":2}]
[null,{"$f":"IF(B183+1<=Sheet3!$C$2,B183+1,-9.99999999999999E+25)","v":-9.9999999999999902E+25},{"$f":"SUMIF(Sheet3!C172:C603,B184,Sheet3!D172:D603)","v":0},{"$f":"SUMIF(Sheet3!C172:C603,B184,Sheet3!G172:G603)","v":0},{"$f":"SUMIF(Sheet3!C172:C603,B184,Sheet3!F172:F603)","v":0},-5.801314190978087E-7,null,{"$f":"Sheet3!C172","v":2035},{"$f":"Sheet3!B172","v":12},{"$f":"Sheet3!E172","v":144298764.73103786},{"$f":"Sheet3!F172","v":1642728.6693227543},{"$f":"Sheet3!G172","v":721493.82365518936},{"$f":"Sheet3!H172","v":142656036.0617151},{"$f":"Sheet3!A172","v":2}]
[null,{"$f":"IF(B184+1<=Sheet3!$C$2,B184+1,-9.99999999999999E+25)","v":-9.9999999999999902E+25},{"$f":"SUMIF(Sheet3!C173:C604,B185,Sheet3!D173:D604)","v":0},{"$f":"SUMIF(Sheet3!C173:C604,B185,Sheet3!G173:G604)","v":0},{"$f":"SUMIF(Sheet3!C173:C604,B185,Sheet3!F173:F604)","v":0},-5.801314190978087E-7,null,{"$f":"Sheet3!C173","v":2036},{"$f":"Sheet3!B173","v":1},{"$f":"Sheet3!E173","v":142656036.0617151},{"$f":"Sheet3!F173","v":1650942.3126693685},{"$f":"Sheet3!G173","v":713280.18030857539},{"$f":"Sheet3!H173","v":141005093.74904573},{"$f":"Sheet3!A173","v":2}]
[null,{"$f":"IF(B185+1<=Sheet3!$C$2,B185+1,-9.99999999999999E+25)","v":-9.9999999999999902E+25},{"$f":"SUMIF(Sheet3!C174:C605,B186,Sheet3!D174:D605)","v":0},{"$f":"SUMIF(Sheet3!C174:C605,B186,Sheet3!G174:G605)","v":0},{"$f":"SUMIF(Sheet3!C174:C605,B186,Sheet3!F174:F605)","v":0},-5.801314190978087E-7,null,{"$f":"Sheet3!C174","v":2036},{"$f":"Sheet3!B174","v":2},{"$f":"Sheet3!E174","v":141005093.74904573},{"$f":"Sheet3!F174","v":1659197.0242327149},{"$f":"Sheet3!G174","v":705025.46874522872},{"$f":"Sheet3!H174","v":139345896.72481301},{"$f":"Sheet3!A174","v":2}]
[null,{"$f":"IF(B186+1<=Sheet3!$C$2,B186+1,-9.99999999999999E+25)","v":-9.9999999999999902E+25},{"$f":"SUMIF(Sheet3!C175:C606,B187,Sheet3!D175:D606)","v":0},{"$f":"SUMIF(Sheet3!C175:C606,B187,Sheet3!G175:G606)","v":0},{"$f":"SUMIF(Sheet3!C175:C606,B187,Sheet3!F175:F606)","v":0},-5.801314190978087E-7,null,{"$f":"Sheet3!C175","v":2036},{"$f":"Sheet3!B175","v":3},{"$f":"Sheet3!E175","v":139345896.72481301},{"$f":"Sheet3!F175","v":1667493.0093538787},{"$f":"Sheet3!G175","v":696729.48362406506},{"$f":"Sheet3!H175","v":137678403.71545914},{"$f":"Sheet3!A175","v":2}]
[null,{"$f":"IF(B187+1<=Sheet3!$C$2,B187+1,-9.99999999999999E+25)","v":-9.9999999999999902E+25},{"$f":"SUMIF(Sheet3!C176:C607,B188,Sheet3!D176:D607)","v":0},{"$f":"SUMIF(Sheet3!C176:C607,B188,Sheet3!G176:G607)","v":0},{"$f":"SUMIF(Sheet3!C176:C607,B188,Sheet3!F176:F607)","v":0},-5.801314190978087E-7,null,{"$f":"Sheet3!C176","v":2036},{"$f":"Sheet3!B176","v":4},{"$f":"Sheet3!E176","v":137678403.71545914},{"$f":"Sheet3!F176","v":1675830.4744006479},{"$f":"Sheet3!G176","v":688392.0185772957},{"$f":"Sheet3!H176","v":136002573.2410585},{"$f":"Sheet3!A176","v":2}]
[null,{"$f":"IF(B188+1<=Sheet3!$C$2,B188+1,-9.99999999999999E+25)","v":-9.9999999999999902E+25},{"$f":"SUMIF(Sheet3!C177:C608,B189,Sheet3!D177:D608)","v":0},{"$f":"SUMIF(Sheet3!C177:C608,B189,Sheet3!G177:G608)","v":0},{"$f":"SUMIF(Sheet3!C177:C608,B189,Sheet3!F177:F608)","v":0},-5.801314190978087E-7,null,{"$f":"Sheet3!C177","v":2036},{"$f":"Sheet3!B177","v":5},{"$f":"Sheet3!E177","v":136002573.2410585},{"$f":"Sheet3!F177","v":1684209.6267726514},{"$f":"Sheet3!G177","v":680012.8662052924},{"$f":"Sheet3!H177","v":134318363.61428586},{"$f":"Sheet3!A177","v":2}]
[null,{"$f":"IF(B189+1<=Sheet3!$C$2,B189+1,-9.99999999999999E+25)","v":-9.9999999999999902E+25},{"$f":"SUMIF(Sheet3!C178:C609,B190,Sheet3!D178:D609)","v":0},{"$f":"SUMIF(Sheet3!C178:C609,B190,Sheet3!G178:G609)","v":0},{"$f":"SUMIF(Sheet3!C178:C609,B190,Sheet3!F178:F609)","v":0},-5.801314190978087E-7,null,{"$f":"Sheet3!C178","v":2036},{"$f":"Sheet3!B178","v":6},{"$f":"Sheet3!E178","v":134318363.61428586},{"$f":"Sheet3!F178","v":1692630.6749065146},{"$f":"Sheet3!G178","v":671591.81807142927},{"$f":"Sheet3!H178","v":132625732.93937933},{"$f":"Sheet3!A178","v":2}]
[null,{"$f":"IF(B190+1<=Sheet3!$C$2,B190+1,-9.99999999999999E+25)","v":-9.9999999999999902E+25},{"$f":"SUMIF(Sheet3!C179:C610,B191,Sheet3!D179:D610)","v":0},{"$f":"SUMIF(Sheet3!C179:C610,B191,Sheet3!G179:G610)","v":0},{"$f":"SUMIF(Sheet3!C179:C610,B191,Sheet3!F179:F610)","v":0},-5.801314190978087E-7,null,{"$f":"Sheet3!C179","v":2036},{"$f":"Sheet3!B179","v":7},{"$f":"Sheet3!E179","v":132625732.93937933},{"$f":"Sheet3!F179","v":1701093.8282810471},{"$f":"Sheet3!G179","v":663128.66469689668},{"$f":"Sheet3!H179","v":130924639.11109829},{"$f":"Sheet3!A179","v":2}]
[null,{"$f":"IF(B191+1<=Sheet3!$C$2,B191+1,-9.99999999999999E+25)","v":-9.9999999999999902E+25},{"$f":"SUMIF(Sheet3!C180:C611,B192,Sheet3!D180:D611)","v":0},{"$f":"SUMIF(Sheet3!C180:C611,B192,Sheet3!G180:G611)","v":0},{"$f":"SUMIF(Sheet3!C180:C611,B192,Sheet3!F180:F611)","v":0},-5.801314190978087E-7,null,{"$f":"Sheet3!C180","v":2036},{"$f":"Sheet3!B180","v":8},{"$f":"Sheet3!E180","v":130924639.11109829},{"$f":"Sheet3!F180","v":1709599.2974224524},{"$f":"Sheet3!G180","v":654623.19555549149},{"$f":"Sheet3!H180","v":129215039.81367584},{"$f":"Sheet3!A180","v":2}]
[null,{"$f":"IF(B192+1<=Sheet3!$C$2,B192+1,-9.99999999999999E+25)","v":-9.9999999999999902E+25},{"$f":"SUMIF(Sheet3!C181:C612,B193,Sheet3!D181:D612)","v":0},{"$f":"SUMIF(Sheet3!C181:C612,B193,Sheet3!G181:G612)","v":0},{"$f":"SUMIF(Sheet3!C181:C612,B193,Sheet3!F181:F612)","v":0},-5.801314190978087E-7,null,{"$f":"Sheet3!C181","v":2036},{"$f":"Sheet3!B181","v":9},{"$f":"Sheet3!E181","v":129215039.81367584},{"$f":"Sheet3!F181","v":1718147.2939095646},{"$f":"Sheet3!G181","v":646075.19906837912},{"$f":"Sheet3!H181","v":127496892.51976627},{"$f":"Sheet3!A181","v":2}]
[null,{"$f":"IF(B193+1<=Sheet3!$C$2,B193+1,-9.99999999999999E+25)","v":-9.9999999999999902E+25},{"$f":"SUMIF(Sheet3!C182:C613,B194,Sheet3!D182:D613)","v":0},{"$f":"SUMIF(Sheet3!C182:C613,B194,Sheet3!G182:G613)","v":0},{"$f":"SUMIF(Sheet3!C182:C613,B194,Sheet3!F182:F613)","v":0},-5.801314190978087E-7,null,{"$f":"Sheet3!C182","v":2036},{"$f":"Sheet3!B182","v":10},{"$f":"Sheet3!E182","v":127496892.51976627},{"$f":"Sheet3!F182","v":1726738.0303791123},{"$f":"Sheet3!G182","v":637484.46259883128},{"$f":"Sheet3!H182","v":125770154.48938715},{"$f":"Sheet3!A182","v":2}]
[null,{"$f":"IF(B194+1<=Sheet3!$C$2,B194+1,-9.99999999999999E+25)","v":-9.9999999999999902E+25},{"$f":"SUMIF(Sheet3!C183:C614,B195,Sheet3!D183:D614)","v":0},{"$f":"SUMIF(Sheet3!C183:C614,B195,Sheet3!G183:G614)","v":0},{"$f":"SUMIF(Sheet3!C183:C614,B195,Sheet3!F183:F614)","v":0},-5.801314190978087E-7,null,{"$f":"Sheet3!C183","v":2036},{"$f":"Sheet3!B183","v":11},{"$f":"Sheet3!E183","v":125770154.48938715},{"$f":"Sheet3!F183","v":1735371.720531008},{"$f":"Sheet3!G183","v":628850.77244693576},{"$f":"Sheet3!H183","v":124034782.76885615},{"$f":"Sheet3!A183","v":2}]
[null,{"$f":"IF(B195+1<=Sheet3!$C$2,B195+1,-9.99999999999999E+25)","v":-9.9999999999999902E+25},{"$f":"SUMIF(Sheet3!C184:C615,B196,Sheet3!D184:D615)","v":0},{"$f":"SUMIF(Sheet3!C184:C615,B196,Sheet3!G184:G615)","v":0},{"$f":"SUMIF(Sheet3!C184:C615,B196,Sheet3!F184:F615)","v":0},-5.801314190978087E-7,null,{"$f":"Sheet3!C184","v":2036},{"$f":"Sheet3!B184","v":12},{"$f":"Sheet3!E184","v":124034782.76885615},{"$f":"Sheet3!F184","v":1744048.5791336629},{"$f":"Sheet3!G184","v":620173.91384428076},{"$f":"Sheet3!H184","v":122290734.18972249},{"$f":"Sheet3!A184","v":2}]
[null,{"$f":"IF(B196+1<=Sheet3!$C$2,B196+1,-9.99999999999999E+25)","v":-9.9999999999999902E+25},{"$f":"SUMIF(Sheet3!C185:C616,B197,Sheet3!D185:D616)","v":0},{"$f":"SUMIF(Sheet3!C185:C616,B197,Sheet3!G185:G616)","v":0},{"$f":"SUMIF(Sheet3!C185:C616,B197,Sheet3!F185:F616)","v":0},-5.801314190978087E-7,null,{"$f":"Sheet3!C185","v":2037},{"$f":"Sheet3!B185","v":1},{"$f":"Sheet3!E185","v":122290734.18972249},{"$f":"Sheet3!F185","v":1752768.8220293312},{"$f":"Sheet3!G185","v":611453.67094861239},{"$f":"Sheet3!H185","v":120537965.36769316},{"$f":"Sheet3!A185","v":2}]
[null,{"$f":"IF(B197+1<=Sheet3!$C$2,B197+1,-9.99999999999999E+25)","v":-9.9999999999999902E+25},{"$f":"SUMIF(Sheet3!C186:C617,B198,Sheet3!D186:D617)","v":0},{"$f":"SUMIF(Sheet3!C186:C617,B198,Sheet3!G186:G617)","v":0},{"$f":"SUMIF(Sheet3!C186:C617,B198,Sheet3!F186:F617)","v":0},-5.801314190978087E-7,null,{"$f":"Sheet3!C186","v":2037},{"$f":"Sheet3!B186","v":2},{"$f":"Sheet3!E186","v":120537965.36769316},{"$f":"Sheet3!F186","v":1761532.6661394779},{"$f":"Sheet3!G186","v":602689.82683846576},{"$f":"Sheet3!H186","v":118776432.70155367},{"$f":"Sheet3!A186","v":2}]
[null,{"$f":"IF(B198+1<=Sheet3!$C$2,B198+1,-9.99999999999999E+25)","v":-9.9999999999999902E+25},{"$f":"SUMIF(Sheet3!C187:C618,B199,Sheet3!D187:D618)","v":0},{"$f":"SUMIF(Sheet3!C187:C618,B199,Sheet3!G187:G618)","v":0},{"$f":"SUMIF(Sheet3!C187:C618,B199,Sheet3!F187:F618)","v":0},-5.801314190978087E-7,null,{"$f":"Sheet3!C187","v":2037},{"$f":"Sheet3!B187","v":3},{"$f":"Sheet3!E187","v":118776432.70155367},{"$f":"Sheet3!F187","v":1770340.3294701753},{"$f":"Sheet3!G187","v":593882.1635077683},{"$f":"Sheet3!H187","v":117006092.3720835},{"$f":"Sheet3!A187","v":2}]
[null,{"$f":"IF(B199+1<=Sheet3!$C$2,B199+1,-9.99999999999999E+25)","v":-9.9999999999999902E+25},{"$f":"SUMIF(Sheet3!C188:C619,B200,Sheet3!D188:D619)","v":0},{"$f":"SUMIF(Sheet3!C188:C619,B200,Sheet3!G188:G619)","v":0},{"$f":"SUMIF(Sheet3!C188:C619,B200,Sheet3!F188:F619)","v":0},-5.801314190978087E-7,null,{"$f":"Sheet3!C188","v":2037},{"$f":"Sheet3!B188","v":4},{"$f":"Sheet3!E188","v":117006092.3720835},{"$f":"Sheet3!F188","v":1779192.0311175263},{"$f":"Sheet3!G188","v":585030.4618604175},{"$f":"Sheet3!H188","v":115226900.34096597},{"$f":"Sheet3!A188","v":2}]
[null,{"$f":"IF(B200+1<=Sheet3!$C$2,B200+1,-9.99999999999999E+25)","v":-9.9999999999999902E+25},{"$f":"SUMIF(Sheet3!C189:C620,B201,Sheet3!D189:D620)","v":0},{"$f":"SUMIF(Sheet3!C189:C620,B201,Sheet3!G189:G620)","v":0},{"$f":"SUMIF(Sheet3!C189:C620,B201,Sheet3!F189:F620)","v":0},-5.801314190978087E-7,null,{"$f":"Sheet3!C189","v":2037},{"$f":"Sheet3!B189","v":5},{"$f":"Sheet3!E189","v":115226900.34096597},{"$f":"Sheet3!F189","v":1788087.991273114},{"$f":"Sheet3!G189","v":576134.50170482986},{"$f":"Sheet3!H189","v":113438812.34969285},{"$f":"Sheet3!A189","v":2}]
[null,{"$f":"IF(B201+1<=Sheet3!$C$2,B201+1,-9.99999999999999E+25)","v":-9.9999999999999902E+25},{"$f":"SUMIF(Sheet3!C190:C621,B202,Sheet3!D190:D621)","v":0},{"$f":"SUMIF(Sheet3!C190:C621,B202,Sheet3!G190:G621)","v":0},{"$f":"SUMIF(Sheet3!C190:C621,B202,Sheet3!F190:F621)","v":0},-5.801314190978087E-7,null,{"$f":"Sheet3!C190","v":2037},{"$f":"Sheet3!B190","v":6},{"$f":"Sheet3!E190","v":113438812.34969285},{"$f":"Sheet3!F190","v":1797028.4312294796},{"$f":"Sheet3!G190","v":567194.06174846424},{"$f":"Sheet3!H190","v":111641783.91846338},{"$f":"Sheet3!A190","v":2}]
[null,{"$f":"IF(B202+1<=Sheet3!$C$2,B202+1,-9.99999999999999E+25)","v":-9.9999999999999902E+25},{"$f":"SUMIF(Sheet3!C191:C622,B203,Sheet3!D191:D622)","v":0},{"$f":"SUMIF(Sheet3!C191:C622,B203,Sheet3!G191:G622)","v":0},{"$f":"SUMIF(Sheet3!C191:C622,B203,Sheet3!F191:F622)","v":0},-5.801314190978087E-7,null,{"$f":"Sheet3!C191","v":2037},{"$f":"Sheet3!B191","v":7},{"$f":"Sheet3!E191","v":111641783.91846338},{"$f":"Sheet3!F191","v":1806013.573385627},{"$f":"Sheet3!G191","v":558208.91959231684},{"$f":"Sheet3!H191","v":109835770.34507775},{"$f":"Sheet3!A191","v":2}]
[null,{"$f":"IF(B203+1<=Sheet3!$C$2,B203+1,-9.99999999999999E+25)","v":-9.9999999999999902E+25},{"$f":"SUMIF(Sheet3!C192:C623,B204,Sheet3!D192:D623)","v":0},{"$f":"SUMIF(Sheet3!C192:C623,B204,Sheet3!G192:G623)","v":0},{"$f":"SUMIF(Sheet3!C192:C623,B204,Sheet3!F192:F623)","v":0},-5.801314190978087E-7,null,{"$f":"Sheet3!C192","v":2037},{"$f":"Sheet3!B192","v":8},{"$f":"Sheet3!E192","v":109835770.34507775},{"$f":"Sheet3!F192","v":1815043.641252555},{"$f":"Sheet3!G192","v":549178.85172538867},{"$f":"Sheet3!H192","v":108020726.70382521},{"$f":"Sheet3!A192","v":2}]
[null,{"$f":"IF(B204+1<=Sheet3!$C$2,B204+1,-9.99999999999999E+25)","v":-9.9999999999999902E+25},{"$f":"SUMIF(Sheet3!C193:C624,B205,Sheet3!D193:D624)","v":0},{"$f":"SUMIF(Sheet3!C193:C624,B205,Sheet3!G193:G624)","v":0},{"$f":"SUMIF(Sheet3!C193:C624,B205,Sheet3!F193:F624)","v":0},-5.801314190978087E-7,null,{"$f":"Sheet3!C193","v":2037},{"$f":"Sheet3!B193","v":9},{"$f":"Sheet3!E193","v":108020726.70382521},{"$f":"Sheet3!F193","v":1824118.8594588176},{"$f":"Sheet3!G193","v":540103.63351912599},{"$f":"Sheet3!H193","v":106196607.84436639},{"$f":"Sheet3!A193","v":2}]
[null,{"$f":"IF(B205+1<=Sheet3!$C$2,B205+1,-9.99999999999999E+25)","v":-9.9999999999999902E+25},{"$f":"SUMIF(Sheet3!C194:C625,B206,Sheet3!D194:D625)","v":0},{"$f":"SUMIF(Sheet3!C194:C625,B206,Sheet3!G194:G625)","v":0},{"$f":"SUMIF(Sheet3!C194:C625,B206,Sheet3!F194:F625)","v":0},-5.801314190978087E-7,null,{"$f":"Sheet3!C194","v":2037},{"$f":"Sheet3!B194","v":10},{"$f":"Sheet3!E194","v":106196607.84436639},{"$f":"Sheet3!F194","v":1833239.4537561117},{"$f":"Sheet3!G194","v":530983.03922183195},{"$f":"Sheet3!H194","v":104363368.39061028},{"$f":"Sheet3!A194","v":2}]
[null,{"$f":"IF(B206+1<=Sheet3!$C$2,B206+1,-9.99999999999999E+25)","v":-9.9999999999999902E+25},{"$f":"SUMIF(Sheet3!C195:C626,B207,Sheet3!D195:D626)","v":0},{"$f":"SUMIF(Sheet3!C195:C626,B207,Sheet3!G195:G626)","v":0},{"$f":"SUMIF(Sheet3!C195:C626,B207,Sheet3!F195:F626)","v":0},-5.801314190978087E-7,null,{"$f":"Sheet3!C195","v":2037},{"$f":"Sheet3!B195","v":11},{"$f":"Sheet3!E195","v":104363368.39061028},{"$f":"Sheet3!F195","v":1842405.6510248925},{"$f":"Sheet3!G195","v":521816.84195305133},{"$f":"Sheet3!H195","v":102520962.73958538},{"$f":"Sheet3!A195","v":2}]
[null,{"$f":"IF(B207+1<=Sheet3!$C$2,B207+1,-9.99999999999999E+25)","v":-9.9999999999999902E+25},{"$f":"SUMIF(Sheet3!C196:C627,B208,Sheet3!D196:D627)","v":0},{"$f":"SUMIF(Sheet3!C196:C627,B208,Sheet3!G196:G627)","v":0},{"$f":"SUMIF(Sheet3!C196:C627,B208,Sheet3!F196:F627)","v":0},-5.801314190978087E-7,null,{"$f":"Sheet3!C196","v":2037},{"$f":"Sheet3!B196","v":12},{"$f":"Sheet3!E196","v":102520962.73958538},{"$f":"Sheet3!F196","v":1851617.6792800168},{"$f":"Sheet3!G196","v":512604.81369792693},{"$f":"Sheet3!H196","v":100669345.06030537},{"$f":"Sheet3!A196","v":2}]
[null,{"$f":"IF(B208+1<=Sheet3!$C$2,B208+1,-9.99999999999999E+25)","v":-9.9999999999999902E+25},{"$f":"SUMIF(Sheet3!C197:C628,B209,Sheet3!D197:D628)","v":0},{"$f":"SUMIF(Sheet3!C197:C628,B209,Sheet3!G197:G628)","v":0},{"$f":"SUMIF(Sheet3!C197:C628,B209,Sheet3!F197:F628)","v":0},-5.801314190978087E-7,null,{"$f":"Sheet3!C197","v":2038},{"$f":"Sheet3!B197","v":1},{"$f":"Sheet3!E197","v":100669345.06030537},{"$f":"Sheet3!F197","v":1860875.7676764168},{"$f":"Sheet3!G197","v":503346.72530152689},{"$f":"Sheet3!H197","v":98808469.292628959},{"$f":"Sheet3!A197","v":2}]
[null,{"$f":"IF(B209+1<=Sheet3!$C$2,B209+1,-9.99999999999999E+25)","v":-9.9999999999999902E+25},{"$f":"SUMIF(Sheet3!C198:C629,B210,Sheet3!D198:D629)","v":0},{"$f":"SUMIF(Sheet3!C198:C629,B210,Sheet3!G198:G629)","v":0},{"$f":"SUMIF(Sheet3!C198:C629,B210,Sheet3!F198:F629)","v":0},-5.801314190978087E-7,null,{"$f":"Sheet3!C198","v":2038},{"$f":"Sheet3!B198","v":2},{"$f":"Sheet3!E198","v":98808469.292628959},{"$f":"Sheet3!F198","v":1870180.146514799},{"$f":"Sheet3!G198","v":494042.34646314476},{"$f":"Sheet3!H198","v":96938289.146114156},{"$f":"Sheet3!A198","v":2}]
[null,{"$f":"IF(B210+1<=Sheet3!$C$2,B210+1,-9.99999999999999E+25)","v":-9.9999999999999902E+25},{"$f":"SUMIF(Sheet3!C199:C630,B211,Sheet3!D199:D630)","v":0},{"$f":"SUMIF(Sheet3!C199:C630,B211,Sheet3!G199:G630)","v":0},{"$f":"SUMIF(Sheet3!C199:C630,B211,Sheet3!F199:F630)","v":0},-5.801314190978087E-7,null,{"$f":"Sheet3!C199","v":2038},{"$f":"Sheet3!B199","v":3},{"$f":"Sheet3!E199","v":96938289.146114156},{"$f":"Sheet3!F199","v":1879531.047247373},{"$f":"Sheet3!G199","v":484691.44573057076},{"$f":"Sheet3!H199","v":95058758.098866776},{"$f":"Sheet3!A199","v":2}]
[null,{"$f":"IF(B211+1<=Sheet3!$C$2,B211+1,-9.99999999999999E+25)","v":-9.9999999999999902E+25},{"$f":"SUMIF(Sheet3!C200:C631,B212,Sheet3!D200:D631)","v":0},{"$f":"SUMIF(Sheet3!C200:C631,B212,Sheet3!G200:G631)","v":0},{"$f":"SUMIF(Sheet3!C200:C631,B212,Sheet3!F200:F631)","v":0},-5.801314190978087E-7,null,{"$f":"Sheet3!C200","v":2038},{"$f":"Sheet3!B200","v":4},{"$f":"Sheet3!E200","v":95058758.098866776},{"$f":"Sheet3!F200","v":1888928.7024836098},{"$f":"Sheet3!G200","v":475293.79049433389},{"$f":"Sheet3!H200","v":93169829.396383166},{"$f":"Sheet3!A200","v":2}]
[null,{"$f":"IF(B212+1<=Sheet3!$C$2,B212+1,-9.99999999999999E+25)","v":-9.9999999999999902E+25},{"$f":"SUMIF(Sheet3!C201:C632,B213,Sheet3!D201:D632)","v":0},{"$f":"SUMIF(Sheet3!C201:C632,B213,Sheet3!G201:G632)","v":0},{"$f":"SUMIF(Sheet3!C201:C632,B213,Sheet3!F201:F632)","v":0},{"$f":"F212-E213","v":-5.801314190978087E-7},null,{"$f":"Sheet3!C201","v":2038},{"$f":"Sheet3!B201","v":5},{"$f":"Sheet3!E201","v":93169829.396383166},{"$f":"Sheet3!F201","v":1898373.3459960278},{"$f":"Sheet3!G201","v":465849.14698191587},{"$f":"Sheet3!H201","v":91271456.050387144},{"$f":"Sheet3!A201","v":2}]
[null,{"$f":"IF(B213+1<=Sheet3!$C$2,B213+1,-9.99999999999999E+25)","v":-9.9999999999999902E+25},{"$f":"SUMIF(Sheet3!C202:C633,B214,Sheet3!D202:D633)","v":0},{"$f":"SUMIF(Sheet3!C202:C633,B214,Sheet3!G202:G633)","v":0},{"$f":"SUMIF(Sheet3!C202:C633,B214,Sheet3!F202:F633)","v":0},-5.801314190978087E-7,null,{"$f":"Sheet3!C202","v":2038},{"$f":"Sheet3!B202","v":6},{"$f":"Sheet3!E202","v":91271456.050387144},{"$f":"Sheet3!F202","v":1907865.2127260081},{"$f":"Sheet3!G202","v":456357.28025193565},{"$f":"Sheet3!H202","v":89363590.837661132},{"$f":"Sheet3!A202","v":2}]
[null,{"$f":"IF(B214+1<=Sheet3!$C$2,B214+1,-9.99999999999999E+25)","v":-9.9999999999999902E+25},{"$f":"SUMIF(Sheet3!C203:C634,B215,Sheet3!D203:D634)","v":0},{"$f":"SUMIF(Sheet3!C203:C634,B215,Sheet3!G203:G634)","v":0},{"$f":"SUMIF(Sheet3!C203:C634,B215,Sheet3!F203:F634)","v":0},-5.801314190978087E-7,null,{"$f":"Sheet3!C203","v":2038},{"$f":"Sheet3!B203","v":7},{"$f":"Sheet3!E203","v":89363590.837661132},{"$f":"Sheet3!F203","v":1917404.5387896381},{"$f":"Sheet3!G203","v":446817.95418830565},{"$f":"Sheet3!H203","v":87446186.298871487},{"$f":"Sheet3!A203","v":2}]
[null,{"$f":"IF(B215+1<=Sheet3!$C$2,B215+1,-9.99999999999999E+25)","v":-9.9999999999999902E+25},{"$f":"SUMIF(Sheet3!C204:C635,B216,Sheet3!D204:D635)","v":0},{"$f":"SUMIF(Sheet3!C204:C635,B216,Sheet3!G204:G635)","v":0},{"$f":"SUMIF(Sheet3!C204:C635,B216,Sheet3!F204:F635)","v":0},-5.801314190978087E-7,null,{"$f":"Sheet3!C204","v":2038},{"$f":"Sheet3!B204","v":8},{"$f":"Sheet3!E204","v":87446186.298871487},{"$f":"Sheet3!F204","v":1926991.5614835862},{"$f":"Sheet3!G204","v":437230.93149435747},{"$f":"Sheet3!H204","v":85519194.737387896},{"$f":"Sheet3!A204","v":2}]
[null,{"$f":"IF(B216+1<=Sheet3!$C$2,B216+1,-9.99999999999999E+25)","v":-9.9999999999999902E+25},{"$f":"SUMIF(Sheet3!C205:C636,B217,Sheet3!D205:D636)","v":0},{"$f":"SUMIF(Sheet3!C205:C636,B217,Sheet3!G205:G636)","v":0},{"$f":"SUMIF(Sheet3!C205:C636,B217,Sheet3!F205:F636)","v":0},-5.801314190978087E-7,null,{"$f":"Sheet3!C205","v":2038},{"$f":"Sheet3!B205","v":9},{"$f":"Sheet3!E205","v":85519194.737387896},{"$f":"Sheet3!F205","v":1936626.5192910042},{"$f":"Sheet3!G205","v":427595.97368693951},{"$f":"Sheet3!H205","v":83582568.218096897},{"$f":"Sheet3!A205","v":2}]
[null,{"$f":"IF(B217+1<=Sheet3!$C$2,B217+1,-9.99999999999999E+25)","v":-9.9999999999999902E+25},{"$f":"SUMIF(Sheet3!C206:C637,B218,Sheet3!D206:D637)","v":0},{"$f":"SUMIF(Sheet3!C206:C637,B218,Sheet3!G206:G637)","v":0},{"$f":"SUMIF(Sheet3!C206:C637,B218,Sheet3!F206:F637)","v":0},-5.801314190978087E-7,null,{"$f":"Sheet3!C206","v":2038},{"$f":"Sheet3!B206","v":10},{"$f":"Sheet3!E206","v":83582568.218096897},{"$f":"Sheet3!F206","v":1946309.6518874592},{"$f":"Sheet3!G206","v":417912.84109048446},{"$f":"Sheet3!H206","v":81636258.566209435},{"$f":"Sheet3!A206","v":2}]
[null,{"$f":"IF(B218+1<=Sheet3!$C$2,B218+1,-9.99999999999999E+25)","v":-9.9999999999999902E+25},{"$f":"SUMIF(Sheet3!C207:C638,B219,Sheet3!D207:D638)","v":0},{"$f":"SUMIF(Sheet3!C207:C638,B219,Sheet3!G207:G638)","v":0},{"$f":"SUMIF(Sheet3!C207:C638,B219,Sheet3!F207:F638)","v":0},-5.801314190978087E-7,null,{"$f":"Sheet3!C207","v":2038},{"$f":"Sheet3!B207","v":11},{"$f":"Sheet3!E207","v":81636258.566209435},{"$f":"Sheet3!F207","v":1956041.2001468965},{"$f":"Sheet3!G207","v":408181.29283104715},{"$f":"Sheet3!H207","v":79680217.366062537},{"$f":"Sheet3!A207","v":2}]
[null,{"$f":"IF(B219+1<=Sheet3!$C$2,B219+1,-9.99999999999999E+25)","v":-9.9999999999999902E+25},{"$f":"SUMIF(Sheet3!C208:C639,B220,Sheet3!D208:D639)","v":0},{"$f":"SUMIF(Sheet3!C208:C639,B220,Sheet3!G208:G639)","v":0},{"$f":"SUMIF(Sheet3!C208:C639,B220,Sheet3!F208:F639)","v":0},-5.801314190978087E-7,null,{"$f":"Sheet3!C208","v":2038},{"$f":"Sheet3!B208","v":12},{"$f":"Sheet3!E208","v":79680217.366062537},{"$f":"Sheet3!F208","v":1965821.4061476311},{"$f":"Sheet3!G208","v":398401.08683031268},{"$f":"Sheet3!H208","v":77714395.959914908},{"$f":"Sheet3!A208","v":2}]
[null,{"$f":"IF(B220+1<=Sheet3!$C$2,B220+1,-9.99999999999999E+25)","v":-9.9999999999999902E+25},{"$f":"SUMIF(Sheet3!C209:C640,B221,Sheet3!D209:D640)","v":0},{"$f":"SUMIF(Sheet3!C209:C640,B221,Sheet3!G209:G640)","v":0},{"$f":"SUMIF(Sheet3!C209:C640,B221,Sheet3!F209:F640)","v":0},-5.801314190978087E-7,null,{"$f":"Sheet3!C209","v":2039},{"$f":"Sheet3!B209","v":1},{"$f":"Sheet3!E209","v":77714395.959914908},{"$f":"Sheet3!F209","v":1975650.5131783693},{"$f":"Sheet3!G209","v":388571.97979957453},{"$f":"Sheet3!H209","v":75738745.446736544},{"$f":"Sheet3!A209","v":2}]
[null,{"$f":"IF(B221+1<=Sheet3!$C$2,B221+1,-9.99999999999999E+25)","v":-9.9999999999999902E+25},{"$f":"SUMIF(Sheet3!C210:C641,B222,Sheet3!D210:D641)","v":0},{"$f":"SUMIF(Sheet3!C210:C641,B222,Sheet3!G210:G641)","v":0},{"$f":"SUMIF(Sheet3!C210:C641,B222,Sheet3!F210:F641)","v":0},-5.801314190978087E-7,null,{"$f":"Sheet3!C210","v":2039},{"$f":"Sheet3!B210","v":2},{"$f":"Sheet3!E210","v":75738745.446736544},{"$f":"Sheet3!F210","v":1985528.765744261},{"$f":"Sheet3!G210","v":378693.7272336827},{"$f":"Sheet3!H210","v":73753216.68099229},{"$f":"Sheet3!A210","v":2}]
[null,{"$f":"IF(B222+1<=Sheet3!$C$2,B222+1,-9.99999999999999E+25)","v":-9.9999999999999902E+25},{"$f":"SUMIF(Sheet3!C211:C642,B223,Sheet3!D211:D642)","v":0},{"$f":"SUMIF(Sheet3!C211:C642,B223,Sheet3!G211:G642)","v":0},{"$f":"SUMIF(Sheet3!C211:C642,B223,Sheet3!F211:F642)","v":0},-5.801314190978087E-7,null,{"$f":"Sheet3!C211","v":2039},{"$f":"Sheet3!B211","v":3},{"$f":"Sheet3!E211","v":73753216.68099229},{"$f":"Sheet3!F211","v":1995456.4095729822},{"$f":"Sheet3!G211","v":368766.08340496145},{"$f":"Sheet3!H211","v":71757760.271419302},{"$f":"Sheet3!A211","v":2}]
[null,{"$f":"IF(B223+1<=Sheet3!$C$2,B223+1,-9.99999999999999E+25)","v":-9.9999999999999902E+25},{"$f":"SUMIF(Sheet3!C212:C643,B224,Sheet3!D212:D643)","v":0},{"$f":"SUMIF(Sheet3!C212:C643,B224,Sheet3!G212:G643)","v":0},{"$f":"SUMIF(Sheet3!C212:C643,B224,Sheet3!F212:F643)","v":0},-5.801314190978087E-7,null,{"$f":"Sheet3!C212","v":2039},{"$f":"Sheet3!B212","v":4},{"$f":"Sheet3!E212","v":71757760.271419302},{"$f":"Sheet3!F212","v":2005433.6916208472},{"$f":"Sheet3!G212","v":358788.80135709653},{"$f":"Sheet3!H212","v":69752326.57979846},{"$f":"Sheet3!A212","v":2}]
[null,{"$f":"IF(B224+1<=Sheet3!$C$2,B224+1,-9.99999999999999E+25)","v":-9.9999999999999902E+25},{"$f":"SUMIF(Sheet3!C213:C644,B225,Sheet3!D213:D644)","v":0},{"$f":"SUMIF(Sheet3!C213:C644,B225,Sheet3!G213:G644)","v":0},{"$f":"SUMIF(Sheet3!C213:C644,B225,Sheet3!F213:F644)","v":0},-5.801314190978087E-7,null,{"$f":"Sheet3!C213","v":2039},{"$f":"Sheet3!B213","v":5},{"$f":"Sheet3!E213","v":69752326.57979846},{"$f":"Sheet3!F213","v":2015460.8600789513},{"$f":"Sheet3!G213","v":348761.63289899228},{"$f":"Sheet3!H213","v":67736865.719719514},{"$f":"Sheet3!A213","v":2}]
[null,{"$f":"IF(B225+1<=Sheet3!$C$2,B225+1,-9.99999999999999E+25)","v":-9.9999999999999902E+25},{"$f":"SUMIF(Sheet3!C214:C645,B226,Sheet3!D214:D645)","v":0},{"$f":"SUMIF(Sheet3!C214:C645,B226,Sheet3!G214:G645)","v":0},{"$f":"SUMIF(Sheet3!C214:C645,B226,Sheet3!F214:F645)","v":0},-5.801314190978087E-7,null,{"$f":"Sheet3!C214","v":2039},{"$f":"Sheet3!B214","v":6},{"$f":"Sheet3!E214","v":67736865.719719514},{"$f":"Sheet3!F214","v":2025538.1643793462},{"$f":"Sheet3!G214","v":338684.32859859755},{"$f":"Sheet3!H214","v":65711327.555340171},{"$f":"Sheet3!A214","v":2}]
[null,{"$f":"IF(B226+1<=Sheet3!$C$2,B226+1,-9.99999999999999E+25)","v":-9.9999999999999902E+25},{"$f":"SUMIF(Sheet3!C215:C646,B227,Sheet3!D215:D646)","v":0},{"$f":"SUMIF(Sheet3!C215:C646,B227,Sheet3!G215:G646)","v":0},{"$f":"SUMIF(Sheet3!C215:C646,B227,Sheet3!F215:F646)","v":0},-5.801314190978087E-7,null,{"$f":"Sheet3!C215","v":2039},{"$f":"Sheet3!B215","v":7},{"$f":"Sheet3!E215","v":65711327.555340171},{"$f":"Sheet3!F215","v":2035665.855201243},{"$f":"Sheet3!G215","v":328556.63777670084},{"$f":"Sheet3!H215","v":63675661.700138927},{"$f":"Sheet3!A215","v":2}]
[null,{"$f":"IF(B227+1<=Sheet3!$C$2,B227+1,-9.99999999999999E+25)","v":-9.9999999999999902E+25},{"$f":"SUMIF(Sheet3!C216:C647,B228,Sheet3!D216:D647)","v":0},{"$f":"SUMIF(Sheet3!C216:C647,B228,Sheet3!G216:G647)","v":0},{"$f":"SUMIF(Sheet3!C216:C647,B228,Sheet3!F216:F647)","v":0},-5.801314190978087E-7,null,{"$f":"Sheet3!C216","v":2039},{"$f":"Sheet3!B216","v":8},{"$f":"Sheet3!E216","v":63675661.700138927},{"$f":"Sheet3!F216","v":2045844.1844772492},{"$f":"Sheet3!G216","v":318378.30850069463},{"$f":"Sheet3!H216","v":61629817.515661679},{"$f":"Sheet3!A216","v":2}]
[null,{"$f":"IF(B228+1<=Sheet3!$C$2,B228+1,-9.99999999999999E+25)","v":-9.9999999999999902E+25},{"$f":"SUMIF(Sheet3!C217:C648,B229,Sheet3!D217:D648)","v":0},{"$f":"SUMIF(Sheet3!C217:C648,B229,Sheet3!G217:G648)","v":0},{"$f":"SUMIF(Sheet3!C217:C648,B229,Sheet3!F217:F648)","v":0},-5.801314190978087E-7,null,{"$f":"Sheet3!C217","v":2039},{"$f":"Sheet3!B217","v":9},{"$f":"Sheet3!E217","v":61629817.515661679},{"$f":"Sheet3!F217","v":2056073.4053996354},{"$f":"Sheet3!G217","v":308149.08757830836},{"$f":"Sheet3!H217","v":59573744.110262044},{"$f":"Sheet3!A217","v":2}]
[null,{"$f":"IF(B229+1<=Sheet3!$C$2,B229+1,-9.99999999999999E+25)","v":-9.9999999999999902E+25},{"$f":"SUMIF(Sheet3!C218:C649,B230,Sheet3!D218:D649)","v":0},{"$f":"SUMIF(Sheet3!C218:C649,B230,Sheet3!G218:G649)","v":0},{"$f":"SUMIF(Sheet3!C218:C649,B230,Sheet3!F218:F649)","v":0},-5.801314190978087E-7,null,{"$f":"Sheet3!C218","v":2039},{"$f":"Sheet3!B218","v":10},{"$f":"Sheet3!E218","v":59573744.110262044},{"$f":"Sheet3!F218","v":2066353.7724266336},{"$f":"Sheet3!G218","v":297868.72055131022},{"$f":"Sheet3!H218","v":57507390.337835409},{"$f":"Sheet3!A218","v":2}]
[null,{"$f":"IF(B230+1<=Sheet3!$C$2,B230+1,-9.99999999999999E+25)","v":-9.9999999999999902E+25},{"$f":"SUMIF(Sheet3!C219:C650,B231,Sheet3!D219:D650)","v":0},{"$f":"SUMIF(Sheet3!C219:C650,B231,Sheet3!G219:G650)","v":0},{"$f":"SUMIF(Sheet3!C219:C650,B231,Sheet3!F219:F650)","v":0},-5.801314190978087E-7,null,{"$f":"Sheet3!C219","v":2039},{"$f":"Sheet3!B219","v":11},{"$f":"Sheet3!E219","v":57507390.337835409},{"$f":"Sheet3!F219","v":2076685.5412887668},{"$f":"Sheet3!G219","v":287536.95168917702},{"$f":"Sheet3!H219","v":55430704.796546645},{"$f":"Sheet3!A219","v":2}]
[null,{"$f":"IF(B231+1<=Sheet3!$C$2,B231+1,-9.99999999999999E+25)","v":-9.9999999999999902E+25},{"$f":"SUMIF(Sheet3!C220:C651,B232,Sheet3!D220:D651)","v":0},{"$f":"SUMIF(Sheet3!C220:C651,B232,Sheet3!G220:G651)","v":0},{"$f":"SUMIF(Sheet3!C220:C651,B232,Sheet3!F220:F651)","v":0},-5.801314190978087E-7,null,{"$f":"Sheet3!C220","v":2039},{"$f":"Sheet3!B220","v":12},{"$f":"Sheet3!E220","v":55430704.796546645},{"$f":"Sheet3!F220","v":2087068.9689952105},{"$f":"Sheet3!G220","v":277153.5239827332},{"$f":"Sheet3!H220","v":53343635.827551432},{"$f":"Sheet3!A220","v":2}]
[null,{"$f":"IF(B232+1<=Sheet3!$C$2,B232+1,-9.99999999999999E+25)","v":-9.9999999999999902E+25},{"$f":"SUMIF(Sheet3!C221:C652,B233,Sheet3!D221:D652)","v":0},{"$f":"SUMIF(Sheet3!C221:C652,B233,Sheet3!G221:G652)","v":0},{"$f":"SUMIF(Sheet3!C221:C652,B233,Sheet3!F221:F652)","v":0},-5.801314190978087E-7,null,{"$f":"Sheet3!C221","v":2040},{"$f":"Sheet3!B221","v":1},{"$f":"Sheet3!E221","v":53343635.827551432},{"$f":"Sheet3!F221","v":2097504.3138401867},{"$f":"Sheet3!G221","v":266718.17913775716},{"$f":"Sheet3!H221","v":51246131.513711244},{"$f":"Sheet3!A221","v":2}]
[null,{"$f":"IF(B233+1<=Sheet3!$C$2,B233+1,-9.99999999999999E+25)","v":-9.9999999999999902E+25},{"$f":"SUMIF(Sheet3!C222:C653,B234,Sheet3!D222:D653)","v":0},{"$f":"SUMIF(Sheet3!C222:C653,B234,Sheet3!G222:G653)","v":0},{"$f":"SUMIF(Sheet3!C222:C653,B234,Sheet3!F222:F653)","v":0},-5.801314190978087E-7,null,{"$f":"Sheet3!C222","v":2040},{"$f":"Sheet3!B222","v":2},{"$f":"Sheet3!E222","v":51246131.513711244},{"$f":"Sheet3!F222","v":2107991.8354093875},{"$f":"Sheet3!G222","v":256230.65756855623},{"$f":"Sheet3!H222","v":49138139.678301856},{"$f":"Sheet3!A222","v":2}]
[null,{"$f":"IF(B234+1<=Sheet3!$C$2,B234+1,-9.99999999999999E+25)","v":-9.9999999999999902E+25},{"$f":"SUMIF(Sheet3!C223:C654,B235,Sheet3!D223:D654)","v":0},{"$f":"SUMIF(Sheet3!C223:C654,B235,Sheet3!G223:G654)","v":0},{"$f":"SUMIF(Sheet3!C223:C654,B235,Sheet3!F223:F654)","v":0},-5.801314190978087E-7,null,{"$f":"Sheet3!C223","v":2040},{"$f":"Sheet3!B223","v":3},{"$f":"Sheet3!E223","v":49138139.678301856},{"$f":"Sheet3!F223","v":2118531.7945864345},{"$f":"Sheet3!G223","v":245690.69839150927},{"$f":"Sheet3!H223","v":47019607.883715421},{"$f":"Sheet3!A223","v":2}]
[null,{"$f":"IF(B235+1<=Sheet3!$C$2,B235+1,-9.99999999999999E+25)","v":-9.9999999999999902E+25},{"$f":"SUMIF(Sheet3!C224:C655,B236,Sheet3!D224:D655)","v":0},{"$f":"SUMIF(Sheet3!C224:C655,B236,Sheet3!G224:G655)","v":0},{"$f":"SUMIF(Sheet3!C224:C655,B236,Sheet3!F224:F655)","v":0},-5.801314190978087E-7,null,{"$f":"Sheet3!C224","v":2040},{"$f":"Sheet3!B224","v":4},{"$f":"Sheet3!E224","v":47019607.883715421},{"$f":"Sheet3!F224","v":2129124.4535593665},{"$f":"Sheet3!G224","v":235098.0394185771},{"$f":"Sheet3!H224","v":44890483.430156052},{"$f":"Sheet3!A224","v":2}]
[null,{"$f":"IF(B236+1<=Sheet3!$C$2,B236+1,-9.99999999999999E+25)","v":-9.9999999999999902E+25},{"$f":"SUMIF(Sheet3!C225:C656,B237,Sheet3!D225:D656)","v":0},{"$f":"SUMIF(Sheet3!C225:C656,B237,Sheet3!G225:G656)","v":0},{"$f":"SUMIF(Sheet3!C225:C656,B237,Sheet3!F225:F656)","v":0},-5.801314190978087E-7,null,{"$f":"Sheet3!C225","v":2040},{"$f":"Sheet3!B225","v":5},{"$f":"Sheet3!E225","v":44890483.430156052},{"$f":"Sheet3!F225","v":2139770.0758271636},{"$f":"Sheet3!G225","v":224452.41715078024},{"$f":"Sheet3!H225","v":42750713.354328886},{"$f":"Sheet3!A225","v":2}]
[null,{"$f":"IF(B237+1<=Sheet3!$C$2,B237+1,-9.99999999999999E+25)","v":-9.9999999999999902E+25},{"$f":"SUMIF(Sheet3!C226:C657,B238,Sheet3!D226:D657)","v":0},{"$f":"SUMIF(Sheet3!C226:C657,B238,Sheet3!G226:G657)","v":0},{"$f":"SUMIF(Sheet3!C226:C657,B238,Sheet3!F226:F657)","v":0},-5.801314190978087E-7,null,{"$f":"Sheet3!C226","v":2040},{"$f":"Sheet3!B226","v":6},{"$f":"Sheet3!E226","v":42750713.354328886},{"$f":"Sheet3!F226","v":2150468.9262062991},{"$f":"Sheet3!G226","v":213753.56677164443},{"$f":"Sheet3!H226","v":40600244.428122588},{"$f":"Sheet3!A226","v":2}]
[null,{"$f":"IF(B238+1<=Sheet3!$C$2,B238+1,-9.99999999999999E+25)","v":-9.9999999999999902E+25},{"$f":"SUMIF(Sheet3!C227:C658,B239,Sheet3!D227:D658)","v":0},{"$f":"SUMIF(Sheet3!C227:C658,B239,Sheet3!G227:G658)","v":0},{"$f":"SUMIF(Sheet3!C227:C658,B239,Sheet3!F227:F658)","v":0},-5.801314190978087E-7,null,{"$f":"Sheet3!C227","v":2040},{"$f":"Sheet3!B227","v":7},{"$f":"Sheet3!E227","v":40600244.428122588},{"$f":"Sheet3!F227","v":2161221.2708373307},{"$f":"Sheet3!G227","v":203001.22214061292},{"$f":"Sheet3!H227","v":38439023.157285258},{"$f":"Sheet3!A227","v":2}]
[null,{"$f":"IF(B239+1<=Sheet3!$C$2,B239+1,-9.99999999999999E+25)","v":-9.9999999999999902E+25},{"$f":"SUMIF(Sheet3!C228:C659,B240,Sheet3!D228:D659)","v":0},{"$f":"SUMIF(Sheet3!C228:C659,B240,Sheet3!G228:G659)","v":0},{"$f":"SUMIF(Sheet3!C228:C659,B240,Sheet3!F228:F659)","v":0},-5.801314190978087E-7,null,{"$f":"Sheet3!C228","v":2040},{"$f":"Sheet3!B228","v":8},{"$f":"Sheet3!E228","v":38439023.157285258},{"$f":"Sheet3!F228","v":2172027.3771915175},{"$f":"Sheet3!G228","v":192195.11578642626},{"$f":"Sheet3!H228","v":36266995.780093744},{"$f":"Sheet3!A228","v":2}]
[null,{"$f":"IF(B240+1<=Sheet3!$C$2,B240+1,-9.99999999999999E+25)","v":-9.9999999999999902E+25},{"$f":"SUMIF(Sheet3!C229:C660,B241,Sheet3!D229:D660)","v":0},{"$f":"SUMIF(Sheet3!C229:C660,B241,Sheet3!G229:G660)","v":0},{"$f":"SUMIF(Sheet3!C229:C660,B241,Sheet3!F229:F660)","v":0},-5.801314190978087E-7,null,{"$f":"Sheet3!C229","v":2040},{"$f":"Sheet3!B229","v":9},{"$f":"Sheet3!E229","v":36266995.780093744},{"$f":"Sheet3!F229","v":2182887.5140774748},{"$f":"Sheet3!G229","v":181334.9789004687},{"$f":"Sheet3!H229","v":34084108.266016267},{"$f":"Sheet3!A229","v":2}]
[null,{"$f":"IF(B241+1<=Sheet3!$C$2,B241+1,-9.99999999999999E+25)","v":-9.9999999999999902E+25},{"$f":"SUMIF(Sheet3!C230:C661,B242,Sheet3!D230:D661)","v":0},{"$f":"SUMIF(Sheet3!C230:C661,B242,Sheet3!G230:G661)","v":0},{"$f":"SUMIF(Sheet3!C230:C661,B242,Sheet3!F230:F661)","v":0},-5.801314190978087E-7,null,{"$f":"Sheet3!C230","v":2040},{"$f":"Sheet3!B230","v":10},{"$f":"Sheet3!E230","v":34084108.266016267},{"$f":"Sheet3!F230","v":2193801.9516478623},{"$f":"Sheet3!G230","v":170420.54133008132},{"$f":"Sheet3!H230","v":31890306.314368404},{"$f":"Sheet3!A230","v":2}]
[null,{"$f":"IF(B242+1<=Sheet3!$C$2,B242+1,-9.99999999999999E+25)","v":-9.9999999999999902E+25},{"$f":"SUMIF(Sheet3!C231:C662,B243,Sheet3!D231:D662)","v":0},{"$f":"SUMIF(Sheet3!C231:C662,B243,Sheet3!G231:G662)","v":0},{"$f":"SUMIF(Sheet3!C231:C662,B243,Sheet3!F231:F662)","v":0},-5.801314190978087E-7,null,{"$f":"Sheet3!C231","v":2040},{"$f":"Sheet3!B231","v":11},{"$f":"Sheet3!E231","v":31890306.314368404},{"$f":"Sheet3!F231","v":2204770.9614061019},{"$f":"Sheet3!G231","v":159451.531571842},{"$f":"Sheet3!H231","v":29685535.352962304},{"$f":"Sheet3!A231","v":2}]
[null,{"$f":"IF(B243+1<=Sheet3!$C$2,B243+1,-9.99999999999999E+25)","v":-9.9999999999999902E+25},{"$f":"SUMIF(Sheet3!C232:C663,B244,Sheet3!D232:D663)","v":0},{"$f":"SUMIF(Sheet3!C232:C663,B244,Sheet3!G232:G663)","v":0},{"$f":"SUMIF(Sheet3!C232:C663,B244,Sheet3!F232:F663)","v":0},-5.801314190978087E-7,null,{"$f":"Sheet3!C232","v":2040},{"$f":"Sheet3!B232","v":12},{"$f":"Sheet3!E232","v":29685535.352962304},{"$f":"Sheet3!F232","v":2215794.8162131323},{"$f":"Sheet3!G232","v":148427.67676481151},{"$f":"Sheet3!H232","v":27469740.536749173},{"$f":"Sheet3!A232","v":2}]
[null,{"$f":"IF(B244+1<=Sheet3!$C$2,B244+1,-9.99999999999999E+25)","v":-9.9999999999999902E+25},{"$f":"SUMIF(Sheet3!C233:C664,B245,Sheet3!D233:D664)","v":0},{"$f":"SUMIF(Sheet3!C233:C664,B245,Sheet3!G233:G664)","v":0},{"$f":"SUMIF(Sheet3!C233:C664,B245,Sheet3!F233:F664)","v":0},-5.801314190978087E-7,null,{"$f":"Sheet3!C233","v":2041},{"$f":"Sheet3!B233","v":1},{"$f":"Sheet3!E233","v":27469740.536749173},{"$f":"Sheet3!F233","v":2226873.7902941979},{"$f":"Sheet3!G233","v":137348.70268374585},{"$f":"Sheet3!H233","v":25242866.746454976},{"$f":"Sheet3!A233","v":2}]
[null,{"$f":"IF(B245+1<=Sheet3!$C$2,B245+1,-9.99999999999999E+25)","v":-9.9999999999999902E+25},{"$f":"SUMIF(Sheet3!C234:C665,B246,Sheet3!D234:D665)","v":0},{"$f":"SUMIF(Sheet3!C234:C665,B246,Sheet3!G234:G665)","v":0},{"$f":"SUMIF(Sheet3!C234:C665,B246,Sheet3!F234:F665)","v":0},-5.801314190978087E-7,null,{"$f":"Sheet3!C234","v":2041},{"$f":"Sheet3!B234","v":2},{"$f":"Sheet3!E234","v":25242866.746454976},{"$f":"Sheet3!F234","v":2238008.1592456689},{"$f":"Sheet3!G234","v":126214.33373227488},{"$f":"Sheet3!H234","v":23004858.587209307},{"$f":"Sheet3!A234","v":2}]
[null,{"$f":"IF(B246+1<=Sheet3!$C$2,B246+1,-9.99999999999999E+25)","v":-9.9999999999999902E+25},{"$f":"SUMIF(Sheet3!C235:C666,B247,Sheet3!D235:D666)","v":0},{"$f":"SUMIF(Sheet3!C235:C666,B247,Sheet3!G235:G666)","v":0},{"$f":"SUMIF(Sheet3!C235:C666,B247,Sheet3!F235:F666)","v":0},-5.801314190978087E-7,null,{"$f":"Sheet3!C235","v":2041},{"$f":"Sheet3!B235","v":3},{"$f":"Sheet3!E235","v":23004858.587209307},{"$f":"Sheet3!F235","v":2249198.2000418971},{"$f":"Sheet3!G235","v":115024.29293604654},{"$f":"Sheet3!H235","v":20755660.387167409},{"$f":"Sheet3!A235","v":2}]
[null,{"$f":"IF(B247+1<=Sheet3!$C$2,B247+1,-9.99999999999999E+25)","v":-9.9999999999999902E+25},{"$f":"SUMIF(Sheet3!C236:C667,B248,Sheet3!D236:D667)","v":0},{"$f":"SUMIF(Sheet3!C236:C667,B248,Sheet3!G236:G667)","v":0},{"$f":"SUMIF(Sheet3!C236:C667,B248,Sheet3!F236:F667)","v":0},-5.801314190978087E-7,null,{"$f":"Sheet3!C236","v":2041},{"$f":"Sheet3!B236","v":4},{"$f":"Sheet3!E236","v":20755660.387167409},{"$f":"Sheet3!F236","v":2260444.1910421066},{"$f":"Sheet3!G236","v":103778.30193583704},{"$f":"Sheet3!H236","v":18495216.196125302},{"$f":"Sheet3!A236","v":2}]
[null,{"$f":"IF(B248+1<=Sheet3!$C$2,B248+1,-9.99999999999999E+25)","v":-9.9999999999999902E+25},{"$f":"SUMIF(Sheet3!C237:C668,B249,Sheet3!D237:D668)","v":0},{"$f":"SUMIF(Sheet3!C237:C668,B249,Sheet3!G237:G668)","v":0},{"$f":"SUMIF(Sheet3!C237:C668,B249,Sheet3!F237:F668)","v":0},-5.801314190978087E-7,null,{"$f":"Sheet3!C237","v":2041},{"$f":"Sheet3!B237","v":5},{"$f":"Sheet3!E237","v":18495216.196125302},{"$f":"Sheet3!F237","v":2271746.4119973173},{"$f":"Sheet3!G237","v":92476.080980626517},{"$f":"Sheet3!H237","v":16223469.784127984},{"$f":"Sheet3!A237","v":2}]
[null,{"$f":"IF(B249+1<=Sheet3!$C$2,B249+1,-9.99999999999999E+25)","v":-9.9999999999999902E+25},{"$f":"SUMIF(Sheet3!C238:C669,B250,Sheet3!D238:D669)","v":0},{"$f":"SUMIF(Sheet3!C238:C669,B250,Sheet3!G238:G669)","v":0},{"$f":"SUMIF(Sheet3!C238:C669,B250,Sheet3!F238:F669)","v":0},-5.801314190978087E-7,null,{"$f":"Sheet3!C238","v":2041},{"$f":"Sheet3!B238","v":6},{"$f":"Sheet3!E238","v":16223469.784127984},{"$f":"Sheet3!F238","v":2283105.1440573037},{"$f":"Sheet3!G238","v":81117.34892063991},{"$f":"Sheet3!H238","v":13940364.640070681},{"$f":"Sheet3!A238","v":2}]
[null,{"$f":"IF(B250+1<=Sheet3!$C$2,B250+1,-9.99999999999999E+25)","v":-9.9999999999999902E+25},{"$f":"SUMIF(Sheet3!C239:C670,B251,Sheet3!D239:D670)","v":0},{"$f":"SUMIF(Sheet3!C239:C670,B251,Sheet3!G239:G670)","v":0},{"$f":"SUMIF(Sheet3!C239:C670,B251,Sheet3!F239:F670)","v":0},-5.801314190978087E-7,null,{"$f":"Sheet3!C239","v":2041},{"$f":"Sheet3!B239","v":7},{"$f":"Sheet3!E239","v":13940364.640070681},{"$f":"Sheet3!F239","v":2294520.6697775903},{"$f":"Sheet3!G239","v":69701.823200353407},{"$f":"Sheet3!H239","v":11645843.97029309},{"$f":"Sheet3!A239","v":2}]
[null,{"$f":"IF(B251+1<=Sheet3!$C$2,B251+1,-9.99999999999999E+25)","v":-9.9999999999999902E+25},{"$f":"SUMIF(Sheet3!C240:C671,B252,Sheet3!D240:D671)","v":0},{"$f":"SUMIF(Sheet3!C240:C671,B252,Sheet3!G240:G671)","v":0},{"$f":"SUMIF(Sheet3!C240:C671,B252,Sheet3!F240:F671)","v":0},-5.801314190978087E-7,null,{"$f":"Sheet3!C240","v":2041},{"$f":"Sheet3!B240","v":8},{"$f":"Sheet3!E240","v":11645843.97029309},{"$f":"Sheet3!F240","v":2305993.2731264783},{"$f":"Sheet3!G240","v":58229.219851465452},{"$f":"Sheet3!H240","v":9339850.6971666105},{"$f":"Sheet3!A240","v":2}]
[null,{"$f":"IF(B252+1<=Sheet3!$C$2,B252+1,-9.99999999999999E+25)","v":-9.9999999999999902E+25},{"$f":"SUMIF(Sheet3!C241:C672,B253,Sheet3!D241:D672)","v":0},{"$f":"SUMIF(Sheet3!C241:C672,B253,Sheet3!G241:G672)","v":0},{"$f":"SUMIF(Sheet3!C241:C672,B253,Sheet3!F241:F672)","v":0},-5.801314190978087E-7,null,{"$f":"Sheet3!C241","v":2041},{"$f":"Sheet3!B241","v":9},{"$f":"Sheet3!E241","v":9339850.6971666105},{"$f":"Sheet3!F241","v":2317523.2394921109},{"$f":"Sheet3!G241","v":46699.253485833055},{"$f":"Sheet3!H241","v":7022327.4576744996},{"$f":"Sheet3!A241","v":2}]
[null,{"$f":"IF(B253+1<=Sheet3!$C$2,B253+1,-9.99999999999999E+25)","v":-9.9999999999999902E+25},{"$f":"SUMIF(Sheet3!C242:C673,B254,Sheet3!D242:D673)","v":0},{"$f":"SUMIF(Sheet3!C242:C673,B254,Sheet3!G242:G673)","v":0},{"$f":"SUMIF(Sheet3!C242:C673,B254,Sheet3!F242:F673)","v":0},-5.801314190978087E-7,null,{"$f":"Sheet3!C242","v":2041},{"$f":"Sheet3!B242","v":10},{"$f":"Sheet3!E242","v":7022327.4576744996},{"$f":"Sheet3!F242","v":2329110.8556895712},{"$f":"Sheet3!G242","v":35111.637288372498},{"$f":"Sheet3!H242","v":4693216.6019849284},{"$f":"Sheet3!A242","v":2}]
[null,{"$f":"IF(B254+1<=Sheet3!$C$2,B254+1,-9.99999999999999E+25)","v":-9.9999999999999902E+25},{"$f":"SUMIF(Sheet3!C243:C674,B255,Sheet3!D243:D674)","v":0},{"$f":"SUMIF(Sheet3!C243:C674,B255,Sheet3!G243:G674)","v":0},{"$f":"SUMIF(Sheet3!C243:C674,B255,Sheet3!F243:F674)","v":0},-5.801314190978087E-7,null,{"$f":"Sheet3!C243","v":2041},{"$f":"Sheet3!B243","v":11},{"$f":"Sheet3!E243","v":4693216.6019849284},{"$f":"Sheet3!F243","v":2340756.409968019},{"$f":"Sheet3!G243","v":23466.083009924641},{"$f":"Sheet3!H243","v":2352460.1920169094},{"$f":"Sheet3!A243","v":2}]
[null,{"$f":"IF(B255+1<=Sheet3!$C$2,B255+1,-9.99999999999999E+25)","v":-9.9999999999999902E+25},{"$f":"SUMIF(Sheet3!C244:C675,B256,Sheet3!D244:D675)","v":0},{"$f":"SUMIF(Sheet3!C244:C675,B256,Sheet3!G244:G675)","v":0},{"$f":"SUMIF(Sheet3!C244:C675,B256,Sheet3!F244:F675)","v":0},-5.801314190978087E-7,null,{"$f":"Sheet3!C244","v":2041},{"$f":"Sheet3!B244","v":12},{"$f":"Sheet3!E244","v":2352460.1920169094},{"$f":"Sheet3!F244","v":2352460.1920178593},{"$f":"Sheet3!G244","v":11762.300960084547},{"$f":"Sheet3!H244","v":-9.4994902610778809E-7},{"$f":"Sheet3!A244","v":2}]
[null,{"$f":"IF(B256+1<=Sheet3!$C$2,B256+1,-9.99999999999999E+25)","v":-9.9999999999999902E+25},{"$f":"SUMIF(Sheet3!C245:C676,B257,Sheet3!D245:D676)","v":0},{"$f":"SUMIF(Sheet3!C245:C676,B257,Sheet3!G245:G676)","v":0},{"$f":"SUMIF(Sheet3!C245:C676,B257,Sheet3!F245:F676)","v":0},-5.801314190978087E-7,null,{"$f":"Sheet3!C245","v":2042},{"$f":"Sheet3!B245","v":1},{"$f":"Sheet3!E245","v":-9.4994902610778809E-7},{"$f":"Sheet3!F245","v":4.7497451305389401E-9},{"$f":"Sheet3!G245","v":-4.7497451305389401E-9},{"$f":"Sheet3!H245","v":-9.5469877123832694E-7},{"$f":"Sheet3!A245","v":4}]
[null,{"$f":"IF(B257+1<=Sheet3!$C$2,B257+1,-9.99999999999999E+25)","v":-9.9999999999999902E+25},{"$f":"SUMIF(Sheet3!C246:C677,B258,Sheet3!D246:D677)","v":0},{"$f":"SUMIF(Sheet3!C246:C677,B258,Sheet3!G246:G677)","v":0},{"$f":"SUMIF(Sheet3!C246:C677,B258,Sheet3!F246:F677)","v":0},-5.801314190978087E-7,null,{"$f":"Sheet3!C246","v":2042},{"$f":"Sheet3!B246","v":2},{"$f":"Sheet3!E246","v":-9.5469877123832694E-7},{"$f":"Sheet3!F246","v":4.7734938561916349E-9},{"$f":"Sheet3!G246","v":-4.7734938561916349E-9},{"$f":"Sheet3!H246","v":-9.5947226509451867E-7},{"$f":"Sheet3!A246","v":4}]
[null,{"$f":"IF(B258+1<=Sheet3!$C$2,B258+1,-9.99999999999999E+25)","v":-9.9999999999999902E+25},{"$f":"SUMIF(Sheet3!C247:C678,B259,Sheet3!D247:D678)","v":0},{"$f":"SUMIF(Sheet3!C247:C678,B259,Sheet3!G247:G678)","v":0},{"$f":"SUMIF(Sheet3!C247:C678,B259,Sheet3!F247:F678)","v":0},-5.801314190978087E-7,null,{"$f":"Sheet3!C247","v":2042},{"$f":"Sheet3!B247","v":3},{"$f":"Sheet3!E247","v":-9.5947226509451867E-7},{"$f":"Sheet3!F247","v":4.7973613254725936E-9},{"$f":"Sheet3!G247","v":-4.7973613254725936E-9},{"$f":"Sheet3!H247","v":-9.6426962641999129E-7},{"$f":"Sheet3!A247","v":4}]
[null,{"$f":"IF(B259+1<=Sheet3!$C$2,B259+1,-9.99999999999999E+25)","v":-9.9999999999999902E+25},{"$f":"SUMIF(Sheet3!C248:C679,B260,Sheet3!D248:D679)","v":0},{"$f":"SUMIF(Sheet3!C248:C679,B260,Sheet3!G248:G679)","v":0},{"$f":"SUMIF(Sheet3!C248:C679,B260,Sheet3!F248:F679)","v":0},-5.801314190978087E-7,null,{"$f":"Sheet3!C248","v":2042},{"$f":"Sheet3!B248","v":4},{"$f":"Sheet3!E248","v":-9.6426962641999129E-7},{"$f":"Sheet3!F248","v":4.8213481320999562E-9},{"$f":"Sheet3!G248","v":-4.8213481320999562E-9},{"$f":"Sheet3!H248","v":-9.6909097455209125E-7},{"$f":"Sheet3!A248","v":4}]
[null,{"$f":"IF(B260+1<=Sheet3!$C$2,B260+1,-9.99999999999999E+25)","v":-9.9999999999999902E+25},{"$f":"SUMIF(Sheet3!C249:C680,B261,Sheet3!D249:D680)","v":0},{"$f":"SUMIF(Sheet3!C249:C680,B261,Sheet3!G249:G680)","v":0},{"$f":"SUMIF(Sheet3!C249:C680,B261,Sheet3!F249:F680)","v":0},-5.801314190978087E-7,null,{"$f":"Sheet3!C249","v":2042},{"$f":"Sheet3!B249","v":5},{"$f":"Sheet3!E249","v":-9.6909097455209125E-7},{"$f":"Sheet3!F249","v":4.845454872760456E-9},{"$f":"Sheet3!G249","v":-4.845454872760456E-9},{"$f":"Sheet3!H249","v":-9.7393642942485162E-7},{"$f":"Sheet3!A249","v":4}]
[null,{"$f":"IF(B261+1<=Sheet3!$C$2,B261+1,-9.99999999999999E+25)","v":-9.9999999999999902E+25},{"$f":"SUMIF(Sheet3!C250:C681,B262,Sheet3!D250:D681)","v":0},{"$f":"SUMIF(Sheet3!C250:C681,B262,Sheet3!G250:G681)","v":0},{"$f":"SUMIF(Sheet3!C250:C681,B262,Sheet3!F250:F681)","v":0},-5.801314190978087E-7,null,{"$f":"Sheet3!C250","v":2042},{"$f":"Sheet3!B250","v":6},{"$f":"Sheet3!E250","v":-9.7393642942485162E-7},{"$f":"Sheet3!F250","v":4.8696821471242582E-9},{"$f":"Sheet3!G250","v":-4.8696821471242582E-9},{"$f":"Sheet3!H250","v":-9.7880611157197582E-7},{"$f":"Sheet3!A250","v":4}]
[null,{"$f":"IF(B262+1<=Sheet3!$C$2,B262+1,-9.99999999999999E+25)","v":-9.9999999999999902E+25},{"$f":"SUMIF(Sheet3!C251:C682,B263,Sheet3!D251:D682)","v":0},{"$f":"SUMIF(Sheet3!C251:C682,B263,Sheet3!G251:G682)","v":0},{"$f":"SUMIF(Sheet3!C251:C682,B263,Sheet3!F251:F682)","v":0},-5.801314190978087E-7,null,{"$f":"Sheet3!C251","v":2042},{"$f":"Sheet3!B251","v":7},{"$f":"Sheet3!E251","v":-9.7880611157197582E-7},{"$f":"Sheet3!F251","v":4.8940305578598789E-9},{"$f":"Sheet3!G251","v":-4.8940305578598789E-9},{"$f":"Sheet3!H251","v":-9.8370014212983563E-7},{"$f":"Sheet3!A251","v":4}]
[null,{"$f":"IF(B263+1<=Sheet3!$C$2,B263+1,-9.99999999999999E+25)","v":-9.9999999999999902E+25},{"$f":"SUMIF(Sheet3!C252:C683,B264,Sheet3!D252:D683)","v":0},{"$f":"SUMIF(Sheet3!C252:C683,B264,Sheet3!G252:G683)","v":0},{"$f":"SUMIF(Sheet3!C252:C683,B264,Sheet3!F252:F683)","v":0},-5.801314190978087E-7,null,{"$f":"Sheet3!C252","v":2042},{"$f":"Sheet3!B252","v":8},{"$f":"Sheet3!E252","v":-9.8370014212983563E-7},{"$f":"Sheet3!F252","v":4.9185007106491775E-9},{"$f":"Sheet3!G252","v":-4.9185007106491775E-9},{"$f":"Sheet3!H252","v":-9.8861864284048477E-7},{"$f":"Sheet3!A252","v":4}]
[null,{"$f":"IF(B264+1<=Sheet3!$C$2,B264+1,-9.99999999999999E+25)","v":-9.9999999999999902E+25},{"$f":"SUMIF(Sheet3!C253:C684,B265,Sheet3!D253:D684)","v":0},{"$f":"SUMIF(Sheet3!C253:C684,B265,Sheet3!G253:G684)","v":0},{"$f":"SUMIF(Sheet3!C253:C684,B265,Sheet3!F253:F684)","v":0},-5.801314190978087E-7,null,{"$f":"Sheet3!C253","v":2042},{"$f":"Sheet3!B253","v":9},{"$f":"Sheet3!E253","v":-9.8861864284048477E-7},{"$f":"Sheet3!F253","v":4.9430932142024239E-9},{"$f":"Sheet3!G253","v":-4.9430932142024239E-9},{"$f":"Sheet3!H253","v":-9.9356173605468721E-7},{"$f":"Sheet3!A253","v":4}]
[null,{"$f":"IF(B265+1<=Sheet3!$C$2,B265+1,-9.99999999999999E+25)","v":-9.9999999999999902E+25},{"$f":"SUMIF(Sheet3!C254:C685,B266,Sheet3!D254:D685)","v":0},{"$f":"SUMIF(Sheet3!C254:C685,B266,Sheet3!G254:G685)","v":0},{"$f":"SUMIF(Sheet3!C254:C685,B266,Sheet3!F254:F685)","v":0},-5.801314190978087E-7,null,{"$f":"Sheet3!C254","v":2042},{"$f":"Sheet3!B254","v":10},{"$f":"Sheet3!E254","v":-9.9356173605468721E-7},{"$f":"Sheet3!F254","v":4.9678086802734361E-9},{"$f":"Sheet3!G254","v":-4.9678086802734361E-9},{"$f":"Sheet3!H254","v":-9.9852954473496061E-7},{"$f":"Sheet3!A254","v":4}]
[null,{"$f":"IF(B266+1<=Sheet3!$C$2,B266+1,-9.99999999999999E+25)","v":-9.9999999999999902E+25},{"$f":"SUMIF(Sheet3!C255:C686,B267,Sheet3!D255:D686)","v":0},{"$f":"SUMIF(Sheet3!C255:C686,B267,Sheet3!G255:G686)","v":0},{"$f":"SUMIF(Sheet3!C255:C686,B267,Sheet3!F255:F686)","v":0},-5.801314190978087E-7,null,{"$f":"Sheet3!C255","v":2042},{"$f":"Sheet3!B255","v":11},{"$f":"Sheet3!E255","v":-9.9852954473496061E-7},{"$f":"Sheet3!F255","v":4.9926477236748023E-9},{"$f":"Sheet3!G255","v":-4.9926477236748023E-9},{"$f":"Sheet3!H255","v":-1.0035221924586353E-6},{"$f":"Sheet3!A255","v":4}]
[null,{"$f":"IF(B267+1<=Sheet3!$C$2,B267+1,-9.99999999999999E+25)","v":-9.9999999999999902E+25},{"$f":"SUMIF(Sheet3!C256:C687,B268,Sheet3!D256:D687)","v":0},{"$f":"SUMIF(Sheet3!C256:C687,B268,Sheet3!G256:G687)","v":0},{"$f":"SUMIF(Sheet3!C256:C687,B268,Sheet3!F256:F687)","v":0},-5.801314190978087E-7,null,{"$f":"Sheet3!C256","v":2042},{"$f":"Sheet3!B256","v":12},{"$f":"Sheet3!E256","v":-1.0035221924586353E-6},{"$f":"Sheet3!F256","v":5.0176109622931768E-9},{"$f":"Sheet3!G256","v":-5.0176109622931768E-9},{"$f":"Sheet3!H256","v":-1.0085398034209286E-6},{"$f":"Sheet3!A256","v":4}]
[null,{"$f":"IF(B268+1<=Sheet3!$C$2,B268+1,-9.99999999999999E+25)","v":-9.9999999999999902E+25},{"$f":"SUMIF(Sheet3!C257:C688,B269,Sheet3!D257:D688)","v":0},{"$f":"SUMIF(Sheet3!C257:C688,B269,Sheet3!G257:G688)","v":0},{"$f":"SUMIF(Sheet3!C257:C688,B269,Sheet3!F257:F688)","v":0},-5.801314190978087E-7,null,{"$f":"Sheet3!C257","v":2043},{"$f":"Sheet3!B257","v":1},{"$f":"Sheet3!E257","v":-1.0085398034209286E-6},{"$f":"Sheet3!F257","v":5.0426990171046426E-9},{"$f":"Sheet3!G257","v":-5.0426990171046426E-9},{"$f":"Sheet3!H257","v":-1.0135825024380333E-6},{"$f":"Sheet3!A257","v":4}]
[null,{"$f":"IF(B269+1<=Sheet3!$C$2,B269+1,-9.99999999999999E+25)","v":-9.9999999999999902E+25},{"$f":"SUMIF(Sheet3!C258:C689,B270,Sheet3!D258:D689)","v":0},{"$f":"SUMIF(Sheet3!C258:C689,B270,Sheet3!G258:G689)","v":0},{"$f":"SUMIF(Sheet3!C258:C689,B270,Sheet3!F258:F689)","v":0},-5.801314190978087E-7,null,{"$f":"Sheet3!C258","v":2043},{"$f":"Sheet3!B258","v":2},{"$f":"Sheet3!E258","v":-1.0135825024380333E-6},{"$f":"Sheet3!F258","v":5.0679125121901662E-9},{"$f":"Sheet3!G258","v":-5.0679125121901662E-9},{"$f":"Sheet3!H258","v":-1.0186504149502236E-6},{"$f":"Sheet3!A258","v":4}]
[null,{"$f":"IF(B270+1<=Sheet3!$C$2,B270+1,-9.99999999999999E+25)","v":-9.9999999999999902E+25},{"$f":"SUMIF(Sheet3!C259:C690,B271,Sheet3!D259:D690)","v":0},null,null,null,null,{"$f":"Sheet3!C259","v":2043},{"$f":"Sheet3!B259","v":3},{"$f":"Sheet3!E259","v":-1.0186504149502236E-6},{"$f":"Sheet3!F259","v":5.0932520747511173E-9},{"$f":"Sheet3!G259","v":-5.0932520747511173E-9},{"$f":"Sheet3!H259","v":-1.0237436670249747E-6},{"$f":"Sheet3!A259","v":4}]
[null,{"$f":"IF(B271+1<=Sheet3!$C$2,B271+1,-9.99999999999999E+25)","v":-9.9999999999999902E+25},{"$f":"SUMIF(Sheet3!C260:C691,B272,Sheet3!D260:D691)","v":0},null,null,null,null,{"$f":"Sheet3!C260","v":2043},{"$f":"Sheet3!B260","v":4},{"$f":"Sheet3!E260","v":-1.0237436670249747E-6},{"$f":"Sheet3!F260","v":5.1187183351248737E-9},{"$f":"Sheet3!G260","v":-5.1187183351248737E-9},{"$f":"Sheet3!H260","v":-1.0288623853600996E-6},{"$f":"Sheet3!A260","v":4}]
[null,{"$f":"IF(B272+1<=Sheet3!$C$2,B272+1,-9.99999999999999E+25)","v":-9.9999999999999902E+25},{"$f":"SUMIF(Sheet3!C261:C692,B273,Sheet3!D261:D692)","v":0},null,null,null,null,{"$f":"Sheet3!C261","v":2043},{"$f":"Sheet3!B261","v":5},{"$f":"Sheet3!E261","v":-1.0288623853600996E-6},{"$f":"Sheet3!F261","v":5.1443119268004978E-9},{"$f":"Sheet3!G261","v":-5.1443119268004978E-9},{"$f":"Sheet3!H261","v":-1.0340066972869E-6},{"$f":"Sheet3!A261","v":4}]
[null,{"$f":"IF(B273+1<=Sheet3!$C$2,B273+1,-9.99999999999999E+25)","v":-9.9999999999999902E+25},{"$f":"SUMIF(Sheet3!C262:C693,B274,Sheet3!D262:D693)","v":0},null,null,null,null,{"$f":"Sheet3!C262","v":2043},{"$f":"Sheet3!B262","v":6},{"$f":"Sheet3!E262","v":-1.0340066972869E-6},{"$f":"Sheet3!F262","v":5.1700334864345002E-9},{"$f":"Sheet3!G262","v":-5.1700334864345002E-9},{"$f":"Sheet3!H262","v":-1.0391767307733345E-6},{"$f":"Sheet3!A262","v":4}]
[null,{"$f":"IF(B274+1<=Sheet3!$C$2,B274+1,-9.99999999999999E+25)","v":-9.9999999999999902E+25},{"$f":"SUMIF(Sheet3!C263:C694,B275,Sheet3!D263:D694)","v":0},null,null,null,null,{"$f":"Sheet3!C263","v":2043},{"$f":"Sheet3!B263","v":7},{"$f":"Sheet3!E263","v":-1.0391767307733345E-6},{"$f":"Sheet3!F263","v":5.1958836538666723E-9},{"$f":"Sheet3!G263","v":-5.1958836538666723E-9},{"$f":"Sheet3!H263","v":-1.0443726144272012E-6},{"$f":"Sheet3!A263","v":4}]
[null,{"$f":"IF(B275+1<=Sheet3!$C$2,B275+1,-9.99999999999999E+25)","v":-9.9999999999999902E+25},{"$f":"SUMIF(Sheet3!C264:C695,B276,Sheet3!D264:D695)","v":0},null,null,null,null,{"$f":"Sheet3!C264","v":2043},{"$f":"Sheet3!B264","v":8},{"$f":"Sheet3!E264","v":-1.0443726144272012E-6},{"$f":"Sheet3!F264","v":5.2218630721360064E-9},{"$f":"Sheet3!G264","v":-5.2218630721360064E-9},{"$f":"Sheet3!H264","v":-1.0495944774993372E-6},{"$f":"Sheet3!A264","v":4}]
[null,{"$f":"IF(B276+1<=Sheet3!$C$2,B276+1,-9.99999999999999E+25)","v":-9.9999999999999902E+25},{"$f":"SUMIF(Sheet3!C265:C696,B277,Sheet3!D265:D696)","v":0},null,null,null,null,{"$f":"Sheet3!C265","v":2043},{"$f":"Sheet3!B265","v":9},{"$f":"Sheet3!E265","v":-1.0495944774993372E-6},{"$f":"Sheet3!F265","v":5.2479723874966857E-9},{"$f":"Sheet3!G265","v":-5.2479723874966857E-9},{"$f":"Sheet3!H265","v":-1.0548424498868339E-6},{"$f":"Sheet3!A265","v":4}]
[null,{"$f":"IF(B277+1<=Sheet3!$C$2,B277+1,-9.99999999999999E+25)","v":-9.9999999999999902E+25},{"$f":"SUMIF(Sheet3!C266:C697,B278,Sheet3!D266:D697)","v":0},null,null,null,null,{"$f":"Sheet3!C266","v":2043},{"$f":"Sheet3!B266","v":10},{"$f":"Sheet3!E266","v":-1.0548424498868339E-6},{"$f":"Sheet3!F266","v":5.2742122494341692E-9},{"$f":"Sheet3!G266","v":-5.2742122494341692E-9},{"$f":"Sheet3!H266","v":-1.060116662136268E-6},{"$f":"Sheet3!A266","v":4}]
[null,{"$f":"IF(B278+1<=Sheet3!$C$2,B278+1,-9.99999999999999E+25)","v":-9.9999999999999902E+25},{"$f":"SUMIF(Sheet3!C267:C698,B279,Sheet3!D267:D698)","v":0},null,null,null,null,{"$f":"Sheet3!C267","v":2043},{"$f":"Sheet3!B267","v":11},{"$f":"Sheet3!E267","v":-1.060116662136268E-6},{"$f":"Sheet3!F267","v":5.3005833106813404E-9},{"$f":"Sheet3!G267","v":-5.3005833106813404E-9},{"$f":"Sheet3!H267","v":-1.0654172454469494E-6},{"$f":"Sheet3!A267","v":4}]
[null,{"$f":"IF(B279+1<=Sheet3!$C$2,B279+1,-9.99999999999999E+25)","v":-9.9999999999999902E+25},{"$f":"SUMIF(Sheet3!C268:C699,B280,Sheet3!D268:D699)","v":0},null,null,null,null,{"$f":"Sheet3!C268","v":2043},{"$f":"Sheet3!B268","v":12},{"$f":"Sheet3!E268","v":-1.0654172454469494E-6},{"$f":"Sheet3!F268","v":5.3270862272347468E-9},{"$f":"Sheet3!G268","v":-5.3270862272347468E-9},{"$f":"Sheet3!H268","v":-1.0707443316741842E-6},{"$f":"Sheet3!A268","v":4}]
[null,{"$f":"IF(B280+1<=Sheet3!$C$2,B280+1,-9.99999999999999E+25)","v":-9.9999999999999902E+25},{"$f":"SUMIF(Sheet3!C269:C700,B281,Sheet3!D269:D700)","v":0},null,null,null,null,{"$f":"Sheet3!C269","v":2044},{"$f":"Sheet3!B269","v":1},{"$f":"Sheet3!E269","v":-1.0707443316741842E-6},{"$f":"Sheet3!F269","v":5.3537216583709207E-9},{"$f":"Sheet3!G269","v":-5.3537216583709207E-9},{"$f":"Sheet3!H269","v":-1.0760980533325551E-6},{"$f":"Sheet3!A269","v":4}]
[null,{"$f":"IF(B281+1<=Sheet3!$C$2,B281+1,-9.99999999999999E+25)","v":-9.9999999999999902E+25},{"$f":"SUMIF(Sheet3!C270:C701,B282,Sheet3!D270:D701)","v":0},null,null,null,null,{"$f":"Sheet3!C270","v":2044},{"$f":"Sheet3!B270","v":2},{"$f":"Sheet3!E270","v":-1.0760980533325551E-6},{"$f":"Sheet3!F270","v":5.3804902666627759E-9},{"$f":"Sheet3!G270","v":-5.3804902666627759E-9},{"$f":"Sheet3!H270","v":-1.0814785435992179E-6},{"$f":"Sheet3!A270","v":4}]
[null,{"$f":"IF(B282+1<=Sheet3!$C$2,B282+1,-9.99999999999999E+25)","v":-9.9999999999999902E+25},{"$f":"SUMIF(Sheet3!C271:C702,B283,Sheet3!D271:D702)","v":0},null,null,null,null,{"$f":"Sheet3!C271","v":2044},{"$f":"Sheet3!B271","v":3},{"$f":"Sheet3!E271","v":-1.0814785435992179E-6},{"$f":"Sheet3!F271","v":5.4073927179960896E-9},{"$f":"Sheet3!G271","v":-5.4073927179960896E-9},{"$f":"Sheet3!H271","v":-1.086885936317214E-6},{"$f":"Sheet3!A271","v":4}]
[null,{"$f":"IF(B283+1<=Sheet3!$C$2,B283+1,-9.99999999999999E+25)","v":-9.9999999999999902E+25},{"$f":"SUMIF(Sheet3!C272:C703,B284,Sheet3!D272:D703)","v":0},null,null,null,null,{"$f":"Sheet3!C272","v":2044},{"$f":"Sheet3!B272","v":4},{"$f":"Sheet3!E272","v":-1.086885936317214E-6},{"$f":"Sheet3!F272","v":5.4344296815860701E-9},{"$f":"Sheet3!G272","v":-5.4344296815860701E-9},{"$f":"Sheet3!H272","v":-1.0923203659988001E-6},{"$f":"Sheet3!A272","v":4}]
[null,{"$f":"IF(B284+1<=Sheet3!$C$2,B284+1,-9.99999999999999E+25)","v":-9.9999999999999902E+25},{"$f":"SUMIF(Sheet3!C273:C704,B285,Sheet3!D273:D704)","v":0},null,null,null,null,{"$f":"Sheet3!C273","v":2044},{"$f":"Sheet3!B273","v":5},{"$f":"Sheet3!E273","v":-1.0923203659988001E-6},{"$f":"Sheet3!F273","v":5.461601829994E-9},{"$f":"Sheet3!G273","v":-5.461601829994E-9},{"$f":"Sheet3!H273","v":-1.097781967828794E-6},{"$f":"Sheet3!A273","v":4}]
[null,{"$f":"IF(B285+1<=Sheet3!$C$2,B285+1,-9.99999999999999E+25)","v":-9.9999999999999902E+25},{"$f":"SUMIF(Sheet3!C274:C705,B286,Sheet3!D274:D705)","v":0},null,null,null,null,{"$f":"Sheet3!C274","v":2044},{"$f":"Sheet3!B274","v":6},{"$f":"Sheet3!E274","v":-1.097781967828794E-6},{"$f":"Sheet3!F274","v":5.4889098391439706E-9},{"$f":"Sheet3!G274","v":-5.4889098391439706E-9},{"$f":"Sheet3!H274","v":-1.103270877667938E-6},{"$f":"Sheet3!A274","v":4}]
[null,{"$f":"IF(B286+1<=Sheet3!$C$2,B286+1,-9.99999999999999E+25)","v":-9.9999999999999902E+25},{"$f":"SUMIF(Sheet3!C275:C706,B287,Sheet3!D275:D706)","v":0},null,null,null,null,{"$f":"Sheet3!C275","v":2044},{"$f":"Sheet3!B275","v":7},{"$f":"Sheet3!E275","v":-1.103270877667938E-6},{"$f":"Sheet3!F275","v":5.5163543883396899E-9},{"$f":"Sheet3!G275","v":-5.5163543883396899E-9},{"$f":"Sheet3!H275","v":-1.1087872320562776E-6},{"$f":"Sheet3!A275","v":4}]
[null,{"$f":"IF(B287+1<=Sheet3!$C$2,B287+1,-9.99999999999999E+25)","v":-9.9999999999999902E+25},{"$f":"SUMIF(Sheet3!C276:C707,B288,Sheet3!D276:D707)","v":0},null,null,null,null,{"$f":"Sheet3!C276","v":2044},{"$f":"Sheet3!B276","v":8},{"$f":"Sheet3!E276","v":-1.1087872320562776E-6},{"$f":"Sheet3!F276","v":5.5439361602813879E-9},{"$f":"Sheet3!G276","v":-5.5439361602813879E-9},{"$f":"Sheet3!H276","v":-1.1143311682165591E-6},{"$f":"Sheet3!A276","v":4}]
[null,{"$f":"IF(B288+1<=Sheet3!$C$2,B288+1,-9.99999999999999E+25)","v":-9.9999999999999902E+25},{"$f":"SUMIF(Sheet3!C277:C708,B289,Sheet3!D277:D708)","v":0},null,null,null,null,{"$f":"Sheet3!C277","v":2044},{"$f":"Sheet3!B277","v":9},{"$f":"Sheet3!E277","v":-1.1143311682165591E-6},{"$f":"Sheet3!F277","v":5.5716558410827958E-9},{"$f":"Sheet3!G277","v":-5.5716558410827958E-9},{"$f":"Sheet3!H277","v":-1.1199028240576418E-6},{"$f":"Sheet3!A277","v":4}]
[null,{"$f":"IF(B289+1<=Sheet3!$C$2,B289+1,-9.99999999999999E+25)","v":-9.9999999999999902E+25},{"$f":"SUMIF(Sheet3!C278:C709,B290,Sheet3!D278:D709)","v":0},null,null,null,null,{"$f":"Sheet3!C278","v":2044},{"$f":"Sheet3!B278","v":10},{"$f":"Sheet3!E278","v":-1.1199028240576418E-6},{"$f":"Sheet3!F278","v":5.5995141202882087E-9},{"$f":"Sheet3!G278","v":-5.5995141202882087E-9},{"$f":"Sheet3!H278","v":-1.1255023381779299E-6},{"$f":"Sheet3!A278","v":4}]
[null,{"$f":"IF(B290+1<=Sheet3!$C$2,B290+1,-9.99999999999999E+25)","v":-9.9999999999999902E+25},{"$f":"SUMIF(Sheet3!C279:C710,B291,Sheet3!D279:D710)","v":0},null,null,null,null,{"$f":"Sheet3!C279","v":2044},{"$f":"Sheet3!B279","v":11},{"$f":"Sheet3!E279","v":-1.1255023381779299E-6},{"$f":"Sheet3!F279","v":5.6275116908896493E-9},{"$f":"Sheet3!G279","v":-5.6275116908896493E-9},{"$f":"Sheet3!H279","v":-1.1311298498688195E-6},{"$f":"Sheet3!A279","v":4}]
[null,{"$f":"IF(B291+1<=Sheet3!$C$2,B291+1,-9.99999999999999E+25)","v":-9.9999999999999902E+25},{"$f":"SUMIF(Sheet3!C280:C711,B292,Sheet3!D280:D711)","v":0},null,null,null,null,{"$f":"Sheet3!C280","v":2044},{"$f":"Sheet3!B280","v":12},{"$f":"Sheet3!E280","v":-1.1311298498688195E-6},{"$f":"Sheet3!F280","v":5.6556492493440972E-9},{"$f":"Sheet3!G280","v":-5.6556492493440972E-9},{"$f":"Sheet3!H280","v":-1.1367854991181635E-6},{"$f":"Sheet3!A280","v":4}]
[null,{"$f":"IF(B292+1<=Sheet3!$C$2,B292+1,-9.99999999999999E+25)","v":-9.9999999999999902E+25},{"$f":"SUMIF(Sheet3!C281:C712,B293,Sheet3!D281:D712)","v":0},null,null,null,null,{"$f":"Sheet3!C281","v":2045},{"$f":"Sheet3!B281","v":1},{"$f":"Sheet3!E281","v":-1.1367854991181635E-6},{"$f":"Sheet3!F281","v":5.6839274955908178E-9},{"$f":"Sheet3!G281","v":-5.6839274955908178E-9},{"$f":"Sheet3!H281","v":-1.1424694266137543E-6},{"$f":"Sheet3!A281","v":4}]
[null,{"$f":"IF(B293+1<=Sheet3!$C$2,B293+1,-9.99999999999999E+25)","v":-9.9999999999999902E+25},{"$f":"SUMIF(Sheet3!C282:C713,B294,Sheet3!D282:D713)","v":0},null,null,null,null,{"$f":"Sheet3!C282","v":2045},{"$f":"Sheet3!B282","v":2},{"$f":"Sheet3!E282","v":-1.1424694266137543E-6},{"$f":"Sheet3!F282","v":5.7123471330687709E-9},{"$f":"Sheet3!G282","v":-5.7123471330687709E-9},{"$f":"Sheet3!H282","v":-1.1481817737468229E-6},{"$f":"Sheet3!A282","v":4}]
[null,{"$f":"IF(B294+1<=Sheet3!$C$2,B294+1,-9.99999999999999E+25)","v":-9.9999999999999902E+25},{"$f":"SUMIF(Sheet3!C283:C714,B295,Sheet3!D283:D714)","v":0},null,null,null,null,{"$f":"Sheet3!C283","v":2045},{"$f":"Sheet3!B283","v":3},{"$f":"Sheet3!E283","v":-1.1481817737468229E-6},{"$f":"Sheet3!F283","v":5.7409088687341145E-9},{"$f":"Sheet3!G283","v":-5.7409088687341145E-9},{"$f":"Sheet3!H283","v":-1.153922682615557E-6},{"$f":"Sheet3!A283","v":4}]
[null,{"$f":"IF(B295+1<=Sheet3!$C$2,B295+1,-9.99999999999999E+25)","v":-9.9999999999999902E+25},{"$f":"SUMIF(Sheet3!C284:C715,B296,Sheet3!D284:D715)","v":0},null,null,null,null,{"$f":"Sheet3!C284","v":2045},{"$f":"Sheet3!B284","v":4},{"$f":"Sheet3!E284","v":-1.153922682615557E-6},{"$f":"Sheet3!F284","v":5.7696134130777848E-9},{"$f":"Sheet3!G284","v":-5.7696134130777848E-9},{"$f":"Sheet3!H284","v":-1.1596922960286349E-6},{"$f":"Sheet3!A284","v":4}]
[null,{"$f":"IF(B296+1<=Sheet3!$C$2,B296+1,-9.99999999999999E+25)","v":-9.9999999999999902E+25},{"$f":"SUMIF(Sheet3!C285:C716,B297,Sheet3!D285:D716)","v":0},null,null,null,null,{"$f":"Sheet3!C285","v":2045},{"$f":"Sheet3!B285","v":5},{"$f":"Sheet3!E285","v":-1.1596922960286349E-6},{"$f":"Sheet3!F285","v":5.7984614801431744E-9},{"$f":"Sheet3!G285","v":-5.7984614801431744E-9},{"$f":"Sheet3!H285","v":-1.1654907575087781E-6},{"$f":"Sheet3!A285","v":4}]
[null,{"$f":"IF(B297+1<=Sheet3!$C$2,B297+1,-9.99999999999999E+25)","v":-9.9999999999999902E+25},{"$f":"SUMIF(Sheet3!C286:C717,B298,Sheet3!D286:D717)","v":0},null,null,null,null,{"$f":"Sheet3!C286","v":2045},{"$f":"Sheet3!B286","v":6},{"$f":"Sheet3!E286","v":-1.1654907575087781E-6},{"$f":"Sheet3!F286","v":5.8274537875438906E-9},{"$f":"Sheet3!G286","v":-5.8274537875438906E-9},{"$f":"Sheet3!H286","v":-1.171318211296322E-6},{"$f":"Sheet3!A286","v":4}]
[null,{"$f":"IF(B298+1<=Sheet3!$C$2,B298+1,-9.99999999999999E+25)","v":-9.9999999999999902E+25},{"$f":"SUMIF(Sheet3!C287:C718,B299,Sheet3!D287:D718)","v":0},null,null,null,null,{"$f":"Sheet3!C287","v":2045},{"$f":"Sheet3!B287","v":7},{"$f":"Sheet3!E287","v":-1.171318211296322E-6},{"$f":"Sheet3!F287","v":5.8565910564816097E-9},{"$f":"Sheet3!G287","v":-5.8565910564816097E-9},{"$f":"Sheet3!H287","v":-1.1771748023528036E-6},{"$f":"Sheet3!A287","v":4}]
[null,{"$f":"IF(B299+1<=Sheet3!$C$2,B299+1,-9.99999999999999E+25)","v":-9.9999999999999902E+25},{"$f":"SUMIF(Sheet3!C288:C719,B300,Sheet3!D288:D719)","v":0},null,null,null,null,{"$f":"Sheet3!C288","v":2045},{"$f":"Sheet3!B288","v":8},{"$f":"Sheet3!E288","v":-1.1771748023528036E-6},{"$f":"Sheet3!F288","v":5.885874011764018E-9},{"$f":"Sheet3!G288","v":-5.885874011764018E-9},{"$f":"Sheet3!H288","v":-1.1830606763645677E-6},{"$f":"Sheet3!A288","v":4}]
[null,{"$f":"IF(B300+1<=Sheet3!$C$2,B300+1,-9.99999999999999E+25)","v":-9.9999999999999902E+25},{"$f":"SUMIF(Sheet3!C289:C720,B301,Sheet3!D289:D720)","v":0},null,null,null,null,{"$f":"Sheet3!C289","v":2045},{"$f":"Sheet3!B289","v":9},{"$f":"Sheet3!E289","v":-1.1830606763645677E-6},{"$f":"Sheet3!F289","v":5.9153033818228387E-9},{"$f":"Sheet3!G289","v":-5.9153033818228387E-9},{"$f":"Sheet3!H289","v":-1.1889759797463906E-6},{"$f":"Sheet3!A289","v":4}]
[null,{"$f":"IF(B301+1<=Sheet3!$C$2,B301+1,-9.99999999999999E+25)","v":-9.9999999999999902E+25},{"$f":"SUMIF(Sheet3!C290:C721,B302,Sheet3!D290:D721)","v":0},null,null,null,null,{"$f":"Sheet3!C290","v":2045},{"$f":"Sheet3!B290","v":10},{"$f":"Sheet3!E290","v":-1.1889759797463906E-6},{"$f":"Sheet3!F290","v":5.944879898731953E-9},{"$f":"Sheet3!G290","v":-5.944879898731953E-9},{"$f":"Sheet3!H290","v":-1.1949208596451225E-6},{"$f":"Sheet3!A290","v":4}]
[null,{"$f":"IF(B302+1<=Sheet3!$C$2,B302+1,-9.99999999999999E+25)","v":-9.9999999999999902E+25},{"$f":"SUMIF(Sheet3!C291:C722,B303,Sheet3!D291:D722)","v":0},null,null,null,null,{"$f":"Sheet3!C291","v":2045},{"$f":"Sheet3!B291","v":11},{"$f":"Sheet3!E291","v":-1.1949208596451225E-6},{"$f":"Sheet3!F291","v":5.9746042982256117E-9},{"$f":"Sheet3!G291","v":-5.9746042982256117E-9},{"$f":"Sheet3!H291","v":-1.2008954639433482E-6},{"$f":"Sheet3!A291","v":4}]
[null,{"$f":"IF(B303+1<=Sheet3!$C$2,B303+1,-9.99999999999999E+25)","v":-9.9999999999999902E+25},{"$f":"SUMIF(Sheet3!C292:C723,B304,Sheet3!D292:D723)","v":0},null,null,null,null,{"$f":"Sheet3!C292","v":2045},{"$f":"Sheet3!B292","v":12},{"$f":"Sheet3!E292","v":-1.2008954639433482E-6},{"$f":"Sheet3!F292","v":6.0044773197167403E-9},{"$f":"Sheet3!G292","v":-6.0044773197167403E-9},{"$f":"Sheet3!H292","v":-1.2068999412630649E-6},{"$f":"Sheet3!A292","v":4}]
[null,{"$f":"IF(B304+1<=Sheet3!$C$2,B304+1,-9.99999999999999E+25)","v":-9.9999999999999902E+25},{"$f":"SUMIF(Sheet3!C293:C724,B305,Sheet3!D293:D724)","v":0},null,null,null,null,{"$f":"Sheet3!C293","v":2046},{"$f":"Sheet3!B293","v":1},{"$f":"Sheet3!E293","v":-1.2068999412630649E-6},{"$f":"Sheet3!F293","v":6.0344997063153239E-9},{"$f":"Sheet3!G293","v":-6.0344997063153239E-9},{"$f":"Sheet3!H293","v":-1.2129344409693801E-6},{"$f":"Sheet3!A293","v":4}]
[null,{"$f":"IF(B305+1<=Sheet3!$C$2,B305+1,-9.99999999999999E+25)","v":-9.9999999999999902E+25},{"$f":"SUMIF(Sheet3!C294:C725,B306,Sheet3!D294:D725)","v":0},null,null,null,null,{"$f":"Sheet3!C294","v":2046},{"$f":"Sheet3!B294","v":2},{"$f":"Sheet3!E294","v":-1.2129344409693801E-6},{"$f":"Sheet3!F294","v":6.064672204846901E-9},{"$f":"Sheet3!G294","v":-6.064672204846901E-9},{"$f":"Sheet3!H294","v":-1.218999113174227E-6},{"$f":"Sheet3!A294","v":4}]
[null,{"$f":"IF(B306+1<=Sheet3!$C$2,B306+1,-9.99999999999999E+25)","v":-9.9999999999999902E+25},{"$f":"SUMIF(Sheet3!C295:C726,B307,Sheet3!D295:D726)","v":0},null,null,null,null,{"$f":"Sheet3!C295","v":2046},{"$f":"Sheet3!B295","v":3},{"$f":"Sheet3!E295","v":-1.218999113174227E-6},{"$f":"Sheet3!F295","v":6.0949955658711347E-9},{"$f":"Sheet3!G295","v":-6.0949955658711347E-9},{"$f":"Sheet3!H295","v":-1.2250941087400982E-6},{"$f":"Sheet3!A295","v":4}]
[null,{"$f":"IF(B307+1<=Sheet3!$C$2,B307+1,-9.99999999999999E+25)","v":-9.9999999999999902E+25},{"$f":"SUMIF(Sheet3!C296:C727,B308,Sheet3!D296:D727)","v":0},null,null,null,null,{"$f":"Sheet3!C296","v":2046},{"$f":"Sheet3!B296","v":4},{"$f":"Sheet3!E296","v":-1.2250941087400982E-6},{"$f":"Sheet3!F296","v":6.1254705437004908E-9},{"$f":"Sheet3!G296","v":-6.1254705437004908E-9},{"$f":"Sheet3!H296","v":-1.2312195792837985E-6},{"$f":"Sheet3!A296","v":4}]
[null,{"$f":"IF(B308+1<=Sheet3!$C$2,B308+1,-9.99999999999999E+25)","v":-9.9999999999999902E+25},{"$f":"SUMIF(Sheet3!C297:C728,B309,Sheet3!D297:D728)","v":0},null,null,null,null,{"$f":"Sheet3!C297","v":2046},{"$f":"Sheet3!B297","v":5},{"$f":"Sheet3!E297","v":-1.2312195792837985E-6},{"$f":"Sheet3!F297","v":6.1560978964189925E-9},{"$f":"Sheet3!G297","v":-6.1560978964189925E-9},{"$f":"Sheet3!H297","v":-1.2373756771802175E-6},{"$f":"Sheet3!A297","v":4}]
[null,{"$f":"IF(B309+1<=Sheet3!$C$2,B309+1,-9.99999999999999E+25)","v":-9.9999999999999902E+25},{"$f":"SUMIF(Sheet3!C298:C729,B310,Sheet3!D298:D729)","v":0},null,null,null,null,{"$f":"Sheet3!C298","v":2046},{"$f":"Sheet3!B298","v":6},{"$f":"Sheet3!E298","v":-1.2373756771802175E-6},{"$f":"Sheet3!F298","v":6.1868783859010865E-9},{"$f":"Sheet3!G298","v":-6.1868783859010865E-9},{"$f":"Sheet3!H298","v":-1.2435625555661186E-6},{"$f":"Sheet3!A298","v":4}]
[null,{"$f":"IF(B310+1<=Sheet3!$C$2,B310+1,-9.99999999999999E+25)","v":-9.9999999999999902E+25},{"$f":"SUMIF(Sheet3!C299:C730,B311,Sheet3!D299:D730)","v":0},null,null,null,null,{"$f":"Sheet3!C299","v":2046},{"$f":"Sheet3!B299","v":7},{"$f":"Sheet3!E299","v":-1.2435625555661186E-6},{"$f":"Sheet3!F299","v":6.2178127778305923E-9},{"$f":"Sheet3!G299","v":-6.2178127778305923E-9},{"$f":"Sheet3!H299","v":-1.2497803683439492E-6},{"$f":"Sheet3!A299","v":4}]
[null,{"$f":"IF(B311+1<=Sheet3!$C$2,B311+1,-9.99999999999999E+25)","v":-9.9999999999999902E+25},{"$f":"SUMIF(Sheet3!C300:C731,B312,Sheet3!D300:D731)","v":0},null,null,null,null,{"$f":"Sheet3!C300","v":2046},{"$f":"Sheet3!B300","v":8},{"$f":"Sheet3!E300","v":-1.2497803683439492E-6},{"$f":"Sheet3!F300","v":6.2489018417197454E-9},{"$f":"Sheet3!G300","v":-6.2489018417197454E-9},{"$f":"Sheet3!H300","v":-1.256029270185669E-6},{"$f":"Sheet3!A300","v":4}]
[null,{"$f":"IF(B312+1<=Sheet3!$C$2,B312+1,-9.99999999999999E+25)","v":-9.9999999999999902E+25},{"$f":"SUMIF(Sheet3!C301:C732,B313,Sheet3!D301:D732)","v":0},null,null,null,null,{"$f":"Sheet3!C301","v":2046},{"$f":"Sheet3!B301","v":9},{"$f":"Sheet3!E301","v":-1.256029270185669E-6},{"$f":"Sheet3!F301","v":6.280146350928345E-9},{"$f":"Sheet3!G301","v":-6.280146350928345E-9},{"$f":"Sheet3!H301","v":-1.2623094165365973E-6},{"$f":"Sheet3!A301","v":4}]
[null,{"$f":"IF(B313+1<=Sheet3!$C$2,B313+1,-9.99999999999999E+25)","v":-9.9999999999999902E+25},{"$f":"SUMIF(Sheet3!C302:C733,B314,Sheet3!D302:D733)","v":0},null,null,null,null,{"$f":"Sheet3!C302","v":2046},{"$f":"Sheet3!B302","v":10},{"$f":"Sheet3!E302","v":-1.2623094165365973E-6},{"$f":"Sheet3!F302","v":6.3115470826829864E-9},{"$f":"Sheet3!G302","v":-6.3115470826829864E-9},{"$f":"Sheet3!H302","v":-1.2686209636192803E-6},{"$f":"Sheet3!A302","v":4}]
[null,{"$f":"IF(B314+1<=Sheet3!$C$2,B314+1,-9.99999999999999E+25)","v":-9.9999999999999902E+25},{"$f":"SUMIF(Sheet3!C303:C734,B315,Sheet3!D303:D734)","v":0},null,null,null,null,{"$f":"Sheet3!C303","v":2046},{"$f":"Sheet3!B303","v":11},{"$f":"Sheet3!E303","v":-1.2686209636192803E-6},{"$f":"Sheet3!F303","v":6.3431048180964019E-9},{"$f":"Sheet3!G303","v":-6.3431048180964019E-9},{"$f":"Sheet3!H303","v":-1.2749640684373766E-6},{"$f":"Sheet3!A303","v":4}]
[null,{"$f":"IF(B315+1<=Sheet3!$C$2,B315+1,-9.99999999999999E+25)","v":-9.9999999999999902E+25},{"$f":"SUMIF(Sheet3!C304:C735,B316,Sheet3!D304:D735)","v":0},null,null,null,null,{"$f":"Sheet3!C304","v":2046},{"$f":"Sheet3!B304","v":12},{"$f":"Sheet3!E304","v":-1.2749640684373766E-6},{"$f":"Sheet3!F304","v":6.3748203421868827E-9},{"$f":"Sheet3!G304","v":-6.3748203421868827E-9},{"$f":"Sheet3!H304","v":-1.2813388887795635E-6},{"$f":"Sheet3!A304","v":4}]
[null,{"$f":"IF(B316+1<=Sheet3!$C$2,B316+1,-9.99999999999999E+25)","v":-9.9999999999999902E+25},{"$f":"SUMIF(Sheet3!C305:C736,B317,Sheet3!D305:D736)","v":0},null,null,null,null,{"$f":"Sheet3!C305","v":2047},{"$f":"Sheet3!B305","v":1},{"$f":"Sheet3!E305","v":-1.2813388887795635E-6},{"$f":"Sheet3!F305","v":6.4066944438978176E-9},{"$f":"Sheet3!G305","v":-6.4066944438978176E-9},{"$f":"Sheet3!H305","v":-1.2877455832234613E-6},{"$f":"Sheet3!A305","v":4}]
[null,{"$f":"IF(B317+1<=Sheet3!$C$2,B317+1,-9.99999999999999E+25)","v":-9.9999999999999902E+25},{"$f":"SUMIF(Sheet3!C306:C737,B318,Sheet3!D306:D737)","v":0},null,null,null,null,{"$f":"Sheet3!C306","v":2047},{"$f":"Sheet3!B306","v":2},{"$f":"Sheet3!E306","v":-1.2877455832234613E-6},{"$f":"Sheet3!F306","v":6.4387279161173064E-9},{"$f":"Sheet3!G306","v":-6.4387279161173064E-9},{"$f":"Sheet3!H306","v":-1.2941843111395785E-6},{"$f":"Sheet3!A306","v":4}]
[null,{"$f":"IF(B318+1<=Sheet3!$C$2,B318+1,-9.99999999999999E+25)","v":-9.9999999999999902E+25},{"$f":"SUMIF(Sheet3!C307:C738,B319,Sheet3!D307:D738)","v":0},null,null,null,null,{"$f":"Sheet3!C307","v":2047},{"$f":"Sheet3!B307","v":3},{"$f":"Sheet3!E307","v":-1.2941843111395785E-6},{"$f":"Sheet3!F307","v":6.4709215556978917E-9},{"$f":"Sheet3!G307","v":-6.4709215556978917E-9},{"$f":"Sheet3!H307","v":-1.3006552326952763E-6},{"$f":"Sheet3!A307","v":4}]
[null,{"$f":"IF(B319+1<=Sheet3!$C$2,B319+1,-9.99999999999999E+25)","v":-9.9999999999999902E+25},{"$f":"SUMIF(Sheet3!C308:C739,B320,Sheet3!D308:D739)","v":0},null,null,null,null,{"$f":"Sheet3!C308","v":2047},{"$f":"Sheet3!B308","v":4},{"$f":"Sheet3!E308","v":-1.3006552326952763E-6},{"$f":"Sheet3!F308","v":6.503276163476381E-9},{"$f":"Sheet3!G308","v":-6.503276163476381E-9},{"$f":"Sheet3!H308","v":-1.3071585088587527E-6},{"$f":"Sheet3!A308","v":4}]
[null,{"$f":"IF(B320+1<=Sheet3!$C$2,B320+1,-9.99999999999999E+25)","v":-9.9999999999999902E+25},{"$f":"SUMIF(Sheet3!C309:C740,B321,Sheet3!D309:D740)","v":0},null,null,null,null,{"$f":"Sheet3!C309","v":2047},{"$f":"Sheet3!B309","v":5},{"$f":"Sheet3!E309","v":-1.3071585088587527E-6},{"$f":"Sheet3!F309","v":6.535792544293763E-9},{"$f":"Sheet3!G309","v":-6.535792544293763E-9},{"$f":"Sheet3!H309","v":-1.3136943014030464E-6},{"$f":"Sheet3!A309","v":4}]
[null,{"$f":"IF(B321+1<=Sheet3!$C$2,B321+1,-9.99999999999999E+25)","v":-9.9999999999999902E+25},{"$f":"SUMIF(Sheet3!C310:C741,B322,Sheet3!D310:D741)","v":0},null,null,null,null,{"$f":"Sheet3!C310","v":2047},{"$f":"Sheet3!B310","v":6},{"$f":"Sheet3!E310","v":-1.3136943014030464E-6},{"$f":"Sheet3!F310","v":6.5684715070152322E-9},{"$f":"Sheet3!G310","v":-6.5684715070152322E-9},{"$f":"Sheet3!H310","v":-1.3202627729100617E-6},{"$f":"Sheet3!A310","v":4}]
[null,{"$f":"IF(B322+1<=Sheet3!$C$2,B322+1,-9.99999999999999E+25)","v":-9.9999999999999902E+25},{"$f":"SUMIF(Sheet3!C311:C742,B323,Sheet3!D311:D742)","v":0},null,null,null,null,{"$f":"Sheet3!C311","v":2047},{"$f":"Sheet3!B311","v":7},{"$f":"Sheet3!E311","v":-1.3202627729100617E-6},{"$f":"Sheet3!F311","v":6.6013138645503078E-9},{"$f":"Sheet3!G311","v":-6.6013138645503078E-9},{"$f":"Sheet3!H311","v":-1.326864086774612E-6},{"$f":"Sheet3!A311","v":4}]
[null,{"$f":"IF(B323+1<=Sheet3!$C$2,B323+1,-9.99999999999999E+25)","v":-9.9999999999999902E+25},{"$f":"SUMIF(Sheet3!C312:C743,B324,Sheet3!D312:D743)","v":0},null,null,null,null,{"$f":"Sheet3!C312","v":2047},{"$f":"Sheet3!B312","v":8},{"$f":"Sheet3!E312","v":-1.326864086774612E-6},{"$f":"Sheet3!F312","v":6.6343204338730598E-9},{"$f":"Sheet3!G312","v":-6.6343204338730598E-9},{"$f":"Sheet3!H312","v":-1.3334984072084849E-6},{"$f":"Sheet3!A312","v":4}]
[null,{"$f":"IF(B324+1<=Sheet3!$C$2,B324+1,-9.99999999999999E+25)","v":-9.9999999999999902E+25},{"$f":"SUMIF(Sheet3!C313:C744,B325,Sheet3!D313:D744)","v":0},null,null,null,null,{"$f":"Sheet3!C313","v":2047},{"$f":"Sheet3!B313","v":9},{"$f":"Sheet3!E313","v":-1.3334984072084849E-6},{"$f":"Sheet3!F313","v":6.6674920360424239E-9},{"$f":"Sheet3!G313","v":-6.6674920360424239E-9},{"$f":"Sheet3!H313","v":-1.3401658992445274E-6},{"$f":"Sheet3!A313","v":4}]
[null,{"$f":"IF(B325+1<=Sheet3!$C$2,B325+1,-9.99999999999999E+25)","v":-9.9999999999999902E+25},{"$f":"SUMIF(Sheet3!C314:C745,B326,Sheet3!D314:D745)","v":0},null,null,null,null,{"$f":"Sheet3!C314","v":2047},{"$f":"Sheet3!B314","v":10},{"$f":"Sheet3!E314","v":-1.3401658992445274E-6},{"$f":"Sheet3!F314","v":6.7008294962226361E-9},{"$f":"Sheet3!G314","v":-6.7008294962226361E-9},{"$f":"Sheet3!H314","v":-1.34686672874075E-6},{"$f":"Sheet3!A314","v":4}]
[null,{"$f":"IF(B326+1<=Sheet3!$C$2,B326+1,-9.99999999999999E+25)","v":-9.9999999999999902E+25},{"$f":"SUMIF(Sheet3!C315:C746,B327,Sheet3!D315:D746)","v":0},null,null,null,null,{"$f":"Sheet3!C315","v":2047},{"$f":"Sheet3!B315","v":11},{"$f":"Sheet3!E315","v":-1.34686672874075E-6},{"$f":"Sheet3!F315","v":6.7343336437037499E-9},{"$f":"Sheet3!G315","v":-6.7343336437037499E-9},{"$f":"Sheet3!H315","v":-1.3536010623844537E-6},{"$f":"Sheet3!A315","v":4}]
[null,{"$f":"IF(B327+1<=Sheet3!$C$2,B327+1,-9.99999999999999E+25)","v":-9.9999999999999902E+25},{"$f":"SUMIF(Sheet3!C316:C747,B328,Sheet3!D316:D747)","v":0},null,null,null,null,{"$f":"Sheet3!C316","v":2047},{"$f":"Sheet3!B316","v":12},{"$f":"Sheet3!E316","v":-1.3536010623844537E-6},{"$f":"Sheet3!F316","v":6.7680053119222681E-9},{"$f":"Sheet3!G316","v":-6.7680053119222681E-9},{"$f":"Sheet3!H316","v":-1.3603690676963759E-6},{"$f":"Sheet3!A316","v":4}]
[null,{"$f":"IF(B328+1<=Sheet3!$C$2,B328+1,-9.99999999999999E+25)","v":-9.9999999999999902E+25},{"$f":"SUMIF(Sheet3!C317:C748,B329,Sheet3!D317:D748)","v":0},null,null,null,null,{"$f":"Sheet3!C317","v":2048},{"$f":"Sheet3!B317","v":1},{"$f":"Sheet3!E317","v":-1.3603690676963759E-6},{"$f":"Sheet3!F317","v":6.8018453384818795E-9},{"$f":"Sheet3!G317","v":-6.8018453384818795E-9},{"$f":"Sheet3!H317","v":-1.3671709130348578E-6},{"$f":"Sheet3!A317","v":4}]
[null,{"$f":"IF(B329+1<=Sheet3!$C$2,B329+1,-9.99999999999999E+25)","v":-9.9999999999999902E+25},{"$f":"SUMIF(Sheet3!C318:C749,B330,Sheet3!D318:D749)","v":0},null,null,null,null,{"$f":"Sheet3!C318","v":2048},{"$f":"Sheet3!B318","v":2},{"$f":"Sheet3!E318","v":-1.3671709130348578E-6},{"$f":"Sheet3!F318","v":6.8358545651742891E-9},{"$f":"Sheet3!G318","v":-6.8358545651742891E-9},{"$f":"Sheet3!H318","v":-1.3740067676000322E-6},{"$f":"Sheet3!A318","v":4}]
[null,{"$f":"IF(B330+1<=Sheet3!$C$2,B330+1,-9.99999999999999E+25)","v":-9.9999999999999902E+25},{"$f":"SUMIF(Sheet3!C319:C750,B331,Sheet3!D319:D750)","v":0},null,null,null,null,{"$f":"Sheet3!C319","v":2048},{"$f":"Sheet3!B319","v":3},{"$f":"Sheet3!E319","v":-1.3740067676000322E-6},{"$f":"Sheet3!F319","v":6.8700338380001608E-9},{"$f":"Sheet3!G319","v":-6.8700338380001608E-9},{"$f":"Sheet3!H319","v":-1.3808768014380323E-6},{"$f":"Sheet3!A319","v":4}]
[null,{"$f":"IF(B331+1<=Sheet3!$C$2,B331+1,-9.99999999999999E+25)","v":-9.9999999999999902E+25},{"$f":"SUMIF(Sheet3!C320:C751,B332,Sheet3!D320:D751)","v":0},null,null,null,null,{"$f":"Sheet3!C320","v":2048},{"$f":"Sheet3!B320","v":4},{"$f":"Sheet3!E320","v":-1.3808768014380323E-6},{"$f":"Sheet3!F320","v":6.9043840071901617E-9},{"$f":"Sheet3!G320","v":-6.9043840071901617E-9},{"$f":"Sheet3!H320","v":-1.3877811854452224E-6},{"$f":"Sheet3!A320","v":4}]
[null,{"$f":"IF(B332+1<=Sheet3!$C$2,B332+1,-9.99999999999999E+25)","v":-9.9999999999999902E+25},{"$f":"SUMIF(Sheet3!C321:C752,B333,Sheet3!D321:D752)","v":0},null,null,null,null,{"$f":"Sheet3!C321","v":2048},{"$f":"Sheet3!B321","v":5},{"$f":"Sheet3!E321","v":-1.3877811854452224E-6},{"$f":"Sheet3!F321","v":6.9389059272261121E-9},{"$f":"Sheet3!G321","v":-6.9389059272261121E-9},{"$f":"Sheet3!H321","v":-1.3947200913724485E-6},{"$f":"Sheet3!A321","v":4}]
[null,{"$f":"IF(B333+1<=Sheet3!$C$2,B333+1,-9.99999999999999E+25)","v":-9.9999999999999902E+25},{"$f":"SUMIF(Sheet3!C322:C753,B334,Sheet3!D322:D753)","v":0},null,null,null,null,{"$f":"Sheet3!C322","v":2048},{"$f":"Sheet3!B322","v":6},{"$f":"Sheet3!E322","v":-1.3947200913724485E-6},{"$f":"Sheet3!F322","v":6.9736004568622425E-9},{"$f":"Sheet3!G322","v":-6.9736004568622425E-9},{"$f":"Sheet3!H322","v":-1.4016936918293108E-6},{"$f":"Sheet3!A322","v":4}]
[null,{"$f":"IF(B334+1<=Sheet3!$C$2,B334+1,-9.99999999999999E+25)","v":-9.9999999999999902E+25},{"$f":"SUMIF(Sheet3!C323:C754,B335,Sheet3!D323:D754)","v":0},null,null,null,null,{"$f":"Sheet3!C323","v":2048},{"$f":"Sheet3!B323","v":7},{"$f":"Sheet3!E323","v":-1.4016936918293108E-6},{"$f":"Sheet3!F323","v":7.008468459146554E-9},{"$f":"Sheet3!G323","v":-7.008468459146554E-9},{"$f":"Sheet3!H323","v":-1.4087021602884574E-6},{"$f":"Sheet3!A323","v":4}]
[null,{"$f":"IF(B335+1<=Sheet3!$C$2,B335+1,-9.99999999999999E+25)","v":-9.9999999999999902E+25},{"$f":"SUMIF(Sheet3!C324:C755,B336,Sheet3!D324:D755)","v":0},null,null,null,null,{"$f":"Sheet3!C324","v":2048},{"$f":"Sheet3!B324","v":8},{"$f":"Sheet3!E324","v":-1.4087021602884574E-6},{"$f":"Sheet3!F324","v":7.0435108014422875E-9},{"$f":"Sheet3!G324","v":-7.0435108014422875E-9},{"$f":"Sheet3!H324","v":-1.4157456710898997E-6},{"$f":"Sheet3!A324","v":4}]
[null,{"$f":"IF(B336+1<=Sheet3!$C$2,B336+1,-9.99999999999999E+25)","v":-9.9999999999999902E+25},{"$f":"SUMIF(Sheet3!C325:C756,B337,Sheet3!D325:D756)","v":0},null,null,null,null,{"$f":"Sheet3!C325","v":2048},{"$f":"Sheet3!B325","v":9},{"$f":"Sheet3!E325","v":-1.4157456710898997E-6},{"$f":"Sheet3!F325","v":7.0787283554494976E-9},{"$f":"Sheet3!G325","v":-7.0787283554494976E-9},{"$f":"Sheet3!H325","v":-1.4228243994453492E-6},{"$f":"Sheet3!A325","v":4}]
[null,{"$f":"IF(B337+1<=Sheet3!$C$2,B337+1,-9.99999999999999E+25)","v":-9.9999999999999902E+25},{"$f":"SUMIF(Sheet3!C326:C757,B338,Sheet3!D326:D757)","v":0},null,null,null,null,{"$f":"Sheet3!C326","v":2048},{"$f":"Sheet3!B326","v":10},{"$f":"Sheet3!E326","v":-1.4228243994453492E-6},{"$f":"Sheet3!F326","v":7.1141219972267464E-9},{"$f":"Sheet3!G326","v":-7.1141219972267464E-9},{"$f":"Sheet3!H326","v":-1.4299385214425759E-6},{"$f":"Sheet3!A326","v":4}]
[null,{"$f":"IF(B338+1<=Sheet3!$C$2,B338+1,-9.99999999999999E+25)","v":-9.9999999999999902E+25},{"$f":"SUMIF(Sheet3!C327:C758,B339,Sheet3!D327:D758)","v":0},null,null,null,null,{"$f":"Sheet3!C327","v":2048},{"$f":"Sheet3!B327","v":11},{"$f":"Sheet3!E327","v":-1.4299385214425759E-6},{"$f":"Sheet3!F327","v":7.1496926072128792E-9},{"$f":"Sheet3!G327","v":-7.1496926072128792E-9},{"$f":"Sheet3!H327","v":-1.4370882140497888E-6},{"$f":"Sheet3!A327","v":4}]
[null,{"$f":"IF(B339+1<=Sheet3!$C$2,B339+1,-9.99999999999999E+25)","v":-9.9999999999999902E+25},{"$f":"SUMIF(Sheet3!C328:C759,B340,Sheet3!D328:D759)","v":0},null,null,null,null,{"$f":"Sheet3!C328","v":2048},{"$f":"Sheet3!B328","v":12},{"$f":"Sheet3!E328","v":-1.4370882140497888E-6},{"$f":"Sheet3!F328","v":7.1854410702489441E-9},{"$f":"Sheet3!G328","v":-7.1854410702489441E-9},{"$f":"Sheet3!H328","v":-1.4442736551200378E-6},{"$f":"Sheet3!A328","v":4}]
[null,{"$f":"IF(B340+1<=Sheet3!$C$2,B340+1,-9.99999999999999E+25)","v":-9.9999999999999902E+25},{"$f":"SUMIF(Sheet3!C329:C760,B341,Sheet3!D329:D760)","v":0},null,null,null,null,{"$f":"Sheet3!C329","v":2049},{"$f":"Sheet3!B329","v":1},{"$f":"Sheet3!E329","v":-1.4442736551200378E-6},{"$f":"Sheet3!F329","v":7.2213682756001891E-9},{"$f":"Sheet3!G329","v":-7.2213682756001891E-9},{"$f":"Sheet3!H329","v":-1.4514950233956379E-6},{"$f":"Sheet3!A329","v":4}]
[null,{"$f":"IF(B341+1<=Sheet3!$C$2,B341+1,-9.99999999999999E+25)","v":-9.9999999999999902E+25},{"$f":"SUMIF(Sheet3!C330:C761,B342,Sheet3!D330:D761)","v":0},null,null,null,null,{"$f":"Sheet3!C330","v":2049},{"$f":"Sheet3!B330","v":2},{"$f":"Sheet3!E330","v":-1.4514950233956379E-6},{"$f":"Sheet3!F330","v":7.2574751169781899E-9},{"$f":"Sheet3!G330","v":-7.2574751169781899E-9},{"$f":"Sheet3!H330","v":-1.458752498512616E-6},{"$f":"Sheet3!A330","v":4}]
[null,{"$f":"IF(B342+1<=Sheet3!$C$2,B342+1,-9.99999999999999E+25)","v":-9.9999999999999902E+25},{"$f":"SUMIF(Sheet3!C331:C762,B343,Sheet3!D331:D762)","v":0},null,null,null,null,{"$f":"Sheet3!C331","v":2049},{"$f":"Sheet3!B331","v":3},{"$f":"Sheet3!E331","v":-1.458752498512616E-6},{"$f":"Sheet3!F331","v":7.2937624925630807E-9},{"$f":"Sheet3!G331","v":-7.2937624925630807E-9},{"$f":"Sheet3!H331","v":-1.4660462610051792E-6},{"$f":"Sheet3!A331","v":4}]
[null,{"$f":"IF(B343+1<=Sheet3!$C$2,B343+1,-9.99999999999999E+25)","v":-9.9999999999999902E+25},{"$f":"SUMIF(Sheet3!C332:C763,B344,Sheet3!D332:D763)","v":0},null,null,null,null,{"$f":"Sheet3!C332","v":2049},{"$f":"Sheet3!B332","v":4},{"$f":"Sheet3!E332","v":-1.4660462610051792E-6},{"$f":"Sheet3!F332","v":7.3302313050258959E-9},{"$f":"Sheet3!G332","v":-7.3302313050258959E-9},{"$f":"Sheet3!H332","v":-1.4733764923102051E-6},{"$f":"Sheet3!A332","v":4}]
[null,{"$f":"IF(B344+1<=Sheet3!$C$2,B344+1,-9.99999999999999E+25)","v":-9.9999999999999902E+25},{"$f":"SUMIF(Sheet3!C333:C764,B345,Sheet3!D333:D764)","v":0},null,null,null,null,{"$f":"Sheet3!C333","v":2049},{"$f":"Sheet3!B333","v":5},{"$f":"Sheet3!E333","v":-1.4733764923102051E-6},{"$f":"Sheet3!F333","v":7.3668824615510243E-9},{"$f":"Sheet3!G333","v":-7.3668824615510243E-9},{"$f":"Sheet3!H333","v":-1.4807433747717561E-6},{"$f":"Sheet3!A333","v":4}]
[null,{"$f":"IF(B345+1<=Sheet3!$C$2,B345+1,-9.99999999999999E+25)","v":-9.9999999999999902E+25},{"$f":"SUMIF(Sheet3!C334:C765,B346,Sheet3!D334:D765)","v":0},null,null,null,null,{"$f":"Sheet3!C334","v":2049},{"$f":"Sheet3!B334","v":6},{"$f":"Sheet3!E334","v":-1.4807433747717561E-6},{"$f":"Sheet3!F334","v":7.4037168738587811E-9},{"$f":"Sheet3!G334","v":-7.4037168738587811E-9},{"$f":"Sheet3!H334","v":-1.4881470916456149E-6},{"$f":"Sheet3!A334","v":4}]
[null,{"$f":"IF(B346+1<=Sheet3!$C$2,B346+1,-9.99999999999999E+25)","v":-9.9999999999999902E+25},{"$f":"SUMIF(Sheet3!C335:C766,B347,Sheet3!D335:D766)","v":0},null,null,null,null,{"$f":"Sheet3!C335","v":2049},{"$f":"Sheet3!B335","v":7},{"$f":"Sheet3!E335","v":-1.4881470916456149E-6},{"$f":"Sheet3!F335","v":7.4407354582280742E-9},{"$f":"Sheet3!G335","v":-7.4407354582280742E-9},{"$f":"Sheet3!H335","v":-1.495587827103843E-6},{"$f":"Sheet3!A335","v":4}]
[null,{"$f":"IF(B347+1<=Sheet3!$C$2,B347+1,-9.99999999999999E+25)","v":-9.9999999999999902E+25},{"$f":"SUMIF(Sheet3!C336:C767,B348,Sheet3!D336:D767)","v":0},null,null,null,null,{"$f":"Sheet3!C336","v":2049},{"$f":"Sheet3!B336","v":8},{"$f":"Sheet3!E336","v":-1.495587827103843E-6},{"$f":"Sheet3!F336","v":7.4779391355192146E-9},{"$f":"Sheet3!G336","v":-7.4779391355192146E-9},{"$f":"Sheet3!H336","v":-1.5030657662393622E-6},{"$f":"Sheet3!A336","v":4}]
[null,{"$f":"IF(B348+1<=Sheet3!$C$2,B348+1,-9.99999999999999E+25)","v":-9.9999999999999902E+25},{"$f":"SUMIF(Sheet3!C337:C768,B349,Sheet3!D337:D768)","v":0},null,null,null,null,{"$f":"Sheet3!C337","v":2049},{"$f":"Sheet3!B337","v":9},{"$f":"Sheet3!E337","v":-1.5030657662393622E-6},{"$f":"Sheet3!F337","v":7.5153288311968111E-9},{"$f":"Sheet3!G337","v":-7.5153288311968111E-9},{"$f":"Sheet3!H337","v":-1.510581095070559E-6},{"$f":"Sheet3!A337","v":4}]
[null,{"$f":"IF(B349+1<=Sheet3!$C$2,B349+1,-9.99999999999999E+25)","v":-9.9999999999999902E+25},{"$f":"SUMIF(Sheet3!C338:C769,B350,Sheet3!D338:D769)","v":0},null,null,null,null,{"$f":"Sheet3!C338","v":2049},{"$f":"Sheet3!B338","v":10},{"$f":"Sheet3!E338","v":-1.510581095070559E-6},{"$f":"Sheet3!F338","v":7.5529054753527949E-9},{"$f":"Sheet3!G338","v":-7.5529054753527949E-9},{"$f":"Sheet3!H338","v":-1.5181340005459119E-6},{"$f":"Sheet3!A338","v":4}]
[null,{"$f":"IF(B350+1<=Sheet3!$C$2,B350+1,-9.99999999999999E+25)","v":-9.9999999999999902E+25},{"$f":"SUMIF(Sheet3!C339:C770,B351,Sheet3!D339:D770)","v":0},null,null,null,null,{"$f":"Sheet3!C339","v":2049},{"$f":"Sheet3!B339","v":11},{"$f":"Sheet3!E339","v":-1.5181340005459119E-6},{"$f":"Sheet3!F339","v":7.5906700027295593E-9},{"$f":"Sheet3!G339","v":-7.5906700027295593E-9},{"$f":"Sheet3!H339","v":-1.5257246705486414E-6},{"$f":"Sheet3!A339","v":4}]
[null,{"$f":"IF(B351+1<=Sheet3!$C$2,B351+1,-9.99999999999999E+25)","v":-9.9999999999999902E+25},{"$f":"SUMIF(Sheet3!C340:C771,B352,Sheet3!D340:D771)","v":0},null,null,null,null,{"$f":"Sheet3!C340","v":2049},{"$f":"Sheet3!B340","v":12},{"$f":"Sheet3!E340","v":-1.5257246705486414E-6},{"$f":"Sheet3!F340","v":7.6286233527432071E-9},{"$f":"Sheet3!G340","v":-7.6286233527432071E-9},{"$f":"Sheet3!H340","v":-1.5333532939013846E-6},{"$f":"Sheet3!A340","v":4}]
[null,{"$f":"IF(B352+1<=Sheet3!$C$2,B352+1,-9.99999999999999E+25)","v":-9.9999999999999902E+25},{"$f":"SUMIF(Sheet3!C341:C772,B353,Sheet3!D341:D772)","v":0},null,null,null,null,{"$f":"Sheet3!C341","v":2050},{"$f":"Sheet3!B341","v":1},{"$f":"Sheet3!E341","v":-1.5333532939013846E-6},{"$f":"Sheet3!F341","v":7.6667664695069232E-9},{"$f":"Sheet3!G341","v":-7.6667664695069232E-9},{"$f":"Sheet3!H341","v":-1.5410200603708915E-6},{"$f":"Sheet3!A341","v":4}]
[null,{"$f":"IF(B353+1<=Sheet3!$C$2,B353+1,-9.99999999999999E+25)","v":-9.9999999999999902E+25},{"$f":"SUMIF(Sheet3!C342:C773,B354,Sheet3!D342:D773)","v":0},null,null,null,null,{"$f":"Sheet3!C342","v":2050},{"$f":"Sheet3!B342","v":2},{"$f":"Sheet3!E342","v":-1.5410200603708915E-6},{"$f":"Sheet3!F342","v":7.7051003018544569E-9},{"$f":"Sheet3!G342","v":-7.7051003018544569E-9},{"$f":"Sheet3!H342","v":-1.5487251606727459E-6},{"$f":"Sheet3!A342","v":4}]
[null,{"$f":"IF(B354+1<=Sheet3!$C$2,B354+1,-9.99999999999999E+25)","v":-9.9999999999999902E+25},{"$f":"SUMIF(Sheet3!C343:C774,B355,Sheet3!D343:D774)","v":0},null,null,null,null,{"$f":"Sheet3!C343","v":2050},{"$f":"Sheet3!B343","v":3},{"$f":"Sheet3!E343","v":-1.5487251606727459E-6},{"$f":"Sheet3!F343","v":7.7436258033637295E-9},{"$f":"Sheet3!G343","v":-7.7436258033637295E-9},{"$f":"Sheet3!H343","v":-1.5564687864761095E-6},{"$f":"Sheet3!A343","v":4}]
[null,{"$f":"IF(B355+1<=Sheet3!$C$2,B355+1,-9.99999999999999E+25)","v":-9.9999999999999902E+25},{"$f":"SUMIF(Sheet3!C344:C775,B356,Sheet3!D344:D775)","v":0},null,null,null,null,{"$f":"Sheet3!C344","v":2050},{"$f":"Sheet3!B344","v":4},{"$f":"Sheet3!E344","v":-1.5564687864761095E-6},{"$f":"Sheet3!F344","v":7.7823439323805478E-9},{"$f":"Sheet3!G344","v":-7.7823439323805478E-9},{"$f":"Sheet3!H344","v":-1.5642511304084901E-6},{"$f":"Sheet3!A344","v":4}]
[null,{"$f":"IF(B356+1<=Sheet3!$C$2,B356+1,-9.99999999999999E+25)","v":-9.9999999999999902E+25},{"$f":"SUMIF(Sheet3!C345:C776,B357,Sheet3!D345:D776)","v":0},null,null,null,null,{"$f":"Sheet3!C345","v":2050},{"$f":"Sheet3!B345","v":5},{"$f":"Sheet3!E345","v":-1.5642511304084901E-6},{"$f":"Sheet3!F345","v":7.8212556520424502E-9},{"$f":"Sheet3!G345","v":-7.8212556520424502E-9},{"$f":"Sheet3!H345","v":-1.5720723860605325E-6},{"$f":"Sheet3!A345","v":4}]
[null,{"$f":"IF(B357+1<=Sheet3!$C$2,B357+1,-9.99999999999999E+25)","v":-9.9999999999999902E+25},{"$f":"SUMIF(Sheet3!C346:C777,B358,Sheet3!D346:D777)","v":0},null,null,null,null,{"$f":"Sheet3!C346","v":2050},{"$f":"Sheet3!B346","v":6},{"$f":"Sheet3!E346","v":-1.5720723860605325E-6},{"$f":"Sheet3!F346","v":7.8603619303026617E-9},{"$f":"Sheet3!G346","v":-7.8603619303026617E-9},{"$f":"Sheet3!H346","v":-1.5799327479908352E-6},{"$f":"Sheet3!A346","v":4}]
[null,{"$f":"IF(B358+1<=Sheet3!$C$2,B358+1,-9.99999999999999E+25)","v":-9.9999999999999902E+25},{"$f":"SUMIF(Sheet3!C347:C778,B359,Sheet3!D347:D778)","v":0},null,null,null,null,{"$f":"Sheet3!C347","v":2050},{"$f":"Sheet3!B347","v":7},{"$f":"Sheet3!E347","v":-1.5799327479908352E-6},{"$f":"Sheet3!F347","v":7.8996637399541768E-9},{"$f":"Sheet3!G347","v":-7.8996637399541768E-9},{"$f":"Sheet3!H347","v":-1.5878324117307893E-6},{"$f":"Sheet3!A347","v":4}]
[null,{"$f":"IF(B359+1<=Sheet3!$C$2,B359+1,-9.99999999999999E+25)","v":-9.9999999999999902E+25},{"$f":"SUMIF(Sheet3!C348:C779,B360,Sheet3!D348:D779)","v":0},null,null,null,null,{"$f":"Sheet3!C348","v":2050},{"$f":"Sheet3!B348","v":8},{"$f":"Sheet3!E348","v":-1.5878324117307893E-6},{"$f":"Sheet3!F348","v":7.9391620586539474E-9},{"$f":"Sheet3!G348","v":-7.9391620586539474E-9},{"$f":"Sheet3!H348","v":-1.5957715737894433E-6},{"$f":"Sheet3!A348","v":4}]
[null,{"$f":"IF(B360+1<=Sheet3!$C$2,B360+1,-9.99999999999999E+25)","v":-9.9999999999999902E+25},{"$f":"SUMIF(Sheet3!C349:C780,B361,Sheet3!D349:D780)","v":0},null,null,null,null,{"$f":"Sheet3!C349","v":2050},{"$f":"Sheet3!B349","v":9},{"$f":"Sheet3!E349","v":-1.5957715737894433E-6},{"$f":"Sheet3!F349","v":7.9788578689472155E-9},{"$f":"Sheet3!G349","v":-7.9788578689472155E-9},{"$f":"Sheet3!H349","v":-1.6037504316583905E-6},{"$f":"Sheet3!A349","v":4}]
[null,{"$f":"IF(B361+1<=Sheet3!$C$2,B361+1,-9.99999999999999E+25)","v":-9.9999999999999902E+25},{"$f":"SUMIF(Sheet3!C350:C781,B362,Sheet3!D350:D781)","v":0},null,null,null,null,{"$f":"Sheet3!C350","v":2050},{"$f":"Sheet3!B350","v":10},{"$f":"Sheet3!E350","v":-1.6037504316583905E-6},{"$f":"Sheet3!F350","v":8.0187521582919514E-9},{"$f":"Sheet3!G350","v":-8.0187521582919514E-9},{"$f":"Sheet3!H350","v":-1.6117691838166826E-6},{"$f":"Sheet3!A350","v":4}]
[null,{"$f":"IF(B362+1<=Sheet3!$C$2,B362+1,-9.99999999999999E+25)","v":-9.9999999999999902E+25},{"$f":"SUMIF(Sheet3!C351:C782,B363,Sheet3!D351:D782)","v":0},null,null,null,null,{"$f":"Sheet3!C351","v":2050},{"$f":"Sheet3!B351","v":11},{"$f":"Sheet3!E351","v":-1.6117691838166826E-6},{"$f":"Sheet3!F351","v":8.0588459190834125E-9},{"$f":"Sheet3!G351","v":-8.0588459190834125E-9},{"$f":"Sheet3!H351","v":-1.6198280297357659E-6},{"$f":"Sheet3!A351","v":4}]
[null,{"$f":"IF(B363+1<=Sheet3!$C$2,B363+1,-9.99999999999999E+25)","v":-9.9999999999999902E+25},{"$f":"SUMIF(Sheet3!C352:C783,B364,Sheet3!D352:D783)","v":0},null,null,null,null,{"$f":"Sheet3!C352","v":2050},{"$f":"Sheet3!B352","v":12},{"$f":"Sheet3!E352","v":-1.6198280297357659E-6},{"$f":"Sheet3!F352","v":8.0991401486788282E-9},{"$f":"Sheet3!G352","v":-8.0991401486788282E-9},{"$f":"Sheet3!H352","v":-1.6279271698844448E-6},{"$f":"Sheet3!A352","v":4}]
[null,{"$f":"IF(B364+1<=Sheet3!$C$2,B364+1,-9.99999999999999E+25)","v":-9.9999999999999902E+25},{"$f":"SUMIF(Sheet3!C353:C784,B365,Sheet3!D353:D784)","v":0},null,null,null,null,{"$f":"Sheet3!C353","v":2051},{"$f":"Sheet3!B353","v":1},{"$f":"Sheet3!E353","v":-1.6279271698844448E-6},{"$f":"Sheet3!F353","v":8.1396358494222236E-9},{"$f":"Sheet3!G353","v":-8.1396358494222236E-9},{"$f":"Sheet3!H353","v":-1.6360668057338671E-6},{"$f":"Sheet3!A353","v":4}]
[null,{"$f":"IF(B365+1<=Sheet3!$C$2,B365+1,-9.99999999999999E+25)","v":-9.9999999999999902E+25},{"$f":"SUMIF(Sheet3!C354:C785,B366,Sheet3!D354:D785)","v":0},null,null,null,null,{"$f":"Sheet3!C354","v":2051},{"$f":"Sheet3!B354","v":2},{"$f":"Sheet3!E354","v":-1.6360668057338671E-6},{"$f":"Sheet3!F354","v":8.1803340286693356E-9},{"$f":"Sheet3!G354","v":-8.1803340286693356E-9},{"$f":"Sheet3!H354","v":-1.6442471397625364E-6},{"$f":"Sheet3!A354","v":4}]
[null,{"$f":"IF(B366+1<=Sheet3!$C$2,B366+1,-9.99999999999999E+25)","v":-9.9999999999999902E+25},{"$f":"SUMIF(Sheet3!C355:C786,B367,Sheet3!D355:D786)","v":0},null,null,null,null,{"$f":"Sheet3!C355","v":2051},{"$f":"Sheet3!B355","v":3},{"$f":"Sheet3!E355","v":-1.6442471397625364E-6},{"$f":"Sheet3!F355","v":8.2212356988126818E-9},{"$f":"Sheet3!G355","v":-8.2212356988126818E-9},{"$f":"Sheet3!H355","v":-1.652468375461349E-6},{"$f":"Sheet3!A355","v":4}]
[null,{"$f":"IF(B367+1<=Sheet3!$C$2,B367+1,-9.99999999999999E+25)","v":-9.9999999999999902E+25},{"$f":"SUMIF(Sheet3!C356:C787,B368,Sheet3!D356:D787)","v":0},null,null,null,null,{"$f":"Sheet3!C356","v":2051},{"$f":"Sheet3!B356","v":4},{"$f":"Sheet3!E356","v":-1.652468375461349E-6},{"$f":"Sheet3!F356","v":8.2623418773067445E-9},{"$f":"Sheet3!G356","v":-8.2623418773067445E-9},{"$f":"Sheet3!H356","v":-1.6607307173386558E-6},{"$f":"Sheet3!A356","v":4}]
[null,{"$f":"IF(B368+1<=Sheet3!$C$2,B368+1,-9.99999999999999E+25)","v":-9.9999999999999902E+25},{"$f":"SUMIF(Sheet3!C357:C788,B369,Sheet3!D357:D788)","v":0},null,null,null,null,{"$f":"Sheet3!C357","v":2051},{"$f":"Sheet3!B357","v":5},{"$f":"Sheet3!E357","v":-1.6607307173386558E-6},{"$f":"Sheet3!F357","v":8.3036535866932777E-9},{"$f":"Sheet3!G357","v":-8.3036535866932777E-9},{"$f":"Sheet3!H357","v":-1.6690343709253492E-6},{"$f":"Sheet3!A357","v":4}]
[null,{"$f":"IF(B369+1<=Sheet3!$C$2,B369+1,-9.99999999999999E+25)","v":-9.9999999999999902E+25},{"$f":"SUMIF(Sheet3!C358:C789,B370,Sheet3!D358:D789)","v":0},null,null,null,null,{"$f":"Sheet3!C358","v":2051},{"$f":"Sheet3!B358","v":6},{"$f":"Sheet3!E358","v":-1.6690343709253492E-6},{"$f":"Sheet3!F358","v":8.3451718546267461E-9},{"$f":"Sheet3!G358","v":-8.3451718546267461E-9},{"$f":"Sheet3!H358","v":-1.6773795427799758E-6},{"$f":"Sheet3!A358","v":4}]
[null,{"$f":"IF(B370+1<=Sheet3!$C$2,B370+1,-9.99999999999999E+25)","v":-9.9999999999999902E+25},{"$f":"SUMIF(Sheet3!C359:C790,B371,Sheet3!D359:D790)","v":0},null,null,null,null,{"$f":"Sheet3!C359","v":2051},{"$f":"Sheet3!B359","v":7},{"$f":"Sheet3!E359","v":-1.6773795427799758E-6},{"$f":"Sheet3!F359","v":8.3868977138998782E-9},{"$f":"Sheet3!G359","v":-8.3868977138998782E-9},{"$f":"Sheet3!H359","v":-1.6857664404938757E-6},{"$f":"Sheet3!A359","v":4}]
[null,{"$f":"IF(B371+1<=Sheet3!$C$2,B371+1,-9.99999999999999E+25)","v":-9.9999999999999902E+25},{"$f":"SUMIF(Sheet3!C360:C791,B372,Sheet3!D360:D791)","v":0},null,null,null,null,{"$f":"Sheet3!C360","v":2051},{"$f":"Sheet3!B360","v":8},{"$f":"Sheet3!E360","v":-1.6857664404938757E-6},{"$f":"Sheet3!F360","v":8.428832202469379E-9},{"$f":"Sheet3!G360","v":-8.428832202469379E-9},{"$f":"Sheet3!H360","v":-1.6941952726963452E-6},{"$f":"Sheet3!A360","v":4}]
[null,{"$f":"IF(B372+1<=Sheet3!$C$2,B372+1,-9.99999999999999E+25)","v":-9.9999999999999902E+25},{"$f":"SUMIF(Sheet3!C361:C792,B373,Sheet3!D361:D792)","v":0},null,null,null,null,{"$f":"Sheet3!C361","v":2051},{"$f":"Sheet3!B361","v":9},{"$f":"Sheet3!E361","v":-1.6941952726963452E-6},{"$f":"Sheet3!F361","v":8.4709763634817256E-9},{"$f":"Sheet3!G361","v":-8.4709763634817256E-9},{"$f":"Sheet3!H361","v":-1.7026662490598269E-6},{"$f":"Sheet3!A361","v":4}]
[null,{"$f":"IF(B373+1<=Sheet3!$C$2,B373+1,-9.99999999999999E+25)","v":-9.9999999999999902E+25},{"$f":"SUMIF(Sheet3!C362:C793,B374,Sheet3!D362:D793)","v":0},null,null,null,null,{"$f":"Sheet3!C362","v":2051},{"$f":"Sheet3!B362","v":10},{"$f":"Sheet3!E362","v":-1.7026662490598269E-6},{"$f":"Sheet3!F362","v":8.513331245299133E-9},{"$f":"Sheet3!G362","v":-8.513331245299133E-9},{"$f":"Sheet3!H362","v":-1.7111795803051261E-6},{"$f":"Sheet3!A362","v":4}]
[null,null,{"$f":"SUMIF(Sheet3!C363:C794,B375,Sheet3!D363:D794)","v":0},null,null,null,null,{"$f":"Sheet3!C363","v":2051},{"$f":"Sheet3!B363","v":11},{"$f":"Sheet3!E363","v":-1.7111795803051261E-6},{"$f":"Sheet3!F363","v":8.5558979015256299E-9},{"$f":"Sheet3!G363","v":-8.5558979015256299E-9},{"$f":"Sheet3!H363","v":-1.7197354782066517E-6},{"$f":"Sheet3!A363","v":4}]
[null,null,{"$f":"SUMIF(Sheet3!C364:C795,B376,Sheet3!D364:D795)","v":0},null,null,null,null,{"$f":"Sheet3!C364","v":2051},{"$f":"Sheet3!B364","v":12},{"$f":"Sheet3!E364","v":-1.7197354782066517E-6},{"$f":"Sheet3!F364","v":8.5986773910332574E-9},{"$f":"Sheet3!G364","v":-8.5986773910332574E-9},{"$f":"Sheet3!H364","v":-1.7283341555976848E-6},{"$f":"Sheet3!A364","v":4}]
[null,null,{"$f":"SUMIF(Sheet3!C365:C796,B377,Sheet3!D365:D796)","v":0},null,null,null,null,{"$f":"Sheet3!C365","v":2052},{"$f":"Sheet3!B365","v":1},{"$f":"Sheet3!E365","v":-1.7283341555976848E-6},{"$f":"Sheet3!F365","v":8.6416707779884243E-9},{"$f":"Sheet3!G365","v":-8.6416707779884243E-9},{"$f":"Sheet3!H365","v":-1.7369758263756733E-6},{"$f":"Sheet3!A365","v":4}]
[null,null,{"$f":"SUMIF(Sheet3!C366:C797,B378,Sheet3!D366:D797)","v":0},null,null,null,null,{"$f":"Sheet3!C366","v":2052},{"$f":"Sheet3!B366","v":2},{"$f":"Sheet3!E366","v":-1.7369758263756733E-6},{"$f":"Sheet3!F366","v":8.6848791318783654E-9},{"$f":"Sheet3!G366","v":-8.6848791318783654E-9},{"$f":"Sheet3!H366","v":-1.7456607055075516E-6},{"$f":"Sheet3!A366","v":4}]
[null,null,{"$f":"SUMIF(Sheet3!C367:C798,B379,Sheet3!D367:D798)","v":0},null,null,null,null,{"$f":"Sheet3!C367","v":2052},{"$f":"Sheet3!B367","v":3},{"$f":"Sheet3!E367","v":-1.7456607055075516E-6},{"$f":"Sheet3!F367","v":8.7283035275377571E-9},{"$f":"Sheet3!G367","v":-8.7283035275377571E-9},{"$f":"Sheet3!H367","v":-1.7543890090350893E-6},{"$f":"Sheet3!A367","v":4}]
[null,null,{"$f":"SUMIF(Sheet3!C368:C799,B380,Sheet3!D368:D799)","v":0},null,null,null,null,{"$f":"Sheet3!C368","v":2052},{"$f":"Sheet3!B368","v":4},{"$f":"Sheet3!E368","v":-1.7543890090350893E-6},{"$f":"Sheet3!F368","v":8.7719450451754465E-9},{"$f":"Sheet3!G368","v":-8.7719450451754465E-9},{"$f":"Sheet3!H368","v":-1.7631609540802648E-6},{"$f":"Sheet3!A368","v":4}]
[null,null,{"$f":"SUMIF(Sheet3!C369:C800,B381,Sheet3!D369:D800)","v":0},null,null,null,null,{"$f":"Sheet3!C369","v":2052},{"$f":"Sheet3!B369","v":5},{"$f":"Sheet3!E369","v":-1.7631609540802648E-6},{"$f":"Sheet3!F369","v":8.8158047704013237E-9},{"$f":"Sheet3!G369","v":-8.8158047704013237E-9},{"$f":"Sheet3!H369","v":-1.7719767588506662E-6},{"$f":"Sheet3!A369","v":4}]
[null,null,{"$f":"SUMIF(Sheet3!C370:C801,B382,Sheet3!D370:D801)","v":0},null,null,null,null,{"$f":"Sheet3!C370","v":2052},{"$f":"Sheet3!B370","v":6},{"$f":"Sheet3!E370","v":-1.7719767588506662E-6},{"$f":"Sheet3!F370","v":8.8598837942533304E-9},{"$f":"Sheet3!G370","v":-8.8598837942533304E-9},{"$f":"Sheet3!H370","v":-1.7808366426449196E-6},{"$f":"Sheet3!A370","v":4}]
[null,null,{"$f":"SUMIF(Sheet3!C371:C802,B383,Sheet3!D371:D802)","v":0},null,null,null,null,{"$f":"Sheet3!C371","v":2052},{"$f":"Sheet3!B371","v":7},{"$f":"Sheet3!E371","v":-1.7808366426449196E-6},{"$f":"Sheet3!F371","v":8.9041832132245984E-9},{"$f":"Sheet3!G371","v":-8.9041832132245984E-9},{"$f":"Sheet3!H371","v":-1.7897408258581441E-6},{"$f":"Sheet3!A371","v":4}]
[null,null,{"$f":"SUMIF(Sheet3!C372:C803,B384,Sheet3!D372:D803)","v":0},null,null,null,null,{"$f":"Sheet3!C372","v":2052},{"$f":"Sheet3!B372","v":8},{"$f":"Sheet3!E372","v":-1.7897408258581441E-6},{"$f":"Sheet3!F372","v":8.9487041292907198E-9},{"$f":"Sheet3!G372","v":-8.9487041292907198E-9},{"$f":"Sheet3!H372","v":-1.7986895299874349E-6},{"$f":"Sheet3!A372","v":4}]
[null,null,{"$f":"SUMIF(Sheet3!C373:C804,B385,Sheet3!D373:D804)","v":0},null,null,null,null,{"$f":"Sheet3!C373","v":2052},{"$f":"Sheet3!B373","v":9},{"$f":"Sheet3!E373","v":-1.7986895299874349E-6},{"$f":"Sheet3!F373","v":8.9934476499371734E-9},{"$f":"Sheet3!G373","v":-8.9934476499371734E-9},{"$f":"Sheet3!H373","v":-1.807682977637372E-6},{"$f":"Sheet3!A373","v":4}]
[null,null,{"$f":"SUMIF(Sheet3!C374:C805,B386,Sheet3!D374:D805)","v":0},null,null,null,null,{"$f":"Sheet3!C374","v":2052},{"$f":"Sheet3!B374","v":10},{"$f":"Sheet3!E374","v":-1.807682977637372E-6},{"$f":"Sheet3!F374","v":9.0384148881868595E-9},{"$f":"Sheet3!G374","v":-9.0384148881868595E-9},{"$f":"Sheet3!H374","v":-1.816721392525559E-6},{"$f":"Sheet3!A374","v":4}]
[null,null,{"$f":"SUMIF(Sheet3!C375:C806,B387,Sheet3!D375:D806)","v":0},null,null,null,null,{"$f":"Sheet3!C375","v":2052},{"$f":"Sheet3!B375","v":11},{"$f":"Sheet3!E375","v":-1.816721392525559E-6},{"$f":"Sheet3!F375","v":9.0836069626277939E-9},{"$f":"Sheet3!G375","v":-9.0836069626277939E-9},{"$f":"Sheet3!H375","v":-1.8258049994881868E-6},{"$f":"Sheet3!A375","v":4}]
[null,null,{"$f":"SUMIF(Sheet3!C376:C807,B388,Sheet3!D376:D807)","v":0},null,null,null,null,{"$f":"Sheet3!C376","v":2052},{"$f":"Sheet3!B376","v":12},{"$f":"Sheet3!E376","v":-1.8258049994881868E-6},{"$f":"Sheet3!F376","v":9.1290249974409331E-9},{"$f":"Sheet3!G376","v":-9.1290249974409331E-9},{"$f":"Sheet3!H376","v":-1.8349340244856277E-6},{"$f":"Sheet3!A376","v":4}]
[null,null,{"$f":"SUMIF(Sheet3!C377:C808,B389,Sheet3!D377:D808)","v":0},null,null,null,null,{"$f":"Sheet3!C377","v":2053},{"$f":"Sheet3!B377","v":1},{"$f":"Sheet3!E377","v":-1.8349340244856277E-6},{"$f":"Sheet3!F377","v":9.1746701224281372E-9},{"$f":"Sheet3!G377","v":-9.1746701224281372E-9},{"$f":"Sheet3!H377","v":-1.8441086946080558E-6},{"$f":"Sheet3!A377","v":4}]
[null,null,{"$f":"SUMIF(Sheet3!C378:C809,B390,Sheet3!D378:D809)","v":0},null,null,null,null,{"$f":"Sheet3!C378","v":2053},{"$f":"Sheet3!B378","v":2},{"$f":"Sheet3!E378","v":-1.8441086946080558E-6},{"$f":"Sheet3!F378","v":9.2205434730402784E-9},{"$f":"Sheet3!G378","v":-9.2205434730402784E-9},{"$f":"Sheet3!H378","v":-1.8533292380810961E-6},{"$f":"Sheet3!A378","v":4}]
[null,null,{"$f":"SUMIF(Sheet3!C379:C810,B391,Sheet3!D379:D810)","v":0},null,null,null,null,{"$f":"Sheet3!C379","v":2053},{"$f":"Sheet3!B379","v":3},{"$f":"Sheet3!E379","v":-1.8533292380810961E-6},{"$f":"Sheet3!F379","v":9.26664619040548E-9},{"$f":"Sheet3!G379","v":-9.26664619040548E-9},{"$f":"Sheet3!H379","v":-1.8625958842715017E-6},{"$f":"Sheet3!A379","v":4}]
[null,null,{"$f":"SUMIF(Sheet3!C380:C811,B392,Sheet3!D380:D811)","v":0},null,null,null,null,{"$f":"Sheet3!C380","v":2053},{"$f":"Sheet3!B380","v":4},{"$f":"Sheet3!E380","v":-1.8625958842715017E-6},{"$f":"Sheet3!F380","v":9.3129794213575077E-9},{"$f":"Sheet3!G380","v":-9.3129794213575077E-9},{"$f":"Sheet3!H380","v":-1.8719088636928591E-6},{"$f":"Sheet3!A380","v":4}]
[null,null,{"$f":"SUMIF(Sheet3!C381:C812,B393,Sheet3!D381:D812)","v":0},null,null,null,null,{"$f":"Sheet3!C381","v":2053},{"$f":"Sheet3!B381","v":5},{"$f":"Sheet3!E381","v":-1.8719088636928591E-6},{"$f":"Sheet3!F381","v":9.3595443184642953E-9},{"$f":"Sheet3!G381","v":-9.3595443184642953E-9},{"$f":"Sheet3!H381","v":-1.8812684080113234E-6},{"$f":"Sheet3!A381","v":4}]
[null,null,{"$f":"SUMIF(Sheet3!C382:C813,B394,Sheet3!D382:D813)","v":0},null,null,null,null,{"$f":"Sheet3!C382","v":2053},{"$f":"Sheet3!B382","v":6},{"$f":"Sheet3!E382","v":-1.8812684080113234E-6},{"$f":"Sheet3!F382","v":9.4063420400566164E-9},{"$f":"Sheet3!G382","v":-9.4063420400566164E-9},{"$f":"Sheet3!H382","v":-1.89067475005138E-6},{"$f":"Sheet3!A382","v":4}]
[null,null,{"$f":"SUMIF(Sheet3!C383:C814,B395,Sheet3!D383:D814)","v":0},null,null,null,null,{"$f":"Sheet3!C383","v":2053},{"$f":"Sheet3!B383","v":7},{"$f":"Sheet3!E383","v":-1.89067475005138E-6},{"$f":"Sheet3!F383","v":9.4533737502568987E-9},{"$f":"Sheet3!G383","v":-9.4533737502568987E-9},{"$f":"Sheet3!H383","v":-1.9001281238016369E-6},{"$f":"Sheet3!A383","v":4}]
[null,null,{"$f":"SUMIF(Sheet3!C384:C815,B396,Sheet3!D384:D815)","v":0},null,null,null,null,{"$f":"Sheet3!C384","v":2053},{"$f":"Sheet3!B384","v":8},{"$f":"Sheet3!E384","v":-1.9001281238016369E-6},{"$f":"Sheet3!F384","v":9.5006406190081834E-9},{"$f":"Sheet3!G384","v":-9.5006406190081834E-9},{"$f":"Sheet3!H384","v":-1.9096287644206451E-6},{"$f":"Sheet3!A384","v":4}]
[null,null,{"$f":"SUMIF(Sheet3!C385:C816,B397,Sheet3!D385:D816)","v":0},null,null,null,null,{"$f":"Sheet3!C385","v":2053},{"$f":"Sheet3!B385","v":9},{"$f":"Sheet3!E385","v":-1.9096287644206451E-6},{"$f":"Sheet3!F385","v":9.5481438221032255E-9},{"$f":"Sheet3!G385","v":-9.5481438221032255E-9},{"$f":"Sheet3!H385","v":-1.9191769082427485E-6},{"$f":"Sheet3!A385","v":4}]
[null,null,{"$f":"SUMIF(Sheet3!C386:C817,B398,Sheet3!D386:D817)","v":0},null,null,null,null,{"$f":"Sheet3!C386","v":2053},{"$f":"Sheet3!B386","v":10},{"$f":"Sheet3!E386","v":-1.9191769082427485E-6},{"$f":"Sheet3!F386","v":9.5958845412137429E-9},{"$f":"Sheet3!G386","v":-9.5958845412137429E-9},{"$f":"Sheet3!H386","v":-1.9287727927839621E-6},{"$f":"Sheet3!A386","v":4}]
[null,null,{"$f":"SUMIF(Sheet3!C387:C818,B399,Sheet3!D387:D818)","v":0},null,null,null,null,{"$f":"Sheet3!C387","v":2053},{"$f":"Sheet3!B387","v":11},{"$f":"Sheet3!E387","v":-1.9287727927839621E-6},{"$f":"Sheet3!F387","v":9.6438639639198093E-9},{"$f":"Sheet3!G387","v":-9.6438639639198093E-9},{"$f":"Sheet3!H387","v":-1.938416656747882E-6},{"$f":"Sheet3!A387","v":4}]
[null,null,{"$f":"SUMIF(Sheet3!C388:C819,B400,Sheet3!D388:D819)","v":0},null,null,null,null,{"$f":"Sheet3!C388","v":2053},{"$f":"Sheet3!B388","v":12},{"$f":"Sheet3!E388","v":-1.938416656747882E-6},{"$f":"Sheet3!F388","v":9.6920832837394094E-9},{"$f":"Sheet3!G388","v":-9.6920832837394094E-9},{"$f":"Sheet3!H388","v":-1.9481087400316214E-6},{"$f":"Sheet3!A388","v":4}]
[null,null,{"$f":"SUMIF(Sheet3!C389:C820,B401,Sheet3!D389:D820)","v":0},null,null,null,null,{"$f":"Sheet3!C389","v":2054},{"$f":"Sheet3!B389","v":1},{"$f":"Sheet3!E389","v":-1.9481087400316214E-6},{"$f":"Sheet3!F389","v":9.7405437001581068E-9},{"$f":"Sheet3!G389","v":-9.7405437001581068E-9},{"$f":"Sheet3!H389","v":-1.9578492837317796E-6},{"$f":"Sheet3!A389","v":4}]
[null,null,{"$f":"SUMIF(Sheet3!C390:C821,B402,Sheet3!D390:D821)","v":0},null,null,null,null,{"$f":"Sheet3!C390","v":2054},{"$f":"Sheet3!B390","v":2},{"$f":"Sheet3!E390","v":-1.9578492837317796E-6},{"$f":"Sheet3!F390","v":9.7892464186588983E-9},{"$f":"Sheet3!G390","v":-9.7892464186588983E-9},{"$f":"Sheet3!H390","v":-1.9676385301504384E-6},{"$f":"Sheet3!A390","v":4}]
[null,null,{"$f":"SUMIF(Sheet3!C391:C822,B403,Sheet3!D391:D822)","v":0},null,null,null,null,{"$f":"Sheet3!C391","v":2054},{"$f":"Sheet3!B391","v":3},{"$f":"Sheet3!E391","v":-1.9676385301504384E-6},{"$f":"Sheet3!F391","v":9.8381926507521912E-9},{"$f":"Sheet3!G391","v":-9.8381926507521912E-9},{"$f":"Sheet3!H391","v":-1.9774767228011904E-6},{"$f":"Sheet3!A391","v":4}]
[null,null,{"$f":"SUMIF(Sheet3!C392:C823,B404,Sheet3!D392:D823)","v":0},null,null,null,null,{"$f":"Sheet3!C392","v":2054},{"$f":"Sheet3!B392","v":4},{"$f":"Sheet3!E392","v":-1.9774767228011904E-6},{"$f":"Sheet3!F392","v":9.8873836140059521E-9},{"$f":"Sheet3!G392","v":-9.8873836140059521E-9},{"$f":"Sheet3!H392","v":-1.9873641064151963E-6},{"$f":"Sheet3!A392","v":4}]
[null,null,{"$f":"SUMIF(Sheet3!C393:C824,B405,Sheet3!D393:D824)","v":0},null,null,null,null,{"$f":"Sheet3!C393","v":2054},{"$f":"Sheet3!B393","v":5},{"$f":"Sheet3!E393","v":-1.9873641064151963E-6},{"$f":"Sheet3!F393","v":9.9368205320759819E-9},{"$f":"Sheet3!G393","v":-9.9368205320759819E-9},{"$f":"Sheet3!H393","v":-1.9973009269472722E-6},{"$f":"Sheet3!A393","v":4}]
[null,null,{"$f":"SUMIF(Sheet3!C394:C825,B406,Sheet3!D394:D825)","v":0},null,null,null,null,{"$f":"Sheet3!C394","v":2054},{"$f":"Sheet3!B394","v":6},{"$f":"Sheet3!E394","v":-1.9973009269472722E-6},{"$f":"Sheet3!F394","v":9.9865046347363592E-9},{"$f":"Sheet3!G394","v":-9.9865046347363592E-9},{"$f":"Sheet3!H394","v":-2.0072874315820087E-6},{"$f":"Sheet3!A394","v":4}]
[null,null,{"$f":"SUMIF(Sheet3!C395:C826,B407,Sheet3!D395:D826)","v":0},null,null,null,null,{"$f":"Sheet3!C395","v":2054},{"$f":"Sheet3!B395","v":7},{"$f":"Sheet3!E395","v":-2.0072874315820087E-6},{"$f":"Sheet3!F395","v":1.0036437157910043E-8},{"$f":"Sheet3!G395","v":-1.0036437157910043E-8},{"$f":"Sheet3!H395","v":-2.0173238687399188E-6},{"$f":"Sheet3!A395","v":4}]
[null,null,{"$f":"SUMIF(Sheet3!C396:C827,B408,Sheet3!D396:D827)","v":0},null,null,null,null,{"$f":"Sheet3!C396","v":2054},{"$f":"Sheet3!B396","v":8},{"$f":"Sheet3!E396","v":-2.0173238687399188E-6},{"$f":"Sheet3!F396","v":1.0086619343699595E-8},{"$f":"Sheet3!G396","v":-1.0086619343699595E-8},{"$f":"Sheet3!H396","v":-2.0274104880836184E-6},{"$f":"Sheet3!A396","v":4}]
[null,null,{"$f":"SUMIF(Sheet3!C397:C828,B409,Sheet3!D397:D828)","v":0},null,null,null,null,{"$f":"Sheet3!C397","v":2054},{"$f":"Sheet3!B397","v":9},{"$f":"Sheet3!E397","v":-2.0274104880836184E-6},{"$f":"Sheet3!F397","v":1.0137052440418091E-8},{"$f":"Sheet3!G397","v":-1.0137052440418091E-8},{"$f":"Sheet3!H397","v":-2.0375475405240365E-6},{"$f":"Sheet3!A397","v":4}]
[null,null,{"$f":"SUMIF(Sheet3!C398:C829,B410,Sheet3!D398:D829)","v":0},null,null,null,null,{"$f":"Sheet3!C398","v":2054},{"$f":"Sheet3!B398","v":10},{"$f":"Sheet3!E398","v":-2.0375475405240365E-6},{"$f":"Sheet3!F398","v":1.0187737702620181E-8},{"$f":"Sheet3!G398","v":-1.0187737702620181E-8},{"$f":"Sheet3!H398","v":-2.0477352782266564E-6},{"$f":"Sheet3!A398","v":4}]
[null,null,{"$f":"SUMIF(Sheet3!C399:C830,B411,Sheet3!D399:D830)","v":0},null,null,null,null,{"$f":"Sheet3!C399","v":2054},{"$f":"Sheet3!B399","v":11},{"$f":"Sheet3!E399","v":-2.0477352782266564E-6},{"$f":"Sheet3!F399","v":1.0238676391133283E-8},{"$f":"Sheet3!G399","v":-1.0238676391133283E-8},{"$f":"Sheet3!H399","v":-2.0579739546177896E-6},{"$f":"Sheet3!A399","v":4}]
[null,null,{"$f":"SUMIF(Sheet3!C400:C831,B412,Sheet3!D400:D831)","v":0},null,null,null,null,{"$f":"Sheet3!C400","v":2054},{"$f":"Sheet3!B400","v":12},{"$f":"Sheet3!E400","v":-2.0579739546177896E-6},{"$f":"Sheet3!F400","v":1.0289869773088947E-8},{"$f":"Sheet3!G400","v":-1.0289869773088947E-8},{"$f":"Sheet3!H400","v":-2.0682638243908784E-6},{"$f":"Sheet3!A400","v":4}]
[null,null,{"$f":"SUMIF(Sheet3!C401:C832,B413,Sheet3!D401:D832)","v":0},null,null,null,null,{"$f":"Sheet3!C401","v":2055},{"$f":"Sheet3!B401","v":1},{"$f":"Sheet3!E401","v":-2.0682638243908784E-6},{"$f":"Sheet3!F401","v":1.0341319121954391E-8},{"$f":"Sheet3!G401","v":-1.0341319121954391E-8},{"$f":"Sheet3!H401","v":-2.0786051435128327E-6},{"$f":"Sheet3!A401","v":4}]
[null,null,{"$f":"SUMIF(Sheet3!C402:C833,B414,Sheet3!D402:D833)","v":0},null,null,null,null,{"$f":"Sheet3!C402","v":2055},{"$f":"Sheet3!B402","v":2},{"$f":"Sheet3!E402","v":-2.0786051435128327E-6},{"$f":"Sheet3!F402","v":1.0393025717564164E-8},{"$f":"Sheet3!G402","v":-1.0393025717564164E-8},{"$f":"Sheet3!H402","v":-2.088998169230397E-6},{"$f":"Sheet3!A402","v":4}]
[null,null,{"$f":"SUMIF(Sheet3!C403:C834,B415,Sheet3!D403:D834)","v":0},null,null,null,null,{"$f":"Sheet3!C403","v":2055},{"$f":"Sheet3!B403","v":3},{"$f":"Sheet3!E403","v":-2.088998169230397E-6},{"$f":"Sheet3!F403","v":1.0444990846151984E-8},{"$f":"Sheet3!G403","v":-1.0444990846151984E-8},{"$f":"Sheet3!H403","v":-2.0994431600765489E-6},{"$f":"Sheet3!A403","v":4}]
[null,null,{"$f":"SUMIF(Sheet3!C404:C835,B416,Sheet3!D404:D835)","v":0},null,null,null,null,{"$f":"Sheet3!C404","v":2055},{"$f":"Sheet3!B404","v":4},{"$f":"Sheet3!E404","v":-2.0994431600765489E-6},{"$f":"Sheet3!F404","v":1.0497215800382744E-8},{"$f":"Sheet3!G404","v":-1.0497215800382744E-8},{"$f":"Sheet3!H404","v":-2.1099403758769319E-6},{"$f":"Sheet3!A404","v":4}]
[null,null,{"$f":"SUMIF(Sheet3!C405:C836,B417,Sheet3!D405:D836)","v":0},null,null,null,null,{"$f":"Sheet3!C405","v":2055},{"$f":"Sheet3!B405","v":5},{"$f":"Sheet3!E405","v":-2.1099403758769319E-6},{"$f":"Sheet3!F405","v":1.054970187938466E-8},{"$f":"Sheet3!G405","v":-1.054970187938466E-8},{"$f":"Sheet3!H405","v":-2.1204900777563167E-6},{"$f":"Sheet3!A405","v":4}]
[null,null,{"$f":"SUMIF(Sheet3!C406:C837,B418,Sheet3!D406:D837)","v":0},null,null,null,null,{"$f":"Sheet3!C406","v":2055},{"$f":"Sheet3!B406","v":6},{"$f":"Sheet3!E406","v":-2.1204900777563167E-6},{"$f":"Sheet3!F406","v":1.0602450388781582E-8},{"$f":"Sheet3!G406","v":-1.0602450388781582E-8},{"$f":"Sheet3!H406","v":-2.1310925281450982E-6},{"$f":"Sheet3!A406","v":4}]
[null,null,{"$f":"SUMIF(Sheet3!C407:C838,B419,Sheet3!D407:D838)","v":0},null,null,null,null,{"$f":"Sheet3!C407","v":2055},{"$f":"Sheet3!B407","v":7},{"$f":"Sheet3!E407","v":-2.1310925281450982E-6},{"$f":"Sheet3!F407","v":1.0655462640725492E-8},{"$f":"Sheet3!G407","v":-1.0655462640725492E-8},{"$f":"Sheet3!H407","v":-2.1417479907858238E-6},{"$f":"Sheet3!A407","v":4}]
[null,null,{"$f":"SUMIF(Sheet3!C408:C839,B420,Sheet3!D408:D839)","v":0},null,null,null,null,{"$f":"Sheet3!C408","v":2055},{"$f":"Sheet3!B408","v":8},{"$f":"Sheet3!E408","v":-2.1417479907858238E-6},{"$f":"Sheet3!F408","v":1.0708739953929119E-8},{"$f":"Sheet3!G408","v":-1.0708739953929119E-8},{"$f":"Sheet3!H408","v":-2.1524567307397529E-6},{"$f":"Sheet3!A408","v":4}]
[null,null,{"$f":"SUMIF(Sheet3!C409:C840,B421,Sheet3!D409:D840)","v":0},null,null,null,null,{"$f":"Sheet3!C409","v":2055},{"$f":"Sheet3!B409","v":9},{"$f":"Sheet3!E409","v":-2.1524567307397529E-6},{"$f":"Sheet3!F409","v":1.0762283653698764E-8},{"$f":"Sheet3!G409","v":-1.0762283653698764E-8},{"$f":"Sheet3!H409","v":-2.1632190143934515E-6},{"$f":"Sheet3!A409","v":4}]
[null,null,{"$f":"SUMIF(Sheet3!C410:C841,B422,Sheet3!D410:D841)","v":0},null,null,null,null,{"$f":"Sheet3!C410","v":2055},{"$f":"Sheet3!B410","v":10},{"$f":"Sheet3!E410","v":-2.1632190143934515E-6},{"$f":"Sheet3!F410","v":1.0816095071967257E-8},{"$f":"Sheet3!G410","v":-1.0816095071967257E-8},{"$f":"Sheet3!H410","v":-2.1740351094654188E-6},{"$f":"Sheet3!A410","v":4}]
[null,null,{"$f":"SUMIF(Sheet3!C411:C842,B423,Sheet3!D411:D842)","v":0},null,null,null,null,{"$f":"Sheet3!C411","v":2055},{"$f":"Sheet3!B411","v":11},{"$f":"Sheet3!E411","v":-2.1740351094654188E-6},{"$f":"Sheet3!F411","v":1.0870175547327093E-8},{"$f":"Sheet3!G411","v":-1.0870175547327093E-8},{"$f":"Sheet3!H411","v":-2.1849052850127458E-6},{"$f":"Sheet3!A411","v":4}]
[null,null,{"$f":"SUMIF(Sheet3!C412:C843,B424,Sheet3!D412:D843)","v":0},null,null,null,null,{"$f":"Sheet3!C412","v":2055},{"$f":"Sheet3!B412","v":12},{"$f":"Sheet3!E412","v":-2.1849052850127458E-6},{"$f":"Sheet3!F412","v":1.0924526425063728E-8},{"$f":"Sheet3!G412","v":-1.0924526425063728E-8},{"$f":"Sheet3!H412","v":-2.1958298114378094E-6},{"$f":"Sheet3!A412","v":4}]
[null,null,{"$f":"SUMIF(Sheet3!C413:C844,B425,Sheet3!D413:D844)","v":0},null,null,null,null,{"$f":"Sheet3!C413","v":2056},{"$f":"Sheet3!B413","v":1},{"$f":"Sheet3!E413","v":-2.1958298114378094E-6},{"$f":"Sheet3!F413","v":1.0979149057189046E-8},{"$f":"Sheet3!G413","v":-1.0979149057189046E-8},{"$f":"Sheet3!H413","v":-2.2068089604949985E-6},{"$f":"Sheet3!A413","v":4}]
[null,null,{"$f":"SUMIF(Sheet3!C414:C845,B426,Sheet3!D414:D845)","v":0},null,null,null,null,{"$f":"Sheet3!C414","v":2056},{"$f":"Sheet3!B414","v":2},{"$f":"Sheet3!E414","v":-2.2068089604949985E-6},{"$f":"Sheet3!F414","v":1.1034044802474991E-8},{"$f":"Sheet3!G414","v":-1.1034044802474991E-8},{"$f":"Sheet3!H414","v":-2.2178430052974735E-6},{"$f":"Sheet3!A414","v":4}]
[null,null,{"$f":"SUMIF(Sheet3!C415:C846,B427,Sheet3!D415:D846)","v":0},null,null,null,null,{"$f":"Sheet3!C415","v":2056},{"$f":"Sheet3!B415","v":3},{"$f":"Sheet3!E415","v":-2.2178430052974735E-6},{"$f":"Sheet3!F415","v":1.1089215026487367E-8},{"$f":"Sheet3!G415","v":-1.1089215026487367E-8},{"$f":"Sheet3!H415","v":-2.2289322203239608E-6},{"$f":"Sheet3!A415","v":4}]
[null,null,{"$f":"SUMIF(Sheet3!C416:C847,B428,Sheet3!D416:D847)","v":0},null,null,null,null,{"$f":"Sheet3!C416","v":2056},{"$f":"Sheet3!B416","v":4},{"$f":"Sheet3!E416","v":-2.2289322203239608E-6},{"$f":"Sheet3!F416","v":1.1144661101619804E-8},{"$f":"Sheet3!G416","v":-1.1144661101619804E-8},{"$f":"Sheet3!H416","v":-2.2400768814255805E-6},{"$f":"Sheet3!A416","v":4}]
[null,null,{"$f":"SUMIF(Sheet3!C417:C848,B429,Sheet3!D417:D848)","v":0},null,null,null,null,{"$f":"Sheet3!C417","v":2056},{"$f":"Sheet3!B417","v":5},{"$f":"Sheet3!E417","v":-2.2400768814255805E-6},{"$f":"Sheet3!F417","v":1.1200384407127901E-8},{"$f":"Sheet3!G417","v":-1.1200384407127901E-8},{"$f":"Sheet3!H417","v":-2.2512772658327083E-6},{"$f":"Sheet3!A417","v":4}]
[null,null,{"$f":"SUMIF(Sheet3!C418:C849,B430,Sheet3!D418:D849)","v":0},null,null,null,null,{"$f":"Sheet3!C418","v":2056},{"$f":"Sheet3!B418","v":6},{"$f":"Sheet3!E418","v":-2.2512772658327083E-6},{"$f":"Sheet3!F418","v":1.1256386329163542E-8},{"$f":"Sheet3!G418","v":-1.1256386329163542E-8},{"$f":"Sheet3!H418","v":-2.2625336521618718E-6},{"$f":"Sheet3!A418","v":4}]
[null,null,{"$f":"SUMIF(Sheet3!C419:C850,B431,Sheet3!D419:D850)","v":0},null,null,null,null,{"$f":"Sheet3!C419","v":2056},{"$f":"Sheet3!B419","v":7},{"$f":"Sheet3!E419","v":-2.2625336521618718E-6},{"$f":"Sheet3!F419","v":1.1312668260809357E-8},{"$f":"Sheet3!G419","v":-1.1312668260809357E-8},{"$f":"Sheet3!H419","v":-2.2738463204226813E-6},{"$f":"Sheet3!A419","v":4}]
[null,null,{"$f":"SUMIF(Sheet3!C420:C851,B432,Sheet3!D420:D851)","v":0},null,null,null,null,{"$f":"Sheet3!C420","v":2056},{"$f":"Sheet3!B420","v":8},{"$f":"Sheet3!E420","v":-2.2738463204226813E-6},{"$f":"Sheet3!F420","v":1.1369231602113407E-8},{"$f":"Sheet3!G420","v":-1.1369231602113407E-8},{"$f":"Sheet3!H420","v":-2.2852155520247946E-6},{"$f":"Sheet3!A420","v":4}]
[null,null,{"$f":"SUMIF(Sheet3!C421:C852,B433,Sheet3!D421:D852)","v":0},null,null,null,null,{"$f":"Sheet3!C421","v":2056},{"$f":"Sheet3!B421","v":9},{"$f":"Sheet3!E421","v":-2.2852155520247946E-6},{"$f":"Sheet3!F421","v":1.1426077760123973E-8},{"$f":"Sheet3!G421","v":-1.1426077760123973E-8},{"$f":"Sheet3!H421","v":-2.2966416297849186E-6},{"$f":"Sheet3!A421","v":4}]
[null,null,{"$f":"SUMIF(Sheet3!C422:C853,B434,Sheet3!D422:D853)","v":0},null,null,null,null,{"$f":"Sheet3!C422","v":2056},{"$f":"Sheet3!B422","v":10},{"$f":"Sheet3!E422","v":-2.2966416297849186E-6},{"$f":"Sheet3!F422","v":1.1483208148924591E-8},{"$f":"Sheet3!G422","v":-1.1483208148924591E-8},{"$f":"Sheet3!H422","v":-2.3081248379338434E-6},{"$f":"Sheet3!A422","v":4}]
[null,null,{"$f":"SUMIF(Sheet3!C423:C854,B435,Sheet3!D423:D854)","v":0},null,null,null,null,{"$f":"Sheet3!C423","v":2056},{"$f":"Sheet3!B423","v":11},{"$f":"Sheet3!E423","v":-2.3081248379338434E-6},{"$f":"Sheet3!F423","v":1.1540624189669217E-8},{"$f":"Sheet3!G423","v":-1.1540624189669217E-8},{"$f":"Sheet3!H423","v":-2.3196654621235125E-6},{"$f":"Sheet3!A423","v":4}]
[null,null,{"$f":"SUMIF(Sheet3!C424:C855,B436,Sheet3!D424:D855)","v":0},null,null,null,null,{"$f":"Sheet3!C424","v":2056},{"$f":"Sheet3!B424","v":12},{"$f":"Sheet3!E424","v":-2.3196654621235125E-6},{"$f":"Sheet3!F424","v":1.1598327310617562E-8},{"$f":"Sheet3!G424","v":-1.1598327310617562E-8},{"$f":"Sheet3!H424","v":-2.3312637894341301E-6},{"$f":"Sheet3!A424","v":4}]
[null,null,{"$f":"SUMIF(Sheet3!C425:C856,B437,Sheet3!D425:D856)","v":0},null,null,null,null,{"$f":"Sheet3!C425","v":2056},{"$f":"Sheet3!B425","v":1},{"$f":"Sheet3!E425","v":-2.3312637894341301E-6},{"$f":"Sheet3!F425","v":1.165631894717065E-8},{"$f":"Sheet3!G425","v":-1.165631894717065E-8},{"$f":"Sheet3!H425","v":-2.3429201083813009E-6},{"$f":"Sheet3!A425","v":4}]
[null,null,{"$f":"SUMIF(Sheet3!C426:C857,B438,Sheet3!D426:D857)","v":0},null,null,null,null,{"$f":"Sheet3!C426","v":2056},{"$f":"Sheet3!B426","v":2},{"$f":"Sheet3!E426","v":-2.3429201083813009E-6},{"$f":"Sheet3!F426","v":1.1714600541906503E-8},{"$f":"Sheet3!G426","v":-1.1714600541906503E-8},{"$f":"Sheet3!H426","v":-2.3546347089232075E-6},{"$f":"Sheet3!A426","v":4}]
[null,null,{"$f":"SUMIF(Sheet3!C427:C858,B439,Sheet3!D427:D858)","v":0},null,null,null,null,{"$f":"Sheet3!C427","v":2056},{"$f":"Sheet3!B427","v":3},{"$f":"Sheet3!E427","v":-2.3546347089232075E-6},{"$f":"Sheet3!F427","v":1.1773173544616036E-8},{"$f":"Sheet3!G427","v":-1.1773173544616036E-8},{"$f":"Sheet3!H427","v":-2.3664078824678234E-6},{"$f":"Sheet3!A427","v":4}]
[null,null,{"$f":"SUMIF(Sheet3!C428:C859,B440,Sheet3!D428:D859)","v":0},null,null,null,null,{"$f":"Sheet3!C428","v":2056},{"$f":"Sheet3!B428","v":4},{"$f":"Sheet3!E428","v":-2.3664078824678234E-6},{"$f":"Sheet3!F428","v":1.1832039412339117E-8},{"$f":"Sheet3!G428","v":-1.1832039412339117E-8},{"$f":"Sheet3!H428","v":-2.3782399218801623E-6},{"$f":"Sheet3!A428","v":4}]
[null,null,{"$f":"SUMIF(Sheet3!C429:C860,B441,Sheet3!D429:D860)","v":0},null,null,null,null,{"$f":"Sheet3!C429","v":2056},{"$f":"Sheet3!B429","v":5},{"$f":"Sheet3!E429","v":-2.3782399218801623E-6},{"$f":"Sheet3!F429","v":1.1891199609400811E-8},{"$f":"Sheet3!G429","v":-1.1891199609400811E-8},{"$f":"Sheet3!H429","v":-2.3901311214895634E-6},{"$f":"Sheet3!A429","v":4}]
[null,null,{"$f":"SUMIF(Sheet3!C430:C861,B442,Sheet3!D430:D861)","v":0},null,null,null,null,{"$f":"Sheet3!C430","v":2056},{"$f":"Sheet3!B430","v":6},{"$f":"Sheet3!E430","v":-2.3901311214895634E-6},{"$f":"Sheet3!F430","v":1.1950655607447817E-8},{"$f":"Sheet3!G430","v":-1.1950655607447817E-8},{"$f":"Sheet3!H430","v":-2.4020817770970112E-6},{"$f":"Sheet3!A430","v":4}]
[null,null,{"$f":"SUMIF(Sheet3!C431:C862,B443,Sheet3!D431:D862)","v":0},null,null,null,null,{"$f":"Sheet3!C431","v":2056},{"$f":"Sheet3!B431","v":7},{"$f":"Sheet3!E431","v":-2.4020817770970112E-6},{"$f":"Sheet3!F431","v":1.2010408885485056E-8},{"$f":"Sheet3!G431","v":-1.2010408885485056E-8},{"$f":"Sheet3!H431","v":-2.4140921859824962E-6},{"$f":"Sheet3!A431","v":4}]
[null,null,{"$f":"SUMIF(Sheet3!C432:C863,B444,Sheet3!D432:D863)","v":0},null,null,null,null,{"$f":"Sheet3!C432","v":2056},{"$f":"Sheet3!B432","v":8},{"$f":"Sheet3!E432","v":-2.4140921859824962E-6},{"$f":"Sheet3!F432","v":1.2070460929912482E-8},{"$f":"Sheet3!G432","v":-1.2070460929912482E-8},{"$f":"Sheet3!H432","v":-2.4261626469124086E-6},{"$f":"Sheet3!A432","v":4}]
[null,null,{"$f":"SUMIF(Sheet3!C433:C864,B445,Sheet3!D433:D864)","v":0},null,null,null,null,{"$f":"Sheet3!C433","v":2056},{"$f":"Sheet3!B433","v":9},{"$f":"Sheet3!E433","v":-2.4261626469124086E-6},{"$f":"Sheet3!F433","v":1.2130813234562044E-8},{"$f":"Sheet3!G433","v":-1.2130813234562044E-8},{"$f":"Sheet3!H433","v":-2.4382934601469708E-6},{"$f":"Sheet3!A433","v":4}]
[null,null,{"$f":"SUMIF(Sheet3!C434:C865,B446,Sheet3!D434:D865)","v":0},null,null,null,null,{"$f":"Sheet3!C434","v":2056},{"$f":"Sheet3!B434","v":10},{"$f":"Sheet3!E434","v":-2.4382934601469708E-6},{"$f":"Sheet3!F434","v":1.2191467300734854E-8},{"$f":"Sheet3!G434","v":-1.2191467300734854E-8},{"$f":"Sheet3!H434","v":-2.4504849274477058E-6},{"$f":"Sheet3!A434","v":4}]
[null,null,{"$f":"SUMIF(Sheet3!C435:C866,B447,Sheet3!D435:D866)","v":0},null,null,null,null,{"$f":"Sheet3!C435","v":2056},{"$f":"Sheet3!B435","v":11},{"$f":"Sheet3!E435","v":-2.4504849274477058E-6},{"$f":"Sheet3!F435","v":1.2252424637238529E-8},{"$f":"Sheet3!G435","v":-1.2252424637238529E-8},{"$f":"Sheet3!H435","v":-2.4627373520849444E-6},{"$f":"Sheet3!A435","v":4}]
[null,null,{"$f":"SUMIF(Sheet3!C436:C867,B448,Sheet3!D436:D867)","v":0},null,null,null,null,{"$f":"Sheet3!C436","v":2056},{"$f":"Sheet3!B436","v":12},{"$f":"Sheet3!E436","v":-2.4627373520849444E-6},{"$f":"Sheet3!F436","v":1.2313686760424721E-8},{"$f":"Sheet3!G436","v":-1.2313686760424721E-8},{"$f":"Sheet3!H436","v":-2.4750510388453692E-6},{"$f":"Sheet3!A436","v":4}]
[null,null,{"$f":"SUMIF(Sheet3!C437:C868,B449,Sheet3!D437:D868)","v":0},null,null,null,null,{"$f":"Sheet3!C437","v":0},{"$f":"Sheet3!B437","v":0},{"$f":"Sheet3!E437","v":0},{"$f":"Sheet3!F437","v":0},{"$f":"Sheet3!G437","v":0},{"$f":"Sheet3!H437","v":0},{"$f":"Sheet3!A437","v":0}]
[null,null,{"$f":"SUMIF(Sheet3!C438:C869,B450,Sheet3!D438:D869)","v":0},null,null,null,null,{"$f":"Sheet3!C438","v":0},{"$f":"Sheet3!B438","v":0},{"$f":"Sheet3!E438","v":0},{"$f":"Sheet3!F438","v":0},{"$f":"Sheet3!G438","v":0},{"$f":"Sheet3!H438","v":0},{"$f":"Sheet3!A438","v":0}]
[null,null,{"$f":"SUMIF(Sheet3!C439:C870,B451,Sheet3!D439:D870)","v":0},null,null,null,null,{"$f":"Sheet3!C439","v":0},{"$f":"Sheet3!B439","v":0},{"$f":"Sheet3!E439","v":0},{"$f":"Sheet3!F439","v":0},{"$f":"Sheet3!G439","v":0},{"$f":"Sheet3!H439","v":0},{"$f":"Sheet3!A439","v":0}]
[null,null,{"$f":"SUMIF(Sheet3!C440:C871,B452,Sheet3!D440:D871)","v":0},null,null,null,null,{"$f":"Sheet3!C440","v":0},{"$f":"Sheet3!B440","v":0},{"$f":"Sheet3!E440","v":0},{"$f":"Sheet3!F440","v":0},{"$f":"Sheet3!G440","v":0},{"$f":"Sheet3!H440","v":0},{"$f":"Sheet3!A440","v":0}]
[null,null,{"$f":"SUMIF(Sheet3!C441:C872,B453,Sheet3!D441:D872)","v":0},null,null,null,null,{"$f":"Sheet3!C441","v":0},{"$f":"Sheet3!B441","v":0},{"$f":"Sheet3!E441","v":0},{"$f":"Sheet3!F441","v":0},{"$f":"Sheet3!G441","v":0},{"$f":"Sheet3!H441","v":0},{"$f":"Sheet3!A441","v":0}]
[null,null,{"$f":"SUMIF(Sheet3!C442:C873,B454,Sheet3!D442:D873)","v":0},null,null,null,null,{"$f":"Sheet3!C442","v":0},{"$f":"Sheet3!B442","v":0},{"$f":"Sheet3!E442","v":0},{"$f":"Sheet3!F442","v":0},{"$f":"Sheet3!G442","v":0},{"$f":"Sheet3!H442","v":0},{"$f":"Sheet3!A442","v":0}]
[null,null,{"$f":"SUMIF(Sheet3!C443:C874,B455,Sheet3!D443:D874)","v":0},null,null,null,null,{"$f":"Sheet3!C443","v":0},{"$f":"Sheet3!B443","v":0},{"$f":"Sheet3!E443","v":0},{"$f":"Sheet3!F443","v":0},{"$f":"Sheet3!G443","v":0},{"$f":"Sheet3!H443","v":0},{"$f":"Sheet3!A443","v":0}]
[null,null,{"$f":"SUMIF(Sheet3!C444:C875,B456,Sheet3!D444:D875)","v":0},null,null,null,null,{"$f":"Sheet3!C444","v":0},{"$f":"Sheet3!B444","v":0},{"$f":"Sheet3!E444","v":0},{"$f":"Sheet3!F444","v":0},{"$f":"Sheet3!G444","v":0},{"$f":"Sheet3!H444","v":0},{"$f":"Sheet3!A444","v":0}]
[null,null,{"$f":"SUMIF(Sheet3!C445:C876,B457,Sheet3!D445:D876)","v":0},null,null,null,null,{"$f":"Sheet3!C445","v":0},{"$f":"Sheet3!B445","v":0},{"$f":"Sheet3!E445","v":0},{"$f":"Sheet3!F445","v":0},{"$f":"Sheet3!G445","v":0},{"$f":"Sheet3!H445","v":0},{"$f":"Sheet3!A445","v":0}]
[null,null,{"$f":"SUMIF(Sheet3!C446:C877,B458,Sheet3!D446:D877)","v":0},null,null,null,null,{"$f":"Sheet3!C446","v":0},{"$f":"Sheet3!B446","v":0},{"$f":"Sheet3!E446","v":0},{"$f":"Sheet3!F446","v":0},{"$f":"Sheet3!G446","v":0},{"$f":"Sheet3!H446","v":0},{"$f":"Sheet3!A446","v":0}]
[null,null,{"$f":"SUMIF(Sheet3!C447:C878,B459,Sheet3!D447:D878)","v":0},null,null,null,null,{"$f":"Sheet3!C447","v":0},{"$f":"Sheet3!B447","v":0},{"$f":"Sheet3!E447","v":0},{"$f":"Sheet3!F447","v":0},{"$f":"Sheet3!G447","v":0},{"$f":"Sheet3!H447","v":0},{"$f":"Sheet3!A447","v":0}]
[null,null,{"$f":"SUMIF(Sheet3!C448:C879,B460,Sheet3!D448:D879)","v":0},null,null,null,null,{"$f":"Sheet3!C448","v":0},{"$f":"Sheet3!B448","v":0},{"$f":"Sheet3!E448","v":0},{"$f":"Sheet3!F448","v":0},{"$f":"Sheet3!G448","v":0},{"$f":"Sheet3!H448","v":0},{"$f":"Sheet3!A448","v":0}]
[null,null,{"$f":"SUMIF(Sheet3!C449:C880,B461,Sheet3!D449:D880)","v":0},null,null,null,null,{"$f":"Sheet3!C449","v":0},{"$f":"Sheet3!B449","v":0},{"$f":"Sheet3!E449","v":0},{"$f":"Sheet3!F449","v":0},{"$f":"Sheet3!G449","v":0},{"$f":"Sheet3!H449","v":0},{"$f":"Sheet3!A449","v":0}]
[null,null,{"$f":"SUMIF(Sheet3!C450:C881,B462,Sheet3!D450:D881)","v":0},null,null,null,null,{"$f":"Sheet3!C450","v":0},{"$f":"Sheet3!B450","v":0},{"$f":"Sheet3!E450","v":0},{"$f":"Sheet3!F450","v":0},{"$f":"Sheet3!G450","v":0},{"$f":"Sheet3!H450","v":0},{"$f":"Sheet3!A450","v":0}]
[null,null,{"$f":"SUMIF(Sheet3!C451:C882,B463,Sheet3!D451:D882)","v":0},null,null,null,null,{"$f":"Sheet3!C451","v":0},{"$f":"Sheet3!B451","v":0},{"$f":"Sheet3!E451","v":0},{"$f":"Sheet3!F451","v":0},{"$f":"Sheet3!G451","v":0},{"$f":"Sheet3!H451","v":0},{"$f":"Sheet3!A451","v":0}]
[null,null,{"$f":"SUMIF(Sheet3!C452:C883,B464,Sheet3!D452:D883)","v":0},null,null,null,null,{"$f":"Sheet3!C452","v":0},{"$f":"Sheet3!B452","v":0},{"$f":"Sheet3!E452","v":0},{"$f":"Sheet3!F452","v":0},{"$f":"Sheet3!G452","v":0},{"$f":"Sheet3!H452","v":0},{"$f":"Sheet3!A452","v":0}]
[null,null,{"$f":"SUMIF(Sheet3!C453:C884,B465,Sheet3!D453:D884)","v":0},null,null,null,null,{"$f":"Sheet3!C453","v":0},{"$f":"Sheet3!B453","v":0},{"$f":"Sheet3!E453","v":0},{"$f":"Sheet3!F453","v":0},{"$f":"Sheet3!G453","v":0},{"$f":"Sheet3!H453","v":0},{"$f":"Sheet3!A453","v":0}]
[null,null,{"$f":"SUMIF(Sheet3!C454:C885,B466,Sheet3!D454:D885)","v":0},null,null,null,null,{"$f":"Sheet3!C454","v":0},{"$f":"Sheet3!B454","v":0},{"$f":"Sheet3!E454","v":0},{"$f":"Sheet3!F454","v":0},{"$f":"Sheet3!G454","v":0},{"$f":"Sheet3!H454","v":0},{"$f":"Sheet3!A454","v":0}]
[null,null,{"$f":"SUMIF(Sheet3!C455:C886,B467,Sheet3!D455:D886)","v":0},null,null,null,null,{"$f":"Sheet3!C455","v":0},{"$f":"Sheet3!B455","v":0},{"$f":"Sheet3!E455","v":0},{"$f":"Sheet3!F455","v":0},{"$f":"Sheet3!G455","v":0},{"$f":"Sheet3!H455","v":0},{"$f":"Sheet3!A455","v":0}]
[null,null,{"$f":"SUMIF(Sheet3!C456:C887,B468,Sheet3!D456:D887)","v":0},null,null,null,null,{"$f":"Sheet3!C456","v":0},{"$f":"Sheet3!B456","v":0},{"$f":"Sheet3!E456","v":0},{"$f":"Sheet3!F456","v":0},{"$f":"Sheet3!G456","v":0},{"$f":"Sheet3!H456","v":0},{"$f":"Sheet3!A456","v":0}]
[null,null,{"$f":"SUMIF(Sheet3!C457:C888,B469,Sheet3!D457:D888)","v":0},null,null,null,null,{"$f":"Sheet3!C457","v":0},{"$f":"Sheet3!B457","v":0},{"$f":"Sheet3!E457","v":0},{"$f":"Sheet3!F457","v":0},{"$f":"Sheet3!G457","v":0},{"$f":"Sheet3!H457","v":0},{"$f":"Sheet3!A457","v":0}]
[null,null,{"$f":"SUMIF(Sheet3!C458:C889,B470,Sheet3!D458:D889)","v":0},null,null,null,null,{"$f":"Sheet3!C458","v":0},{"$f":"Sheet3!B458","v":0},{"$f":"Sheet3!E458","v":0},{"$f":"Sheet3!F458","v":0},{"$f":"Sheet3!G458","v":0},{"$f":"Sheet3!H458","v":0},{"$f":"Sheet3!A458","v":0}]
[null,null,{"$f":"SUMIF(Sheet3!C459:C890,B471,Sheet3!D459:D890)","v":0},null,null,null,null,{"$f":"Sheet3!C459","v":0},{"$f":"Sheet3!B459","v":0},{"$f":"Sheet3!E459","v":0},{"$f":"Sheet3!F459","v":0},{"$f":"Sheet3!G459","v":0},{"$f":"Sheet3!H459","v":0},{"$f":"Sheet3!A459","v":0}]
[null,null,{"$f":"SUMIF(Sheet3!C460:C891,B472,Sheet3!D460:D891)","v":0},null,null,null,null,{"$f":"Sheet3!C460","v":0},{"$f":"Sheet3!B460","v":0},{"$f":"Sheet3!E460","v":0},{"$f":"Sheet3!F460","v":0},{"$f":"Sheet3!G460","v":0},{"$f":"Sheet3!H460","v":0},{"$f":"Sheet3!A460","v":0}]
[null,null,{"$f":"SUMIF(Sheet3!C461:C892,B473,Sheet3!D461:D892)","v":0},null,null,null,null,{"$f":"Sheet3!C461","v":0},{"$f":"Sheet3!B461","v":0},{"$f":"Sheet3!E461","v":0},{"$f":"Sheet3!F461","v":0},{"$f":"Sheet3!G461","v":0},{"$f":"Sheet3!H461","v":0},{"$f":"Sheet3!A461","v":0}]
[null,null,{"$f":"SUMIF(Sheet3!C462:C893,B474,Sheet3!D462:D893)","v":0},null,null,null,null,{"$f":"Sheet3!C462","v":0},{"$f":"Sheet3!B462","v":0},{"$f":"Sheet3!E462","v":0},{"$f":"Sheet3!F462","v":0},{"$f":"Sheet3!G462","v":0},{"$f":"Sheet3!H462","v":0},{"$f":"Sheet3!A462","v":0}]
[null,null,{"$f":"SUMIF(Sheet3!C463:C894,B475,Sheet3!D463:D894)","v":0},null,null,null,null,{"$f":"Sheet3!C463","v":0},{"$f":"Sheet3!B463","v":0},{"$f":"Sheet3!E463","v":0},{"$f":"Sheet3!F463","v":0},{"$f":"Sheet3!G463","v":0},{"$f":"Sheet3!H463","v":0},{"$f":"Sheet3!A463","v":0}]
[null,null,{"$f":"SUMIF(Sheet3!C464:C895,B476,Sheet3!D464:D895)","v":0},null,null,null,null,{"$f":"Sheet3!C464","v":0},{"$f":"Sheet3!B464","v":0},{"$f":"Sheet3!E464","v":0},{"$f":"Sheet3!F464","v":0},{"$f":"Sheet3!G464","v":0},{"$f":"Sheet3!H464","v":0},{"$f":"Sheet3!A464","v":0}]
[null,null,{"$f":"SUMIF(Sheet3!C465:C896,B477,Sheet3!D465:D896)","v":0},null,null,null,null,{"$f":"Sheet3!C465","v":0},{"$f":"Sheet3!B465","v":0},{"$f":"Sheet3!E465","v":0},{"$f":"Sheet3!F465","v":0},{"$f":"Sheet3!G465","v":0},{"$f":"Sheet3!H465","v":0},{"$f":"Sheet3!A465","v":0}]
[null,null,{"$f":"SUMIF(Sheet3!C466:C897,B478,Sheet3!D466:D897)","v":0},null,null,null,null,{"$f":"Sheet3!C466","v":0},{"$f":"Sheet3!B466","v":0},{"$f":"Sheet3!E466","v":0},{"$f":"Sheet3!F466","v":0},{"$f":"Sheet3!G466","v":0},{"$f":"Sheet3!H466","v":0},{"$f":"Sheet3!A466","v":0}]
[null,null,{"$f":"SUMIF(Sheet3!C467:C898,B479,Sheet3!D467:D898)","v":0},null,null,null,null,{"$f":"Sheet3!C467","v":0},{"$f":"Sheet3!B467","v":0},{"$f":"Sheet3!E467","v":0},{"$f":"Sheet3!F467","v":0},{"$f":"Sheet3!G467","v":0},{"$f":"Sheet3!H467","v":0},{"$f":"Sheet3!A467","v":0}]
[null,null,{"$f":"SUMIF(Sheet3!C468:C899,B480,Sheet3!D468:D899)","v":0},null,null,null,null,{"$f":"Sheet3!C468","v":0},{"$f":"Sheet3!B468","v":0},{"$f":"Sheet3!E468","v":0},{"$f":"Sheet3!F468","v":0},{"$f":"Sheet3!G468","v":0},{"$f":"Sheet3!H468","v":0},{"$f":"Sheet3!A468","v":0}]
[null,null,{"$f":"SUMIF(Sheet3!C469:C900,B481,Sheet3!D469:D900)","v":0},null,null,null,null,{"$f":"Sheet3!C469","v":0},{"$f":"Sheet3!B469","v":0},{"$f":"Sheet3!E469","v":0},{"$f":"Sheet3!F469","v":0},{"$f":"Sheet3!G469","v":0},{"$f":"Sheet3!H469","v":0},{"$f":"Sheet3!A469","v":0}]
[null,null,{"$f":"SUMIF(Sheet3!C470:C901,B482,Sheet3!D470:D901)","v":0},null,null,null,null,{"$f":"Sheet3!C470","v":0},{"$f":"Sheet3!B470","v":0},{"$f":"Sheet3!E470","v":0},{"$f":"Sheet3!F470","v":0},{"$f":"Sheet3!G470","v":0},{"$f":"Sheet3!H470","v":0},{"$f":"Sheet3!A470","v":0}]
[null,null,{"$f":"SUMIF(Sheet3!C471:C902,B483,Sheet3!D471:D902)","v":0},null,null,null,null,{"$f":"Sheet3!C471","v":0},{"$f":"Sheet3!B471","v":0},{"$f":"Sheet3!E471","v":0},{"$f":"Sheet3!F471","v":0},{"$f":"Sheet3!G471","v":0},{"$f":"Sheet3!H471","v":0},{"$f":"Sheet3!A471","v":0}]
[null,null,{"$f":"SUMIF(Sheet3!C472:C903,B484,Sheet3!D472:D903)","v":0},null,null,null,null,{"$f":"Sheet3!C472","v":0},{"$f":"Sheet3!B472","v":0},{"$f":"Sheet3!E472","v":0},{"$f":"Sheet3!F472","v":0},{"$f":"Sheet3!G472","v":0},{"$f":"Sheet3!H472","v":0},{"$f":"Sheet3!A472","v":0}]
[null,null,{"$f":"SUMIF(Sheet3!C473:C904,B485,Sheet3!D473:D904)","v":0},null,null,null,null,{"$f":"Sheet3!C473","v":0},{"$f":"Sheet3!B473","v":0},{"$f":"Sheet3!E473","v":0},{"$f":"Sheet3!F473","v":0},{"$f":"Sheet3!G473","v":0},{"$f":"Sheet3!H473","v":0},{"$f":"Sheet3!A473","v":0}]
[null,null,{"$f":"SUMIF(Sheet3!C474:C905,B486,Sheet3!D474:D905)","v":0},null,null,null,null,{"$f":"Sheet3!C474","v":0},{"$f":"Sheet3!B474","v":0},{"$f":"Sheet3!E474","v":0},{"$f":"Sheet3!F474","v":0},{"$f":"Sheet3!G474","v":0},{"$f":"Sheet3!H474","v":0},{"$f":"Sheet3!A474","v":0}]
[null,null,{"$f":"SUMIF(Sheet3!C475:C906,B487,Sheet3!D475:D906)","v":0},null,null,null,null,{"$f":"Sheet3!C475","v":0},{"$f":"Sheet3!B475","v":0},{"$f":"Sheet3!E475","v":0},{"$f":"Sheet3!F475","v":0},{"$f":"Sheet3!G475","v":0},{"$f":"Sheet3!H475","v":0},{"$f":"Sheet3!A475","v":0}]
[null,null,{"$f":"SUMIF(Sheet3!C476:C907,B488,Sheet3!D476:D907)","v":0},null,null,null,null,{"$f":"Sheet3!C476","v":0},{"$f":"Sheet3!B476","v":0},{"$f":"Sheet3!E476","v":0},{"$f":"Sheet3!F476","v":0},{"$f":"Sheet3!G476","v":0},{"$f":"Sheet3!H476","v":0},{"$f":"Sheet3!A476","v":0}]
[null,null,{"$f":"SUMIF(Sheet3!C477:C908,B489,Sheet3!D477:D908)","v":0},null,null,null,null,{"$f":"Sheet3!C477","v":0},{"$f":"Sheet3!B477","v":0},{"$f":"Sheet3!E477","v":0},{"$f":"Sheet3!F477","v":0},{"$f":"Sheet3!G477","v":0},{"$f":"Sheet3!H477","v":0},{"$f":"Sheet3!A477","v":0}]
[null,null,{"$f":"SUMIF(Sheet3!C478:C909,B490,Sheet3!D478:D909)","v":0},null,null,null,null,{"$f":"Sheet3!C478","v":0},{"$f":"Sheet3!B478","v":0},{"$f":"Sheet3!E478","v":0},{"$f":"Sheet3!F478","v":0},{"$f":"Sheet3!G478","v":0},{"$f":"Sheet3!H478","v":0},{"$f":"Sheet3!A478","v":0}]
[null,null,{"$f":"SUMIF(Sheet3!C479:C910,B491,Sheet3!D479:D910)","v":0},null,null,null,null,{"$f":"Sheet3!C479","v":0},{"$f":"Sheet3!B479","v":0},{"$f":"Sheet3!E479","v":0},{"$f":"Sheet3!F479","v":0},{"$f":"Sheet3!G479","v":0},{"$f":"Sheet3!H479","v":0},{"$f":"Sheet3!A479","v":0}]
[null,null,{"$f":"SUMIF(Sheet3!C480:C911,B492,Sheet3!D480:D911)","v":0},null,null,null,null,{"$f":"Sheet3!C480","v":0},{"$f":"Sheet3!B480","v":0},{"$f":"Sheet3!E480","v":0},{"$f":"Sheet3!F480","v":0},{"$f":"Sheet3!G480","v":0},{"$f":"Sheet3!H480","v":0},{"$f":"Sheet3!A480","v":0}]
[null,null,{"$f":"SUMIF(Sheet3!C481:C912,B493,Sheet3!D481:D912)","v":0},null,null,null,null,{"$f":"Sheet3!C481","v":0},{"$f":"Sheet3!B481","v":0},{"$f":"Sheet3!E481","v":0},{"$f":"Sheet3!F481","v":0},{"$f":"Sheet3!G481","v":0},{"$f":"Sheet3!H481","v":0},{"$f":"Sheet3!A481","v":0}]
[null,null,{"$f":"SUMIF(Sheet3!C482:C913,B494,Sheet3!D482:D913)","v":0},null,null,null,null,{"$f":"Sheet3!C482","v":0},{"$f":"Sheet3!B482","v":0},{"$f":"Sheet3!E482","v":0},{"$f":"Sheet3!F482","v":0},{"$f":"Sheet3!G482","v":0},{"$f":"Sheet3!H482","v":0},{"$f":"Sheet3!A482","v":0}]
[null,null,{"$f":"SUMIF(Sheet3!C483:C914,B495,Sheet3!D483:D914)","v":0},null,null,null,null,{"$f":"Sheet3!C483","v":0},{"$f":"Sheet3!B483","v":0},{"$f":"Sheet3!E483","v":0},{"$f":"Sheet3!F483","v":0},{"$f":"Sheet3!G483","v":0},{"$f":"Sheet3!H483","v":0},{"$f":"Sheet3!A483","v":0}]
[null,null,{"$f":"SUMIF(Sheet3!C484:C915,B496,Sheet3!D484:D915)","v":0},null,null,null,null,{"$f":"Sheet3!C484","v":0},{"$f":"Sheet3!B484","v":0},{"$f":"Sheet3!E484","v":0},{"$f":"Sheet3!F484","v":0},{"$f":"Sheet3!G484","v":0},{"$f":"Sheet3!H484","v":0},{"$f":"Sheet3!A484","v":0}]
[null,null,{"$f":"SUMIF(Sheet3!C485:C916,B497,Sheet3!D485:D916)","v":0},null,null,null,null,{"$f":"Sheet3!C485","v":0},{"$f":"Sheet3!B485","v":0},{"$f":"Sheet3!E485","v":0},{"$f":"Sheet3!F485","v":0},{"$f":"Sheet3!G485","v":0},{"$f":"Sheet3!H485","v":0},{"$f":"Sheet3!A485","v":0}]
[null,null,{"$f":"SUMIF(Sheet3!C486:C917,B498,Sheet3!D486:D917)","v":0},null,null,null,null,{"$f":"Sheet3!C486","v":0},{"$f":"Sheet3!B486","v":0},{"$f":"Sheet3!E486","v":0},{"$f":"Sheet3!F486","v":0},{"$f":"Sheet3!G486","v":0},{"$f":"Sheet3!H486","v":0},{"$f":"Sheet3!A486","v":0}]
[null,null,{"$f":"SUMIF(Sheet3!C487:C918,B499,Sheet3!D487:D918)","v":0},null,null,null,null,{"$f":"Sheet3!C487","v":0},{"$f":"Sheet3!B487","v":0},{"$f":"Sheet3!E487","v":0},{"$f":"Sheet3!F487","v":0},{"$f":"Sheet3!G487","v":0},{"$f":"Sheet3!H487","v":0},{"$f":"Sheet3!A487","v":0}]
[null,null,{"$f":"SUMIF(Sheet3!C488:C919,B500,Sheet3!D488:D919)","v":0},null,null,null,null,{"$f":"Sheet3!C488","v":0},{"$f":"Sheet3!B488","v":0},{"$f":"Sheet3!E488","v":0},{"$f":"Sheet3!F488","v":0},{"$f":"Sheet3!G488","v":0},{"$f":"Sheet3!H488","v":0},{"$f":"Sheet3!A488","v":0}]
[null,null,{"$f":"SUMIF(Sheet3!C489:C920,B501,Sheet3!D489:D920)","v":0},null,null,null,null,{"$f":"Sheet3!C489","v":0},{"$f":"Sheet3!B489","v":0},{"$f":"Sheet3!E489","v":0},{"$f":"Sheet3!F489","v":0},{"$f":"Sheet3!G489","v":0},{"$f":"Sheet3!H489","v":0},{"$f":"Sheet3!A489","v":0}]
[null,null,{"$f":"SUMIF(Sheet3!C490:C921,B502,Sheet3!D490:D921)","v":0},null,null,null,null,{"$f":"Sheet3!C490","v":0},{"$f":"Sheet3!B490","v":0},{"$f":"Sheet3!E490","v":0},{"$f":"Sheet3!F490","v":0},{"$f":"Sheet3!G490","v":0},{"$f":"Sheet3!H490","v":0},{"$f":"Sheet3!A490","v":0}]
[null,null,{"$f":"SUMIF(Sheet3!C491:C922,B503,Sheet3!D491:D922)","v":0},null,null,null,null,{"$f":"Sheet3!C491","v":0},{"$f":"Sheet3!B491","v":0},{"$f":"Sheet3!E491","v":0},{"$f":"Sheet3!F491","v":0},{"$f":"Sheet3!G491","v":0},{"$f":"Sheet3!H491","v":0},{"$f":"Sheet3!A491","v":0}]
[null,null,{"$f":"SUMIF(Sheet3!C492:C923,B504,Sheet3!D492:D923)","v":0},null,null,null,null,{"$f":"Sheet3!C492","v":0},{"$f":"Sheet3!B492","v":0},{"$f":"Sheet3!E492","v":0},{"$f":"Sheet3!F492","v":0},{"$f":"Sheet3!G492","v":0},{"$f":"Sheet3!H492","v":0},{"$f":"Sheet3!A492","v":0}]
[null,null,{"$f":"SUMIF(Sheet3!C493:C924,B505,Sheet3!D493:D924)","v":0},null,null,null,null,{"$f":"Sheet3!C493","v":0},{"$f":"Sheet3!B493","v":0},{"$f":"Sheet3!E493","v":0},{"$f":"Sheet3!F493","v":0},{"$f":"Sheet3!G493","v":0},{"$f":"Sheet3!H493","v":0},{"$f":"Sheet3!A493","v":0}]
[null,null,{"$f":"SUMIF(Sheet3!C494:C925,B506,Sheet3!D494:D925)","v":0},null,null,null,null,{"$f":"Sheet3!C494","v":0},{"$f":"Sheet3!B494","v":0},{"$f":"Sheet3!E494","v":0},{"$f":"Sheet3!F494","v":0},{"$f":"Sheet3!G494","v":0},{"$f":"Sheet3!H494","v":0},{"$f":"Sheet3!A494","v":0}]
[null,null,{"$f":"SUMIF(Sheet3!C495:C926,B507,Sheet3!D495:D926)","v":0},null,null,null,null,{"$f":"Sheet3!C495","v":0},{"$f":"Sheet3!B495","v":0},{"$f":"Sheet3!E495","v":0},{"$f":"Sheet3!F495","v":0},{"$f":"Sheet3!G495","v":0},{"$f":"Sheet3!H495","v":0},{"$f":"Sheet3!A495","v":0}]
[null,null,{"$f":"SUMIF(Sheet3!C496:C927,B508,Sheet3!D496:D927)","v":0},null,null,null,null,{"$f":"Sheet3!C496","v":0},{"$f":"Sheet3!B496","v":0},{"$f":"Sheet3!E496","v":0},{"$f":"Sheet3!F496","v":0},{"$f":"Sheet3!G496","v":0},{"$f":"Sheet3!H496","v":0},{"$f":"Sheet3!A496","v":0}]
[null,null,{"$f":"SUMIF(Sheet3!C497:C928,B509,Sheet3!D497:D928)","v":0},null,null,null,null,{"$f":"Sheet3!C497","v":0},{"$f":"Sheet3!B497","v":0},{"$f":"Sheet3!E497","v":0},{"$f":"Sheet3!F497","v":0},{"$f":"Sheet3!G497","v":0},{"$f":"Sheet3!H497","v":0},{"$f":"Sheet3!A497","v":0}]
[null,null,{"$f":"SUMIF(Sheet3!C498:C929,B510,Sheet3!D498:D929)","v":0},null,null,null,null,{"$f":"Sheet3!C498","v":0},{"$f":"Sheet3!B498","v":0},{"$f":"Sheet3!E498","v":0},{"$f":"Sheet3!F498","v":0},{"$f":"Sheet3!G498","v":0},{"$f":"Sheet3!H498","v":0},{"$f":"Sheet3!A498","v":0}]
[null,null,{"$f":"SUMIF(Sheet3!C499:C930,B511,Sheet3!D499:D930)","v":0},null,null,null,null,{"$f":"Sheet3!C499","v":0},{"$f":"Sheet3!B499","v":0},{"$f":"Sheet3!E499","v":0},{"$f":"Sheet3!F499","v":0},{"$f":"Sheet3!G499","v":0},{"$f":"Sheet3!H499","v":0},{"$f":"Sheet3!A499","v":0}]
[null,null,{"$f":"SUMIF(Sheet3!C500:C931,B512,Sheet3!D500:D931)","v":0},null,null,null,null,{"$f":"Sheet3!C500","v":0},{"$f":"Sheet3!B500","v":0},{"$f":"Sheet3!E500","v":0},{"$f":"Sheet3!F500","v":0},{"$f":"Sheet3!G500","v":0},{"$f":"Sheet3!H500","v":0},{"$f":"Sheet3!A500","v":0}]
[null,null,{"$f":"SUMIF(Sheet3!C501:C932,B513,Sheet3!D501:D932)","v":0},null,null,null,null,{"$f":"Sheet3!C501","v":0},{"$f":"Sheet3!B501","v":0},{"$f":"Sheet3!E501","v":0},{"$f":"Sheet3!F501","v":0},{"$f":"Sheet3!G501","v":0},{"$f":"Sheet3!H501","v":0},{"$f":"Sheet3!A501","v":0}]
[null,null,{"$f":"SUMIF(Sheet3!C502:C933,B514,Sheet3!D502:D933)","v":0},null,null,null,null,{"$f":"Sheet3!C502","v":0},{"$f":"Sheet3!B502","v":0},{"$f":"Sheet3!E502","v":0},{"$f":"Sheet3!F502","v":0},{"$f":"Sheet3!G502","v":0},{"$f":"Sheet3!H502","v":0},{"$f":"Sheet3!A502","v":0}]
[null,null,{"$f":"SUMIF(Sheet3!C503:C934,B515,Sheet3!D503:D934)","v":0},null,null,null,null,{"$f":"Sheet3!C503","v":0},{"$f":"Sheet3!B503","v":0},{"$f":"Sheet3!E503","v":0},{"$f":"Sheet3!F503","v":0},{"$f":"Sheet3!G503","v":0},{"$f":"Sheet3!H503","v":0},{"$f":"Sheet3!A503","v":0}]
[null,null,{"$f":"SUMIF(Sheet3!C504:C935,B516,Sheet3!D504:D935)","v":0},null,null,null,null,{"$f":"Sheet3!C504","v":0},{"$f":"Sheet3!B504","v":0},{"$f":"Sheet3!E504","v":0},{"$f":"Sheet3!F504","v":0},{"$f":"Sheet3!G504","v":0},{"$f":"Sheet3!H504","v":0},{"$f":"Sheet3!A504","v":0}]
[null,null,{"$f":"SUMIF(Sheet3!C505:C936,B517,Sheet3!D505:D936)","v":0},null,null,null,null,{"$f":"Sheet3!C505","v":0},{"$f":"Sheet3!B505","v":0},{"$f":"Sheet3!E505","v":0},{"$f":"Sheet3!F505","v":0},{"$f":"Sheet3!G505","v":0},{"$f":"Sheet3!H505","v":0},{"$f":"Sheet3!A505","v":0}]
[null,null,{"$f":"SUMIF(Sheet3!C506:C937,B518,Sheet3!D506:D937)","v":0},null,null,null,null,{"$f":"Sheet3!C506","v":0},{"$f":"Sheet3!B506","v":0},{"$f":"Sheet3!E506","v":0},{"$f":"Sheet3!F506","v":0},{"$f":"Sheet3!G506","v":0},{"$f":"Sheet3!H506","v":0},{"$f":"Sheet3!A506","v":0}]
[null,null,{"$f":"SUMIF(Sheet3!C507:C938,B519,Sheet3!D507:D938)","v":0},null,null,null,null,{"$f":"Sheet3!C507","v":0},{"$f":"Sheet3!B507","v":0},{"$f":"Sheet3!E507","v":0},{"$f":"Sheet3!F507","v":0},{"$f":"Sheet3!G507","v":0},{"$f":"Sheet3!H507","v":0},{"$f":"Sheet3!A507","v":0}]
[null,null,{"$f":"SUMIF(Sheet3!C508:C939,B520,Sheet3!D508:D939)","v":0},null,null,null,null,{"$f":"Sheet3!C508","v":0},{"$f":"Sheet3!B508","v":0},{"$f":"Sheet3!E508","v":0},{"$f":"Sheet3!F508","v":0},{"$f":"Sheet3!G508","v":0},{"$f":"Sheet3!H508","v":0},{"$f":"Sheet3!A508","v":0}]
[null,null,{"$f":"SUMIF(Sheet3!C509:C940,B521,Sheet3!D509:D940)","v":0},null,null,null,null,{"$f":"Sheet3!C509","v":0},{"$f":"Sheet3!B509","v":0},{"$f":"Sheet3!E509","v":0},{"$f":"Sheet3!F509","v":0},{"$f":"Sheet3!G509","v":0},{"$f":"Sheet3!H509","v":0},{"$f":"Sheet3!A509","v":0}]
[null,null,{"$f":"SUMIF(Sheet3!C510:C941,B522,Sheet3!D510:D941)","v":0},null,null,null,null,{"$f":"Sheet3!C510","v":0},{"$f":"Sheet3!B510","v":0},{"$f":"Sheet3!E510","v":0},{"$f":"Sheet3!F510","v":0},{"$f":"Sheet3!G510","v":0},{"$f":"Sheet3!H510","v":0},{"$f":"Sheet3!A510","v":0}]
[null,null,{"$f":"SUMIF(Sheet3!C511:C942,B523,Sheet3!D511:D942)","v":0},null,null,null,null,{"$f":"Sheet3!C511","v":0},{"$f":"Sheet3!B511","v":0},{"$f":"Sheet3!E511","v":0},{"$f":"Sheet3!F511","v":0},{"$f":"Sheet3!G511","v":0},{"$f":"Sheet3!H511","v":0},{"$f":"Sheet3!A511","v":0}]
[null,null,{"$f":"SUMIF(Sheet3!C512:C943,B524,Sheet3!D512:D943)","v":0},null,null,null,null,{"$f":"Sheet3!C512","v":0},{"$f":"Sheet3!B512","v":0},{"$f":"Sheet3!E512","v":0},{"$f":"Sheet3!F512","v":0},{"$f":"Sheet3!G512","v":0},{"$f":"Sheet3!H512","v":0},{"$f":"Sheet3!A512","v":0}]
[null,null,{"$f":"SUMIF(Sheet3!C513:C944,B525,Sheet3!D513:D944)","v":0},null,null,null,null,{"$f":"Sheet3!C513","v":0},{"$f":"Sheet3!B513","v":0},{"$f":"Sheet3!E513","v":0},{"$f":"Sheet3!F513","v":0},{"$f":"Sheet3!G513","v":0},{"$f":"Sheet3!H513","v":0},{"$f":"Sheet3!A513","v":0}]
[null,null,{"$f":"SUMIF(Sheet3!C514:C945,B526,Sheet3!D514:D945)","v":0},null,null,null,null,{"$f":"Sheet3!C514","v":0},{"$f":"Sheet3!B514","v":0},{"$f":"Sheet3!E514","v":0},{"$f":"Sheet3!F514","v":0},{"$f":"Sheet3!G514","v":0},{"$f":"Sheet3!H514","v":0},{"$f":"Sheet3!A514","v":0}]
[null,null,{"$f":"SUMIF(Sheet3!C515:C946,B527,Sheet3!D515:D946)","v":0},null,null,null,null,{"$f":"Sheet3!C515","v":0},{"$f":"Sheet3!B515","v":0},{"$f":"Sheet3!E515","v":0},{"$f":"Sheet3!F515","v":0},{"$f":"Sheet3!G515","v":0},{"$f":"Sheet3!H515","v":0},{"$f":"Sheet3!A515","v":0}]
[null,null,{"$f":"SUMIF(Sheet3!C516:C947,B528,Sheet3!D516:D947)","v":0},null,null,null,null,{"$f":"Sheet3!C516","v":0},{"$f":"Sheet3!B516","v":0},{"$f":"Sheet3!E516","v":0},{"$f":"Sheet3!F516","v":0},{"$f":"Sheet3!G516","v":0},{"$f":"Sheet3!H516","v":0},{"$f":"Sheet3!A516","v":0}]
[null,null,{"$f":"SUMIF(Sheet3!C517:C948,B529,Sheet3!D517:D948)","v":0},null,null,null,null,{"$f":"Sheet3!C517","v":0},{"$f":"Sheet3!B517","v":0},{"$f":"Sheet3!E517","v":0},{"$f":"Sheet3!F517","v":0},{"$f":"Sheet3!G517","v":0},{"$f":"Sheet3!H517","v":0},{"$f":"Sheet3!A517","v":0}]
[null,null,{"$f":"SUMIF(Sheet3!C518:C949,B530,Sheet3!D518:D949)","v":0},null,null,null,null,{"$f":"Sheet3!C518","v":0},{"$f":"Sheet3!B518","v":0},{"$f":"Sheet3!E518","v":0},{"$f":"Sheet3!F518","v":0},{"$f":"Sheet3!G518","v":0},{"$f":"Sheet3!H518","v":0},{"$f":"Sheet3!A518","v":0}]
[null,null,{"$f":"SUMIF(Sheet3!C519:C950,B531,Sheet3!D519:D950)","v":0},null,null,null,null,{"$f":"Sheet3!C519","v":0},{"$f":"Sheet3!B519","v":0},{"$f":"Sheet3!E519","v":0},{"$f":"Sheet3!F519","v":0},{"$f":"Sheet3!G519","v":0},{"$f":"Sheet3!H519","v":0},{"$f":"Sheet3!A519","v":0}]
[null,null,{"$f":"SUMIF(Sheet3!C520:C951,B532,Sheet3!D520:D951)","v":0},null,null,null,null,{"$f":"Sheet3!C520","v":0},{"$f":"Sheet3!B520","v":0},{"$f":"Sheet3!E520","v":0},{"$f":"Sheet3!F520","v":0},{"$f":"Sheet3!G520","v":0},{"$f":"Sheet3!H520","v":0},{"$f":"Sheet3!A520","v":0}]
[null,null,{"$f":"SUMIF(Sheet3!C521:C952,B533,Sheet3!D521:D952)","v":0},null,null,null,null,{"$f":"Sheet3!C521","v":0},{"$f":"Sheet3!B521","v":0},{"$f":"Sheet3!E521","v":0},{"$f":"Sheet3!F521","v":0},{"$f":"Sheet3!G521","v":0},{"$f":"Sheet3!H521","v":0},{"$f":"Sheet3!A521","v":0}]
[null,null,{"$f":"SUMIF(Sheet3!C522:C953,B534,Sheet3!D522:D953)","v":0},null,null,null,null,{"$f":"Sheet3!C522","v":0},{"$f":"Sheet3!B522","v":0},{"$f":"Sheet3!E522","v":0},{"$f":"Sheet3!F522","v":0},{"$f":"Sheet3!G522","v":0},{"$f":"Sheet3!H522","v":0},{"$f":"Sheet3!A522","v":0}]
[null,null,{"$f":"SUMIF(Sheet3!C523:C954,B535,Sheet3!D523:D954)","v":0},null,null,null,null,{"$f":"Sheet3!C523","v":0},{"$f":"Sheet3!B523","v":0},{"$f":"Sheet3!E523","v":0},{"$f":"Sheet3!F523","v":0},{"$f":"Sheet3!G523","v":0},{"$f":"Sheet3!H523","v":0},{"$f":"Sheet3!A523","v":0}]
[null,null,{"$f":"SUMIF(Sheet3!C524:C955,B536,Sheet3!D524:D955)","v":0},null,null,null,null,{"$f":"Sheet3!C524","v":0},{"$f":"Sheet3!B524","v":0},{"$f":"Sheet3!E524","v":0},{"$f":"Sheet3!F524","v":0},{"$f":"Sheet3!G524","v":0},{"$f":"Sheet3!H524","v":0},{"$f":"Sheet3!A524","v":0}]
[null,null,{"$f":"SUMIF(Sheet3!C525:C956,B537,Sheet3!D525:D956)","v":0},null,null,null,null,{"$f":"Sheet3!C525","v":0},{"$f":"Sheet3!B525","v":0},{"$f":"Sheet3!E525","v":0},{"$f":"Sheet3!F525","v":0},{"$f":"Sheet3!G525","v":0},{"$f":"Sheet3!H525","v":0},{"$f":"Sheet3!A525","v":0}]
[null,null,{"$f":"SUMIF(Sheet3!C526:C957,B538,Sheet3!D526:D957)","v":0},null,null,null,null,{"$f":"Sheet3!C526","v":0},{"$f":"Sheet3!B526","v":0},{"$f":"Sheet3!E526","v":0},{"$f":"Sheet3!F526","v":0},{"$f":"Sheet3!G526","v":0},{"$f":"Sheet3!H526","v":0},{"$f":"Sheet3!A526","v":0}]
[null,null,{"$f":"SUMIF(Sheet3!C527:C958,B539,Sheet3!D527:D958)","v":0},null,null,null,null,{"$f":"Sheet3!C527","v":0},{"$f":"Sheet3!B527","v":0},{"$f":"Sheet3!E527","v":0},{"$f":"Sheet3!F527","v":0},{"$f":"Sheet3!G527","v":0},{"$f":"Sheet3!H527","v":0},{"$f":"Sheet3!A527","v":0}]
[null,null,{"$f":"SUMIF(Sheet3!C528:C959,B540,Sheet3!D528:D959)","v":0},null,null,null,null,{"$f":"Sheet3!C528","v":0},{"$f":"Sheet3!B528","v":0},{"$f":"Sheet3!E528","v":0},{"$f":"Sheet3!F528","v":0},{"$f":"Sheet3!G528","v":0},{"$f":"Sheet3!H528","v":0},{"$f":"Sheet3!A528","v":0}]
[null,null,{"$f":"SUMIF(Sheet3!C529:C960,B541,Sheet3!D529:D960)","v":0},null,null,null,null,{"$f":"Sheet3!C529","v":0},{"$f":"Sheet3!B529","v":0},{"$f":"Sheet3!E529","v":0},{"$f":"Sheet3!F529","v":0},{"$f":"Sheet3!G529","v":0},{"$f":"Sheet3!H529","v":0},{"$f":"Sheet3!A529","v":0}]
[null,null,{"$f":"SUMIF(Sheet3!C530:C961,B542,Sheet3!D530:D961)","v":0},null,null,null,null,{"$f":"Sheet3!C530","v":0},{"$f":"Sheet3!B530","v":0},{"$f":"Sheet3!E530","v":0},{"$f":"Sheet3!F530","v":0},{"$f":"Sheet3!G530","v":0},{"$f":"Sheet3!H530","v":0},{"$f":"Sheet3!A530","v":0}]
[null,null,{"$f":"SUMIF(Sheet3!C531:C962,B543,Sheet3!D531:D962)","v":0},null,null,null,null,{"$f":"Sheet3!C531","v":0},{"$f":"Sheet3!B531","v":0},{"$f":"Sheet3!E531","v":0},{"$f":"Sheet3!F531","v":0},{"$f":"Sheet3!G531","v":0},{"$f":"Sheet3!H531","v":0},{"$f":"Sheet3!A531","v":0}]
[null,null,{"$f":"SUMIF(Sheet3!C532:C963,B544,Sheet3!D532:D963)","v":0},null,null,null,null,{"$f":"Sheet3!C532","v":0},{"$f":"Sheet3!B532","v":0},{"$f":"Sheet3!E532","v":0},{"$f":"Sheet3!F532","v":0},{"$f":"Sheet3!G532","v":0},{"$f":"Sheet3!H532","v":0},{"$f":"Sheet3!A532","v":0}]
[null,null,{"$f":"SUMIF(Sheet3!C533:C964,B545,Sheet3!D533:D964)","v":0},null,null,null,null,{"$f":"Sheet3!C533","v":0},{"$f":"Sheet3!B533","v":0},{"$f":"Sheet3!E533","v":0},{"$f":"Sheet3!F533","v":0},{"$f":"Sheet3!G533","v":0},{"$f":"Sheet3!H533","v":0},{"$f":"Sheet3!A533","v":0}]
[null,null,{"$f":"SUMIF(Sheet3!C534:C965,B546,Sheet3!D534:D965)","v":0},null,null,null,null,{"$f":"Sheet3!C534","v":0},{"$f":"Sheet3!B534","v":0},{"$f":"Sheet3!E534","v":0},{"$f":"Sheet3!F534","v":0},{"$f":"Sheet3!G534","v":0},{"$f":"Sheet3!H534","v":0},{"$f":"Sheet3!A534","v":0}]
[null,null,{"$f":"SUMIF(Sheet3!C535:C966,B547,Sheet3!D535:D966)","v":0},null,null,null,null,{"$f":"Sheet3!C535","v":0},{"$f":"Sheet3!B535","v":0},{"$f":"Sheet3!E535","v":0},{"$f":"Sheet3!F535","v":0},{"$f":"Sheet3!G535","v":0},{"$f":"Sheet3!H535","v":0},{"$f":"Sheet3!A535","v":0}]
[null,null,{"$f":"SUMIF(Sheet3!C536:C967,B548,Sheet3!D536:D967)","v":0},null,null,null,null,{"$f":"Sheet3!C536","v":0},{"$f":"Sheet3!B536","v":0},{"$f":"Sheet3!E536","v":0},{"$f":"Sheet3!F536","v":0},{"$f":"Sheet3!G536","v":0},{"$f":"Sheet3!H536","v":0},{"$f":"Sheet3!A536","v":0}]
[null,null,{"$f":"SUMIF(Sheet3!C537:C968,B549,Sheet3!D537:D968)","v":0},null,null,null,null,{"$f":"Sheet3!C537","v":0},{"$f":"Sheet3!B537","v":0},{"$f":"Sheet3!E537","v":0},{"$f":"Sheet3!F537","v":0},{"$f":"Sheet3!G537","v":0},{"$f":"Sheet3!H537","v":0},{"$f":"Sheet3!A537","v":0}]
[null,null,{"$f":"SUMIF(Sheet3!C538:C969,B550,Sheet3!D538:D969)","v":0},null,null,null,null,{"$f":"Sheet3!C538","v":0},{"$f":"Sheet3!B538","v":0},{"$f":"Sheet3!E538","v":0},{"$f":"Sheet3!F538","v":0},{"$f":"Sheet3!G538","v":0},{"$f":"Sheet3!H538","v":0},{"$f":"Sheet3!A538","v":0}]
[null,null,{"$f":"SUMIF(Sheet3!C539:C970,B551,Sheet3!D539:D970)","v":0},null,null,null,null,{"$f":"Sheet3!C539","v":0},{"$f":"Sheet3!B539","v":0},{"$f":"Sheet3!E539","v":0},{"$f":"Sheet3!F539","v":0},{"$f":"Sheet3!G539","v":0},{"$f":"Sheet3!H539","v":0},{"$f":"Sheet3!A539","v":0}]
[null,null,{"$f":"SUMIF(Sheet3!C540:C971,B552,Sheet3!D540:D971)","v":0},null,null,null,null,{"$f":"Sheet3!C540","v":0},{"$f":"Sheet3!B540","v":0},{"$f":"Sheet3!E540","v":0},{"$f":"Sheet3!F540","v":0},{"$f":"Sheet3!G540","v":0},{"$f":"Sheet3!H540","v":0},{"$f":"Sheet3!A540","v":0}]
[null,null,{"$f":"SUMIF(Sheet3!C541:C972,B553,Sheet3!D541:D972)","v":0},null,null,null,null,{"$f":"Sheet3!C541","v":0},{"$f":"Sheet3!B541","v":0},{"$f":"Sheet3!E541","v":0},{"$f":"Sheet3!F541","v":0},{"$f":"Sheet3!G541","v":0},{"$f":"Sheet3!H541","v":0},{"$f":"Sheet3!A541","v":0}]
[null,null,{"$f":"SUMIF(Sheet3!C542:C973,B554,Sheet3!D542:D973)","v":0},null,null,null,null,{"$f":"Sheet3!C542","v":0},{"$f":"Sheet3!B542","v":0},{"$f":"Sheet3!E542","v":0},{"$f":"Sheet3!F542","v":0},{"$f":"Sheet3!G542","v":0},{"$f":"Sheet3!H542","v":0},{"$f":"Sheet3!A542","v":0}]
[null,null,{"$f":"SUMIF(Sheet3!C543:C974,B555,Sheet3!D543:D974)","v":0},null,null,null,null,{"$f":"Sheet3!C543","v":0},{"$f":"Sheet3!B543","v":0},{"$f":"Sheet3!E543","v":0},{"$f":"Sheet3!F543","v":0},{"$f":"Sheet3!G543","v":0},{"$f":"Sheet3!H543","v":0},{"$f":"Sheet3!A543","v":0}]
[null,null,{"$f":"SUMIF(Sheet3!C544:C975,B556,Sheet3!D544:D975)","v":0},null,null,null,null,{"$f":"Sheet3!C544","v":0},{"$f":"Sheet3!B544","v":0},{"$f":"Sheet3!E544","v":0},{"$f":"Sheet3!F544","v":0},{"$f":"Sheet3!G544","v":0},{"$f":"Sheet3!H544","v":0},{"$f":"Sheet3!A544","v":0}]
[null,null,{"$f":"SUMIF(Sheet3!C545:C976,B557,Sheet3!D545:D976)","v":0},null,null,null,null,{"$f":"Sheet3!C545","v":0},{"$f":"Sheet3!B545","v":0},{"$f":"Sheet3!E545","v":0},{"$f":"Sheet3!F545","v":0},{"$f":"Sheet3!G545","v":0},{"$f":"Sheet3!H545","v":0},{"$f":"Sheet3!A545","v":0}]
[null,null,{"$f":"SUMIF(Sheet3!C546:C977,B558,Sheet3!D546:D977)","v":0},null,null,null,null,{"$f":"Sheet3!C546","v":0},{"$f":"Sheet3!B546","v":0},{"$f":"Sheet3!E546","v":0},{"$f":"Sheet3!F546","v":0},{"$f":"Sheet3!G546","v":0},{"$f":"Sheet3!H546","v":0},{"$f":"Sheet3!A546","v":0}]
[null,null,{"$f":"SUMIF(Sheet3!C547:C978,B559,Sheet3!D547:D978)","v":0},null,null,null,null,{"$f":"Sheet3!C547","v":0},{"$f":"Sheet3!B547","v":0},{"$f":"Sheet3!E547","v":0},{"$f":"Sheet3!F547","v":0},{"$f":"Sheet3!G547","v":0},{"$f":"Sheet3!H547","v":0},{"$f":"Sheet3!A547","v":0}]
[null,null,{"$f":"SUMIF(Sheet3!C548:C979,B560,Sheet3!D548:D979)","v":0},null,null,null,null,{"$f":"Sheet3!C548","v":0},{"$f":"Sheet3!B548","v":0},{"$f":"Sheet3!E548","v":0},{"$f":"Sheet3!F548","v":0},{"$f":"Sheet3!G548","v":0},{"$f":"Sheet3!H548","v":0},{"$f":"Sheet3!A548","v":0}]
[null,null,{"$f":"SUMIF(Sheet3!C549:C980,B561,Sheet3!D549:D980)","v":0},null,null,null,null,{"$f":"Sheet3!C549","v":0},{"$f":"Sheet3!B549","v":0},{"$f":"Sheet3!E549","v":0},{"$f":"Sheet3!F549","v":0},{"$f":"Sheet3!G549","v":0},{"$f":"Sheet3!H549","v":0},{"$f":"Sheet3!A549","v":0}]
[null,null,{"$f":"SUMIF(Sheet3!C550:C981,B562,Sheet3!D550:D981)","v":0},null,null,null,null,{"$f":"Sheet3!C550","v":0},{"$f":"Sheet3!B550","v":0},{"$f":"Sheet3!E550","v":0},{"$f":"Sheet3!F550","v":0},{"$f":"Sheet3!G550","v":0},{"$f":"Sheet3!H550","v":0},{"$f":"Sheet3!A550","v":0}]
[null,null,{"$f":"SUMIF(Sheet3!C551:C982,B563,Sheet3!D551:D982)","v":0},null,null,null,null,{"$f":"Sheet3!C551","v":0},{"$f":"Sheet3!B551","v":0},{"$f":"Sheet3!E551","v":0},{"$f":"Sheet3!F551","v":0},{"$f":"Sheet3!G551","v":0},{"$f":"Sheet3!H551","v":0},{"$f":"Sheet3!A551","v":0}]
[null,null,{"$f":"SUMIF(Sheet3!C552:C983,B564,Sheet3!D552:D983)","v":0},null,null,null,null,{"$f":"Sheet3!C552","v":0},{"$f":"Sheet3!B552","v":0},{"$f":"Sheet3!E552","v":0},{"$f":"Sheet3!F552","v":0},{"$f":"Sheet3!G552","v":0},{"$f":"Sheet3!H552","v":0},{"$f":"Sheet3!A552","v":0}]
[null,null,{"$f":"SUMIF(Sheet3!C553:C984,B565,Sheet3!D553:D984)","v":0},null,null,null,null,{"$f":"Sheet3!C553","v":0},{"$f":"Sheet3!B553","v":0},{"$f":"Sheet3!E553","v":0},{"$f":"Sheet3!F553","v":0},{"$f":"Sheet3!G553","v":0},{"$f":"Sheet3!H553","v":0},{"$f":"Sheet3!A553","v":0}]
[null,null,{"$f":"SUMIF(Sheet3!C554:C985,B566,Sheet3!D554:D985)","v":0},null,null,null,null,{"$f":"Sheet3!C554","v":0},{"$f":"Sheet3!B554","v":0},{"$f":"Sheet3!E554","v":0},{"$f":"Sheet3!F554","v":0},{"$f":"Sheet3!G554","v":0},{"$f":"Sheet3!H554","v":0},{"$f":"Sheet3!A554","v":0}]
[null,null,{"$f":"SUMIF(Sheet3!C555:C986,B567,Sheet3!D555:D986)","v":0},null,null,null,null,{"$f":"Sheet3!C555","v":0},{"$f":"Sheet3!B555","v":0},{"$f":"Sheet3!E555","v":0},{"$f":"Sheet3!F555","v":0},{"$f":"Sheet3!G555","v":0},{"$f":"Sheet3!H555","v":0},{"$f":"Sheet3!A555","v":0}]
[null,null,{"$f":"SUMIF(Sheet3!C556:C987,B568,Sheet3!D556:D987)","v":0},null,null,null,null,{"$f":"Sheet3!C556","v":0},{"$f":"Sheet3!B556","v":0},{"$f":"Sheet3!E556","v":0},{"$f":"Sheet3!F556","v":0},{"$f":"Sheet3!G556","v":0},{"$f":"Sheet3!H556","v":0},{"$f":"Sheet3!A556","v":0}]
[null,null,{"$f":"SUMIF(Sheet3!C557:C988,B569,Sheet3!D557:D988)","v":0},null,null,null,null,{"$f":"Sheet3!C557","v":0},{"$f":"Sheet3!B557","v":0},{"$f":"Sheet3!E557","v":0},{"$f":"Sheet3!F557","v":0},{"$f":"Sheet3!G557","v":0},{"$f":"Sheet3!H557","v":0},{"$f":"Sheet3!A557","v":0}]
[null,null,{"$f":"SUMIF(Sheet3!C558:C989,B570,Sheet3!D558:D989)","v":0},null,null,null,null,{"$f":"Sheet3!C558","v":0},{"$f":"Sheet3!B558","v":0},{"$f":"Sheet3!E558","v":0},{"$f":"Sheet3!F558","v":0},{"$f":"Sheet3!G558","v":0},{"$f":"Sheet3!H558","v":0},{"$f":"Sheet3!A558","v":0}]
[null,null,{"$f":"SUMIF(Sheet3!C559:C990,B571,Sheet3!D559:D990)","v":0},null,null,null,null,{"$f":"Sheet3!C559","v":0},{"$f":"Sheet3!B559","v":0},{"$f":"Sheet3!E559","v":0},{"$f":"Sheet3!F559","v":0},{"$f":"Sheet3!G559","v":0},{"$f":"Sheet3!H559","v":0},{"$f":"Sheet3!A559","v":0}]
[null,null,{"$f":"SUMIF(Sheet3!C560:C991,B572,Sheet3!D560:D991)","v":0},null,null,null,null,{"$f":"Sheet3!C560","v":0},{"$f":"Sheet3!B560","v":0},{"$f":"Sheet3!E560","v":0},{"$f":"Sheet3!F560","v":0},{"$f":"Sheet3!G560","v":0},{"$f":"Sheet3!H560","v":0},{"$f":"Sheet3!A560","v":0}]
[null,null,{"$f":"SUMIF(Sheet3!C561:C992,B573,Sheet3!D561:D992)","v":0},null,null,null,null,{"$f":"Sheet3!C561","v":0},{"$f":"Sheet3!B561","v":0},{"$f":"Sheet3!E561","v":0},{"$f":"Sheet3!F561","v":0},{"$f":"Sheet3!G561","v":0},{"$f":"Sheet3!H561","v":0},{"$f":"Sheet3!A561","v":0}]
[null,null,{"$f":"SUMIF(Sheet3!C562:C993,B574,Sheet3!D562:D993)","v":0},null,null,null,null,{"$f":"Sheet3!C562","v":0},{"$f":"Sheet3!B562","v":0},{"$f":"Sheet3!E562","v":0},{"$f":"Sheet3!F562","v":0},{"$f":"Sheet3!G562","v":0},{"$f":"Sheet3!H562","v":0},{"$f":"Sheet3!A562","v":0}]
[null,null,{"$f":"SUMIF(Sheet3!C563:C994,B575,Sheet3!D563:D994)","v":0},null,null,null,null,{"$f":"Sheet3!C563","v":0},{"$f":"Sheet3!B563","v":0},{"$f":"Sheet3!E563","v":0},{"$f":"Sheet3!F563","v":0},{"$f":"Sheet3!G563","v":0},{"$f":"Sheet3!H563","v":0},{"$f":"Sheet3!A563","v":0}]
[null,null,{"$f":"SUMIF(Sheet3!C564:C995,B576,Sheet3!D564:D995)","v":0},null,null,null,null,{"$f":"Sheet3!C564","v":0},{"$f":"Sheet3!B564","v":0},{"$f":"Sheet3!E564","v":0},{"$f":"Sheet3!F564","v":0},{"$f":"Sheet3!G564","v":0},{"$f":"Sheet3!H564","v":0},{"$f":"Sheet3!A564","v":0}]
[null,null,{"$f":"SUMIF(Sheet3!C565:C996,B577,Sheet3!D565:D996)","v":0},null,null,null,null,{"$f":"Sheet3!C565","v":0},{"$f":"Sheet3!B565","v":0},{"$f":"Sheet3!E565","v":0},{"$f":"Sheet3!F565","v":0},{"$f":"Sheet3!G565","v":0},{"$f":"Sheet3!H565","v":0},{"$f":"Sheet3!A565","v":0}]
[null,null,{"$f":"SUMIF(Sheet3!C566:C997,B578,Sheet3!D566:D997)","v":0},null,null,null,null,{"$f":"Sheet3!C566","v":0},{"$f":"Sheet3!B566","v":0},{"$f":"Sheet3!E566","v":0},{"$f":"Sheet3!F566","v":0},{"$f":"Sheet3!G566","v":0},{"$f":"Sheet3!H566","v":0},{"$f":"Sheet3!A566","v":0}]
[null,null,{"$f":"SUMIF(Sheet3!C567:C998,B579,Sheet3!D567:D998)","v":0},null,null,null,null,{"$f":"Sheet3!C567","v":0},{"$f":"Sheet3!B567","v":0},{"$f":"Sheet3!E567","v":0},{"$f":"Sheet3!F567","v":0},{"$f":"Sheet3!G567","v":0},{"$f":"Sheet3!H567","v":0},{"$f":"Sheet3!A567","v":0}]
[null,null,{"$f":"SUMIF(Sheet3!C568:C999,B580,Sheet3!D568:D999)","v":0},null,null,null,null,{"$f":"Sheet3!C568","v":0},{"$f":"Sheet3!B568","v":0},{"$f":"Sheet3!E568","v":0},{"$f":"Sheet3!F568","v":0},{"$f":"Sheet3!G568","v":0},{"$f":"Sheet3!H568","v":0},{"$f":"Sheet3!A568","v":0}]
[null,null,{"$f":"SUMIF(Sheet3!C569:C1000,B581,Sheet3!D569:D1000)","v":0},null,null,null,null,{"$f":"Sheet3!C569","v":0},{"$f":"Sheet3!B569","v":0},{"$f":"Sheet3!E569","v":0},{"$f":"Sheet3!F569","v":0},{"$f":"Sheet3!G569","v":0},{"$f":"Sheet3!H569","v":0},{"$f":"Sheet3!A569","v":0}]
[null,null,{"$f":"SUMIF(Sheet3!C570:C1001,B582,Sheet3!D570:D1001)","v":0},null,null,null,null,{"$f":"Sheet3!C570","v":0},{"$f":"Sheet3!B570","v":0},{"$f":"Sheet3!E570","v":0},{"$f":"Sheet3!F570","v":0},{"$f":"Sheet3!G570","v":0},{"$f":"Sheet3!H570","v":0},{"$f":"Sheet3!A570","v":0}]
[null,null,{"$f":"SUMIF(Sheet3!C571:C1002,B583,Sheet3!D571:D1002)","v":0},null,null,null,null,{"$f":"Sheet3!C571","v":0},{"$f":"Sheet3!B571","v":0},{"$f":"Sheet3!E571","v":0},{"$f":"Sheet3!F571","v":0},{"$f":"Sheet3!G571","v":0},{"$f":"Sheet3!H571","v":0},{"$f":"Sheet3!A571","v":0}]
[null,null,{"$f":"SUMIF(Sheet3!C572:C1003,B584,Sheet3!D572:D1003)","v":0},null,null,null,null,{"$f":"Sheet3!C572","v":0},{"$f":"Sheet3!B572","v":0},{"$f":"Sheet3!E572","v":0},{"$f":"Sheet3!F572","v":0},{"$f":"Sheet3!G572","v":0},{"$f":"Sheet3!H572","v":0},{"$f":"Sheet3!A572","v":0}]
[null,null,{"$f":"SUMIF(Sheet3!C573:C1004,B585,Sheet3!D573:D1004)","v":0},null,null,null,null,{"$f":"Sheet3!C573","v":0},{"$f":"Sheet3!B573","v":0},{"$f":"Sheet3!E573","v":0},{"$f":"Sheet3!F573","v":0},{"$f":"Sheet3!G573","v":0},{"$f":"Sheet3!H573","v":0},{"$f":"Sheet3!A573","v":0}]
[null,null,{"$f":"SUMIF(Sheet3!C574:C1005,B586,Sheet3!D574:D1005)","v":0},null,null,null,null,{"$f":"Sheet3!C574","v":0},{"$f":"Sheet3!B574","v":0},{"$f":"Sheet3!E574","v":0},{"$f":"Sheet3!F574","v":0},{"$f":"Sheet3!G574","v":0},{"$f":"Sheet3!H574","v":0},{"$f":"Sheet3!A574","v":0}]
[null,null,{"$f":"SUMIF(Sheet3!C575:C1006,B587,Sheet3!D575:D1006)","v":0},null,null,null,null,{"$f":"Sheet3!C575","v":0},{"$f":"Sheet3!B575","v":0},{"$f":"Sheet3!E575","v":0},{"$f":"Sheet3!F575","v":0},{"$f":"Sheet3!G575","v":0},{"$f":"Sheet3!H575","v":0},{"$f":"Sheet3!A575","v":0}]
[null,null,{"$f":"SUMIF(Sheet3!C576:C1007,B588,Sheet3!D576:D1007)","v":0},null,null,null,null,{"$f":"Sheet3!C576","v":0},{"$f":"Sheet3!B576","v":0},{"$f":"Sheet3!E576","v":0},{"$f":"Sheet3!F576","v":0},{"$f":"Sheet3!G576","v":0},{"$f":"Sheet3!H576","v":0},{"$f":"Sheet3!A576","v":0}]
[null,null,{"$f":"SUMIF(Sheet3!C577:C1008,B589,Sheet3!D577:D1008)","v":0},null,null,null,null,{"$f":"Sheet3!C577","v":0},{"$f":"Sheet3!B577","v":0},{"$f":"Sheet3!E577","v":0},{"$f":"Sheet3!F577","v":0},{"$f":"Sheet3!G577","v":0},{"$f":"Sheet3!H577","v":0},{"$f":"Sheet3!A577","v":0}]
[null,null,{"$f":"SUMIF(Sheet3!C578:C1009,B590,Sheet3!D578:D1009)","v":0},null,null,null,null,{"$f":"Sheet3!C578","v":0},{"$f":"Sheet3!B578","v":0},{"$f":"Sheet3!E578","v":0},{"$f":"Sheet3!F578","v":0},{"$f":"Sheet3!G578","v":0},{"$f":"Sheet3!H578","v":0},{"$f":"Sheet3!A578","v":0}]
[null,null,{"$f":"SUMIF(Sheet3!C579:C1010,B591,Sheet3!D579:D1010)","v":0},null,null,null,null,{"$f":"Sheet3!C579","v":0},{"$f":"Sheet3!B579","v":0},{"$f":"Sheet3!E579","v":0},{"$f":"Sheet3!F579","v":0},{"$f":"Sheet3!G579","v":0},{"$f":"Sheet3!H579","v":0},{"$f":"Sheet3!A579","v":0}]
[null,null,{"$f":"SUMIF(Sheet3!C580:C1011,B592,Sheet3!D580:D1011)","v":0},null,null,null,null,{"$f":"Sheet3!C580","v":0},{"$f":"Sheet3!B580","v":0},{"$f":"Sheet3!E580","v":0},{"$f":"Sheet3!F580","v":0},{"$f":"Sheet3!G580","v":0},{"$f":"Sheet3!H580","v":0},{"$f":"Sheet3!A580","v":0}]
[null,null,{"$f":"SUMIF(Sheet3!C581:C1012,B593,Sheet3!D581:D1012)","v":0},null,null,null,null,{"$f":"Sheet3!C581","v":0},{"$f":"Sheet3!B581","v":0},{"$f":"Sheet3!E581","v":0},{"$f":"Sheet3!F581","v":0},{"$f":"Sheet3!G581","v":0},{"$f":"Sheet3!H581","v":0},{"$f":"Sheet3!A581","v":0}]
[null,null,{"$f":"SUMIF(Sheet3!C582:C1013,B594,Sheet3!D582:D1013)","v":0},null,null,null,null,{"$f":"Sheet3!C582","v":0},{"$f":"Sheet3!B582","v":0},{"$f":"Sheet3!E582","v":0},{"$f":"Sheet3!F582","v":0},{"$f":"Sheet3!G582","v":0},{"$f":"Sheet3!H582","v":0},{"$f":"Sheet3!A582","v":0}]
[null,null,{"$f":"SUMIF(Sheet3!C583:C1014,B595,Sheet3!D583:D1014)","v":0},null,null,null,null,{"$f":"Sheet3!C583","v":0},{"$f":"Sheet3!B583","v":0},{"$f":"Sheet3!E583","v":0},{"$f":"Sheet3!F583","v":0},{"$f":"Sheet3!G583","v":0},{"$f":"Sheet3!H583","v":0},{"$f":"Sheet3!A583","v":0}]
[null,null,{"$f":"SUMIF(Sheet3!C584:C1015,B596,Sheet3!D584:D1015)","v":0},null,null,null,null,{"$f":"Sheet3!C584","v":0},{"$f":"Sheet3!B584","v":0},{"$f":"Sheet3!E584","v":0},{"$f":"Sheet3!F584","v":0},{"$f":"Sheet3!G584","v":0},{"$f":"Sheet3!H584","v":0},{"$f":"Sheet3!A584","v":0}]
[null,null,{"$f":"SUMIF(Sheet3!C585:C1016,B597,Sheet3!D585:D1016)","v":0},null,null,null,null,{"$f":"Sheet3!C585","v":0},{"$f":"Sheet3!B585","v":0},{"$f":"Sheet3!E585","v":0},{"$f":"Sheet3!F585","v":0},{"$f":"Sheet3!G585","v":0},{"$f":"Sheet3!H585","v":0},{"$f":"Sheet3!A585","v":0}]
[null,null,{"$f":"SUMIF(Sheet3!C586:C1017,B598,Sheet3!D586:D1017)","v":0},null,null,null,null,{"$f":"Sheet3!C586","v":0},{"$f":"Sheet3!B586","v":0},{"$f":"Sheet3!E586","v":0},{"$f":"Sheet3!F586","v":0},{"$f":"Sheet3!G586","v":0},{"$f":"Sheet3!H586","v":0},{"$f":"Sheet3!A586","v":0}]
[null,null,{"$f":"SUMIF(Sheet3!C587:C1018,B599,Sheet3!D587:D1018)","v":0},null,null,null,null,{"$f":"Sheet3!C587","v":0},{"$f":"Sheet3!B587","v":0},{"$f":"Sheet3!E587","v":0},{"$f":"Sheet3!F587","v":0},{"$f":"Sheet3!G587","v":0},{"$f":"Sheet3!H587","v":0},{"$f":"Sheet3!A587","v":0}]
[null,null,{"$f":"SUMIF(Sheet3!C588:C1019,B600,Sheet3!D588:D1019)","v":0},null,null,null,null,{"$f":"Sheet3!C588","v":0},{"$f":"Sheet3!B588","v":0},{"$f":"Sheet3!E588","v":0},{"$f":"Sheet3!F588","v":0},{"$f":"Sheet3!G588","v":0},{"$f":"Sheet3!H588","v":0},{"$f":"Sheet3!A588","v":0}]
[null,null,{"$f":"SUMIF(Sheet3!C589:C1020,B601,Sheet3!D589:D1020)","v":0},null,null,null,null,{"$f":"Sheet3!C589","v":0},{"$f":"Sheet3!B589","v":0},{"$f":"Sheet3!E589","v":0},{"$f":"Sheet3!F589","v":0},{"$f":"Sheet3!G589","v":0},{"$f":"Sheet3!H589","v":0},{"$f":"Sheet3!A589","v":0}]
[null,null,{"$f":"SUMIF(Sheet3!C590:C1021,B602,Sheet3!D590:D1021)","v":0},null,null,null,null,{"$f":"Sheet3!C590","v":0},{"$f":"Sheet3!B590","v":0},{"$f":"Sheet3!E590","v":0},{"$f":"Sheet3!F590","v":0},{"$f":"Sheet3!G590","v":0},{"$f":"Sheet3!H590","v":0},{"$f":"Sheet3!A590","v":0}]
[null,null,{"$f":"SUMIF(Sheet3!C591:C1022,B603,Sheet3!D591:D1022)","v":0},null,null,null,null,{"$f":"Sheet3!C591","v":0},{"$f":"Sheet3!B591","v":0},{"$f":"Sheet3!E591","v":0},{"$f":"Sheet3!F591","v":0},{"$f":"Sheet3!G591","v":0},{"$f":"Sheet3!H591","v":0},{"$f":"Sheet3!A591","v":0}]
[null,null,{"$f":"SUMIF(Sheet3!C592:C1023,B604,Sheet3!D592:D1023)","v":0},null,null,null,null,{"$f":"Sheet3!C592","v":0},{"$f":"Sheet3!B592","v":0},{"$f":"Sheet3!E592","v":0},{"$f":"Sheet3!F592","v":0},{"$f":"Sheet3!G592","v":0},{"$f":"Sheet3!H592","v":0},{"$f":"Sheet3!A592","v":0}]
[null,null,{"$f":"SUMIF(Sheet3!C593:C1024,B605,Sheet3!D593:D1024)","v":0},null,null,null,null,{"$f":"Sheet3!C593","v":0},{"$f":"Sheet3!B593","v":0},{"$f":"Sheet3!E593","v":0},{"$f":"Sheet3!F593","v":0},{"$f":"Sheet3!G593","v":0},{"$f":"Sheet3!H593","v":0},{"$f":"Sheet3!A593","v":0}]
[null,null,{"$f":"SUMIF(Sheet3!C594:C1025,B606,Sheet3!D594:D1025)","v":0},null,null,null,null,{"$f":"Sheet3!C594","v":0},{"$f":"Sheet3!B594","v":0},{"$f":"Sheet3!E594","v":0},{"$f":"Sheet3!F594","v":0},{"$f":"Sheet3!G594","v":0},{"$f":"Sheet3!H594","v":0},{"$f":"Sheet3!A594","v":0}]
[null,null,{"$f":"SUMIF(Sheet3!C595:C1026,B607,Sheet3!D595:D1026)","v":0},null,null,null,null,{"$f":"Sheet3!C595","v":0},{"$f":"Sheet3!B595","v":0},{"$f":"Sheet3!E595","v":0},{"$f":"Sheet3!F595","v":0},{"$f":"Sheet3!G595","v":0},{"$f":"Sheet3!H595","v":0},{"$f":"Sheet3!A595","v":0}]
[null,null,{"$f":"SUMIF(Sheet3!C596:C1027,B608,Sheet3!D596:D1027)","v":0},null,null,null,null,{"$f":"Sheet3!C596","v":0},{"$f":"Sheet3!B596","v":0},{"$f":"Sheet3!E596","v":0},{"$f":"Sheet3!F596","v":0},{"$f":"Sheet3!G596","v":0},{"$f":"Sheet3!H596","v":0},{"$f":"Sheet3!A596","v":0}]
[null,null,{"$f":"SUMIF(Sheet3!C597:C1028,B609,Sheet3!D597:D1028)","v":0},null,null,null,null,{"$f":"Sheet3!C597","v":0},{"$f":"Sheet3!B597","v":0},{"$f":"Sheet3!E597","v":0},{"$f":"Sheet3!F597","v":0},{"$f":"Sheet3!G597","v":0},{"$f":"Sheet3!H597","v":0},{"$f":"Sheet3!A597","v":0}]
[null,null,{"$f":"SUMIF(Sheet3!C598:C1029,B610,Sheet3!D598:D1029)","v":0},null,null,null,null,{"$f":"Sheet3!C598","v":0},{"$f":"Sheet3!B598","v":0},{"$f":"Sheet3!E598","v":0},{"$f":"Sheet3!F598","v":0},{"$f":"Sheet3!G598","v":0},{"$f":"Sheet3!H598","v":0},{"$f":"Sheet3!A598","v":0}]
[null,null,{"$f":"SUMIF(Sheet3!C599:C1030,B611,Sheet3!D599:D1030)","v":0},null,null,null,null,{"$f":"Sheet3!C599","v":0},{"$f":"Sheet3!B599","v":0},{"$f":"Sheet3!E599","v":0},{"$f":"Sheet3!F599","v":0},{"$f":"Sheet3!G599","v":0},{"$f":"Sheet3!H599","v":0},{"$f":"Sheet3!A599","v":0}]
[null,null,{"$f":"SUMIF(Sheet3!C600:C1031,B612,Sheet3!D600:D1031)","v":0},null,null,null,null,{"$f":"Sheet3!C600","v":0},{"$f":"Sheet3!B600","v":0},{"$f":"Sheet3!E600","v":0},{"$f":"Sheet3!F600","v":0},{"$f":"Sheet3!G600","v":0},{"$f":"Sheet3!H600","v":0},{"$f":"Sheet3!A600","v":0}]
[null,null,{"$f":"SUMIF(Sheet3!C601:C1032,B613,Sheet3!D601:D1032)","v":0},null,null,null,null,{"$f":"Sheet3!C601","v":0},{"$f":"Sheet3!B601","v":0},{"$f":"Sheet3!E601","v":0},{"$f":"Sheet3!F601","v":0},{"$f":"Sheet3!G601","v":0},{"$f":"Sheet3!H601","v":0},{"$f":"Sheet3!A601","v":0}]
[null,null,{"$f":"SUMIF(Sheet3!C602:C1033,B614,Sheet3!D602:D1033)","v":0},null,null,null,null,{"$f":"Sheet3!C602","v":0},{"$f":"Sheet3!B602","v":0},{"$f":"Sheet3!E602","v":0},{"$f":"Sheet3!F602","v":0},{"$f":"Sheet3!G602","v":0},{"$f":"Sheet3!H602","v":0},{"$f":"Sheet3!A602","v":0}]
[null,null,{"$f":"SUMIF(Sheet3!C603:C1034,B615,Sheet3!D603:D1034)","v":0},null,null,null,null,{"$f":"Sheet3!C603","v":0},{"$f":"Sheet3!B603","v":0},{"$f":"Sheet3!E603","v":0},{"$f":"Sheet3!F603","v":0},{"$f":"Sheet3!G603","v":0},{"$f":"Sheet3!H603","v":0},{"$f":"Sheet3!A603","v":0}]
[null,null,{"$f":"SUMIF(Sheet3!C604:C1035,B616,Sheet3!D604:D1035)","v":0},null,null,null,null,{"$f":"Sheet3!C604","v":0},{"$f":"Sheet3!B604","v":0},{"$f":"Sheet3!E604","v":0},{"$f":"Sheet3!F604","v":0},{"$f":"Sheet3!G604","v":0},{"$f":"Sheet3!H604","v":0},{"$f":"Sheet3!A604","v":0}]
[null,null,{"$f":"SUMIF(Sheet3!C605:C1036,B617,Sheet3!D605:D1036)","v":0},null,null,null,null,{"$f":"Sheet3!C605","v":0},{"$f":"Sheet3!B605","v":0},{"$f":"Sheet3!E605","v":0},{"$f":"Sheet3!F605","v":0},{"$f":"Sheet3!G605","v":0},{"$f":"Sheet3!H605","v":0},{"$f":"Sheet3!A605","v":0}]
[null,null,{"$f":"SUMIF(Sheet3!C606:C1037,B618,Sheet3!D606:D1037)","v":0},null,null,null,null,{"$f":"Sheet3!C606","v":0},{"$f":"Sheet3!B606","v":0},{"$f":"Sheet3!E606","v":0},{"$f":"Sheet3!F606","v":0},{"$f":"Sheet3!G606","v":0},{"$f":"Sheet3!H606","v":0},{"$f":"Sheet3!A606","v":0}]
[null,null,{"$f":"SUMIF(Sheet3!C607:C1038,B619,Sheet3!D607:D1038)","v":0},null,null,null,null,{"$f":"Sheet3!C607","v":0},{"$f":"Sheet3!B607","v":0},{"$f":"Sheet3!E607","v":0},{"$f":"Sheet3!F607","v":0},{"$f":"Sheet3!G607","v":0},{"$f":"Sheet3!H607","v":0},{"$f":"Sheet3!A607","v":0}]
[null,null,{"$f":"SUMIF(Sheet3!C608:C1039,B620,Sheet3!D608:D1039)","v":0},null,null,null,null,{"$f":"Sheet3!C608","v":0},{"$f":"Sheet3!B608","v":0},{"$f":"Sheet3!E608","v":0},{"$f":"Sheet3!F608","v":0},{"$f":"Sheet3!G608","v":0},{"$f":"Sheet3!H608","v":0},{"$f":"Sheet3!A608","v":0}]
[null,null,{"$f":"SUMIF(Sheet3!C609:C1040,B621,Sheet3!D609:D1040)","v":0},null,null,null,null,{"$f":"Sheet3!C609","v":0},{"$f":"Sheet3!B609","v":0},{"$f":"Sheet3!E609","v":0},{"$f":"Sheet3!F609","v":0},{"$f":"Sheet3!G609","v":0},{"$f":"Sheet3!H609","v":0},{"$f":"Sheet3!A609","v":0}]
[null,null,{"$f":"SUMIF(Sheet3!C610:C1041,B622,Sheet3!D610:D1041)","v":0},null,null,null,null,{"$f":"Sheet3!C610","v":0},{"$f":"Sheet3!B610","v":0},{"$f":"Sheet3!E610","v":0},{"$f":"Sheet3!F610","v":0},{"$f":"Sheet3!G610","v":0},{"$f":"Sheet3!H610","v":0},{"$f":"Sheet3!A610","v":0}]
[null,null,{"$f":"SUMIF(Sheet3!C611:C1042,B623,Sheet3!D611:D1042)","v":0},null,null,null,null,{"$f":"Sheet3!C611","v":0},{"$f":"Sheet3!B611","v":0},{"$f":"Sheet3!E611","v":0},{"$f":"Sheet3!F611","v":0},{"$f":"Sheet3!G611","v":0},{"$f":"Sheet3!H611","v":0},{"$f":"Sheet3!A611","v":0}]
[null,null,{"$f":"SUMIF(Sheet3!C612:C1043,B624,Sheet3!D612:D1043)","v":0},null,null,null,null,{"$f":"Sheet3!C612","v":0},{"$f":"Sheet3!B612","v":0},{"$f":"Sheet3!E612","v":0},{"$f":"Sheet3!F612","v":0},{"$f":"Sheet3!G612","v":0},{"$f":"Sheet3!H612","v":0},{"$f":"Sheet3!A612","v":0}]
[null,null,{"$f":"SUMIF(Sheet3!C613:C1044,B625,Sheet3!D613:D1044)","v":0},null,null,null,null,{"$f":"Sheet3!C613","v":0},{"$f":"Sheet3!B613","v":0},{"$f":"Sheet3!E613","v":0},{"$f":"Sheet3!F613","v":0},{"$f":"Sheet3!G613","v":0},{"$f":"Sheet3!H613","v":0},{"$f":"Sheet3!A613","v":0}]
[null,null,{"$f":"SUMIF(Sheet3!C614:C1045,B626,Sheet3!D614:D1045)","v":0},null,null,null,null,{"$f":"Sheet3!C614","v":0},{"$f":"Sheet3!B614","v":0},{"$f":"Sheet3!E614","v":0},{"$f":"Sheet3!F614","v":0},{"$f":"Sheet3!G614","v":0},{"$f":"Sheet3!H614","v":0},{"$f":"Sheet3!A614","v":0}]
[null,null,{"$f":"SUMIF(Sheet3!C615:C1046,B627,Sheet3!D615:D1046)","v":0},null,null,null,null,{"$f":"Sheet3!C615","v":0},{"$f":"Sheet3!B615","v":0},{"$f":"Sheet3!E615","v":0},{"$f":"Sheet3!F615","v":0},{"$f":"Sheet3!G615","v":0},{"$f":"Sheet3!H615","v":0},{"$f":"Sheet3!A615","v":0}]
[null,null,{"$f":"SUMIF(Sheet3!C616:C1047,B628,Sheet3!D616:D1047)","v":0},null,null,null,null,{"$f":"Sheet3!C616","v":0},{"$f":"Sheet3!B616","v":0},{"$f":"Sheet3!E616","v":0},{"$f":"Sheet3!F616","v":0},{"$f":"Sheet3!G616","v":0},{"$f":"Sheet3!H616","v":0},{"$f":"Sheet3!A616","v":0}]
[null,null,{"$f":"SUMIF(Sheet3!C617:C1048,B629,Sheet3!D617:D1048)","v":0},null,null,null,null,{"$f":"Sheet3!C617","v":0},{"$f":"Sheet3!B617","v":0},{"$f":"Sheet3!E617","v":0},{"$f":"Sheet3!F617","v":0},{"$f":"Sheet3!G617","v":0},{"$f":"Sheet3!H617","v":0},{"$f":"Sheet3!A617","v":0}]
[null,null,{"$f":"SUMIF(Sheet3!C618:C1049,B630,Sheet3!D618:D1049)","v":0},null,null,null,null,{"$f":"Sheet3!C618","v":0},{"$f":"Sheet3!B618","v":0},{"$f":"Sheet3!E618","v":0},{"$f":"Sheet3!F618","v":0},{"$f":"Sheet3!G618","v":0},{"$f":"Sheet3!H618","v":0},{"$f":"Sheet3!A618","v":0}]
[null,null,{"$f":"SUMIF(Sheet3!C619:C1050,B631,Sheet3!D619:D1050)","v":0},null,null,null,null,{"$f":"Sheet3!C619","v":0},{"$f":"Sheet3!B619","v":0},{"$f":"Sheet3!E619","v":0},{"$f":"Sheet3!F619","v":0},{"$f":"Sheet3!G619","v":0},{"$f":"Sheet3!H619","v":0},{"$f":"Sheet3!A619","v":0}]
[null,null,{"$f":"SUMIF(Sheet3!C620:C1051,B632,Sheet3!D620:D1051)","v":0},null,null,null,null,{"$f":"Sheet3!C620","v":0},{"$f":"Sheet3!B620","v":0},{"$f":"Sheet3!E620","v":0},{"$f":"Sheet3!F620","v":0},{"$f":"Sheet3!G620","v":0},{"$f":"Sheet3!H620","v":0},{"$f":"Sheet3!A620","v":0}]
[null,null,{"$f":"SUMIF(Sheet3!C621:C1052,B633,Sheet3!D621:D1052)","v":0},null,null,null,null,{"$f":"Sheet3!C621","v":0},{"$f":"Sheet3!B621","v":0},{"$f":"Sheet3!E621","v":0},{"$f":"Sheet3!F621","v":0},{"$f":"Sheet3!G621","v":0},{"$f":"Sheet3!H621","v":0},{"$f":"Sheet3!A621","v":0}]
[null,null,{"$f":"SUMIF(Sheet3!C622:C1053,B634,Sheet3!D622:D1053)","v":0},null,null,null,null,{"$f":"Sheet3!C622","v":0},{"$f":"Sheet3!B622","v":0},{"$f":"Sheet3!E622","v":0},{"$f":"Sheet3!F622","v":0},{"$f":"Sheet3!G622","v":0},{"$f":"Sheet3!H622","v":0},{"$f":"Sheet3!A622","v":0}]
[null,null,{"$f":"SUMIF(Sheet3!C623:C1054,B635,Sheet3!D623:D1054)","v":0},null,null,null,null,{"$f":"Sheet3!C623","v":0},{"$f":"Sheet3!B623","v":0},{"$f":"Sheet3!E623","v":0},{"$f":"Sheet3!F623","v":0},{"$f":"Sheet3!G623","v":0},{"$f":"Sheet3!H623","v":0},{"$f":"Sheet3!A623","v":0}]
[null,null,{"$f":"SUMIF(Sheet3!C624:C1055,B636,Sheet3!D624:D1055)","v":0},null,null,null,null,{"$f":"Sheet3!C624","v":0},{"$f":"Sheet3!B624","v":0},{"$f":"Sheet3!E624","v":0},{"$f":"Sheet3!F624","v":0},{"$f":"Sheet3!G624","v":0},{"$f":"Sheet3!H624","v":0},{"$f":"Sheet3!A624","v":0}]
[null,null,{"$f":"SUMIF(Sheet3!C625:C1056,B637,Sheet3!D625:D1056)","v":0},null,null,null,null,{"$f":"Sheet3!C625","v":0},{"$f":"Sheet3!B625","v":0},{"$f":"Sheet3!E625","v":0},{"$f":"Sheet3!F625","v":0},{"$f":"Sheet3!G625","v":0},{"$f":"Sheet3!H625","v":0},{"$f":"Sheet3!A625","v":0}]
[null,null,{"$f":"SUMIF(Sheet3!C626:C1057,B638,Sheet3!D626:D1057)","v":0},null,null,null,null,{"$f":"Sheet3!C626","v":0},{"$f":"Sheet3!B626","v":0},{"$f":"Sheet3!E626","v":0},{"$f":"Sheet3!F626","v":0},{"$f":"Sheet3!G626","v":0},{"$f":"Sheet3!H626","v":0},{"$f":"Sheet3!A626","v":0}]
[null,null,{"$f":"SUMIF(Sheet3!C627:C1058,B639,Sheet3!D627:D1058)","v":0},null,null,null,null,{"$f":"Sheet3!C627","v":0},{"$f":"Sheet3!B627","v":0},{"$f":"Sheet3!E627","v":0},{"$f":"Sheet3!F627","v":0},{"$f":"Sheet3!G627","v":0},{"$f":"Sheet3!H627","v":0},{"$f":"Sheet3!A627","v":0}]
[null,null,{"$f":"SUMIF(Sheet3!C628:C1059,B640,Sheet3!D628:D1059)","v":0},null,null,null,null,{"$f":"Sheet3!C628","v":0},{"$f":"Sheet3!B628","v":0},{"$f":"Sheet3!E628","v":0},{"$f":"Sheet3!F628","v":0},{"$f":"Sheet3!G628","v":0},{"$f":"Sheet3!H628","v":0},{"$f":"Sheet3!A628","v":0}]
[null,null,{"$f":"SUMIF(Sheet3!C629:C1060,B641,Sheet3!D629:D1060)","v":0},null,null,null,null,{"$f":"Sheet3!C629","v":0},{"$f":"Sheet3!B629","v":0},{"$f":"Sheet3!E629","v":0},{"$f":"Sheet3!F629","v":0},{"$f":"Sheet3!G629","v":0},{"$f":"Sheet3!H629","v":0},{"$f":"Sheet3!A629","v":0}]
[null,null,{"$f":"SUMIF(Sheet3!C630:C1061,B642,Sheet3!D630:D1061)","v":0},null,null,null,null,{"$f":"Sheet3!C630","v":0},{"$f":"Sheet3!B630","v":0},{"$f":"Sheet3!E630","v":0},{"$f":"Sheet3!F630","v":0},{"$f":"Sheet3!G630","v":0},{"$f":"Sheet3!H630","v":0},{"$f":"Sheet3!A630","v":0}]
[null,null,{"$f":"SUMIF(Sheet3!C631:C1062,B643,Sheet3!D631:D1062)","v":0},null,null,null,null,{"$f":"Sheet3!C631","v":0},{"$f":"Sheet3!B631","v":0},{"$f":"Sheet3!E631","v":0},{"$f":"Sheet3!F631","v":0},{"$f":"Sheet3!G631","v":0},{"$f":"Sheet3!H631","v":0},{"$f":"Sheet3!A631","v":0}]
[null,null,{"$f":"SUMIF(Sheet3!C632:C1063,B644,Sheet3!D632:D1063)","v":0},null,null,null,null,{"$f":"Sheet3!C632","v":0},{"$f":"Sheet3!B632","v":0},{"$f":"Sheet3!E632","v":0},{"$f":"Sheet3!F632","v":0},{"$f":"Sheet3!G632","v":0},{"$f":"Sheet3!H632","v":0},{"$f":"Sheet3!A632","v":0}]
[null,null,{"$f":"SUMIF(Sheet3!C633:C1064,B645,Sheet3!D633:D1064)","v":0},null,null,null,null,{"$f":"Sheet3!C633","v":0},{"$f":"Sheet3!B633","v":0},{"$f":"Sheet3!E633","v":0},{"$f":"Sheet3!F633","v":0},{"$f":"Sheet3!G633","v":0},{"$f":"Sheet3!H633","v":0},{"$f":"Sheet3!A633","v":0}]
[null,null,{"$f":"SUMIF(Sheet3!C634:C1065,B646,Sheet3!D634:D1065)","v":0},null,null,null,null,{"$f":"Sheet3!C634","v":0},{"$f":"Sheet3!B634","v":0},{"$f":"Sheet3!E634","v":0},{"$f":"Sheet3!F634","v":0},{"$f":"Sheet3!G634","v":0},{"$f":"Sheet3!H634","v":0},{"$f":"Sheet3!A634","v":0}]
[null,null,{"$f":"SUMIF(Sheet3!C635:C1066,B647,Sheet3!D635:D1066)","v":0},null,null,null,null,{"$f":"Sheet3!C635","v":0},{"$f":"Sheet3!B635","v":0},{"$f":"Sheet3!E635","v":0},{"$f":"Sheet3!F635","v":0},{"$f":"Sheet3!G635","v":0},{"$f":"Sheet3!H635","v":0},{"$f":"Sheet3!A635","v":0}]
[null,null,{"$f":"SUMIF(Sheet3!C636:C1067,B648,Sheet3!D636:D1067)","v":0},null,null,null,null,{"$f":"Sheet3!C636","v":0},{"$f":"Sheet3!B636","v":0},{"$f":"Sheet3!E636","v":0},{"$f":"Sheet3!F636","v":0},{"$f":"Sheet3!G636","v":0},{"$f":"Sheet3!H636","v":0},{"$f":"Sheet3!A636","v":0}]
[null,null,{"$f":"SUMIF(Sheet3!C637:C1068,B649,Sheet3!D637:D1068)","v":0},null,null,null,null,{"$f":"Sheet3!C637","v":0},{"$f":"Sheet3!B637","v":0},{"$f":"Sheet3!E637","v":0},{"$f":"Sheet3!F637","v":0},{"$f":"Sheet3!G637","v":0},{"$f":"Sheet3!H637","v":0},{"$f":"Sheet3!A637","v":0}]
[null,null,{"$f":"SUMIF(Sheet3!C638:C1069,B650,Sheet3!D638:D1069)","v":0},null,null,null,null,{"$f":"Sheet3!C638","v":0},{"$f":"Sheet3!B638","v":0},{"$f":"Sheet3!E638","v":0},{"$f":"Sheet3!F638","v":0},{"$f":"Sheet3!G638","v":0},{"$f":"Sheet3!H638","v":0},{"$f":"Sheet3!A638","v":0}]
[null,null,{"$f":"SUMIF(Sheet3!C639:C1070,B651,Sheet3!D639:D1070)","v":0},null,null,null,null,{"$f":"Sheet3!C639","v":0},{"$f":"Sheet3!B639","v":0},{"$f":"Sheet3!E639","v":0},{"$f":"Sheet3!F639","v":0},{"$f":"Sheet3!G639","v":0},{"$f":"Sheet3!H639","v":0},{"$f":"Sheet3!A639","v":0}]
[null,null,{"$f":"SUMIF(Sheet3!C640:C1071,B652,Sheet3!D640:D1071)","v":0},null,null,null,null,{"$f":"Sheet3!C640","v":0},{"$f":"Sheet3!B640","v":0},{"$f":"Sheet3!E640","v":0},{"$f":"Sheet3!F640","v":0},{"$f":"Sheet3!G640","v":0},{"$f":"Sheet3!H640","v":0},{"$f":"Sheet3!A640","v":0}]
[null,null,{"$f":"SUMIF(Sheet3!C641:C1072,B653,Sheet3!D641:D1072)","v":0},null,null,null,null,{"$f":"Sheet3!C641","v":0},{"$f":"Sheet3!B641","v":0},{"$f":"Sheet3!E641","v":0},{"$f":"Sheet3!F641","v":0},{"$f":"Sheet3!G641","v":0},{"$f":"Sheet3!H641","v":0},{"$f":"Sheet3!A641","v":0}]
[null,null,{"$f":"SUMIF(Sheet3!C642:C1073,B654,Sheet3!D642:D1073)","v":0},null,null,null,null,{"$f":"Sheet3!C642","v":0},{"$f":"Sheet3!B642","v":0},{"$f":"Sheet3!E642","v":0},{"$f":"Sheet3!F642","v":0},{"$f":"Sheet3!G642","v":0},{"$f":"Sheet3!H642","v":0},{"$f":"Sheet3!A642","v":0}]
[null,null,{"$f":"SUMIF(Sheet3!C643:C1074,B655,Sheet3!D643:D1074)","v":0},null,null,null,null,{"$f":"Sheet3!C643","v":0},{"$f":"Sheet3!B643","v":0},{"$f":"Sheet3!E643","v":0},{"$f":"Sheet3!F643","v":0},{"$f":"Sheet3!G643","v":0},{"$f":"Sheet3!H643","v":0},{"$f":"Sheet3!A643","v":0}]
[null,null,{"$f":"SUMIF(Sheet3!C644:C1075,B656,Sheet3!D644:D1075)","v":0},null,null,null,null,{"$f":"Sheet3!C644","v":0},{"$f":"Sheet3!B644","v":0},{"$f":"Sheet3!E644","v":0},{"$f":"Sheet3!F644","v":0},{"$f":"Sheet3!G644","v":0},{"$f":"Sheet3!H644","v":0},{"$f":"Sheet3!A644","v":0}]
[null,null,{"$f":"SUMIF(Sheet3!C645:C1076,B657,Sheet3!D645:D1076)","v":0},null,null,null,null,{"$f":"Sheet3!C645","v":0},{"$f":"Sheet3!B645","v":0},{"$f":"Sheet3!E645","v":0},{"$f":"Sheet3!F645","v":0},{"$f":"Sheet3!G645","v":0},{"$f":"Sheet3!H645","v":0},{"$f":"Sheet3!A645","v":0}]
[null,null,{"$f":"SUMIF(Sheet3!C646:C1077,B658,Sheet3!D646:D1077)","v":0},null,null,null,null,{"$f":"Sheet3!C646","v":0},{"$f":"Sheet3!B646","v":0},{"$f":"Sheet3!E646","v":0},{"$f":"Sheet3!F646","v":0},{"$f":"Sheet3!G646","v":0},{"$f":"Sheet3!H646","v":0},{"$f":"Sheet3!A646","v":0}]
[null,null,{"$f":"SUMIF(Sheet3!C647:C1078,B659,Sheet3!D647:D1078)","v":0},null,null,null,null,{"$f":"Sheet3!C647","v":0},{"$f":"Sheet3!B647","v":0},{"$f":"Sheet3!E647","v":0},{"$f":"Sheet3!F647","v":0},{"$f":"Sheet3!G647","v":0},{"$f":"Sheet3!H647","v":0},{"$f":"Sheet3!A647","v":0}]
[null,null,{"$f":"SUMIF(Sheet3!C648:C1079,B660,Sheet3!D648:D1079)","v":0},null,null,null,null,{"$f":"Sheet3!C648","v":0},{"$f":"Sheet3!B648","v":0},{"$f":"Sheet3!E648","v":0},{"$f":"Sheet3!F648","v":0},{"$f":"Sheet3!G648","v":0},{"$f":"Sheet3!H648","v":0},{"$f":"Sheet3!A648","v":0}]
[null,null,{"$f":"SUMIF(Sheet3!C649:C1080,B661,Sheet3!D649:D1080)","v":0},null,null,null,null,{"$f":"Sheet3!C649","v":0},{"$f":"Sheet3!B649","v":0},{"$f":"Sheet3!E649","v":0},{"$f":"Sheet3!F649","v":0},{"$f":"Sheet3!G649","v":0},{"$f":"Sheet3!H649","v":0},{"$f":"Sheet3!A649","v":0}]
[null,null,{"$f":"SUMIF(Sheet3!C650:C1081,B662,Sheet3!D650:D1081)","v":0},null,null,null,null,{"$f":"Sheet3!C650","v":0},{"$f":"Sheet3!B650","v":0},{"$f":"Sheet3!E650","v":0},{"$f":"Sheet3!F650","v":0},{"$f":"Sheet3!G650","v":0},{"$f":"Sheet3!H650","v":0},{"$f":"Sheet3!A650","v":0}]
[null,null,{"$f":"SUMIF(Sheet3!C651:C1082,B663,Sheet3!D651:D1082)","v":0},null,null,null,null,{"$f":"Sheet3!C651","v":0},{"$f":"Sheet3!B651","v":0},{"$f":"Sheet3!E651","v":0},{"$f":"Sheet3!F651","v":0},{"$f":"Sheet3!G651","v":0},{"$f":"Sheet3!H651","v":0},{"$f":"Sheet3!A651","v":0}]
[null,null,{"$f":"SUMIF(Sheet3!C652:C1083,B664,Sheet3!D652:D1083)","v":0},null,null,null,null,{"$f":"Sheet3!C652","v":0},{"$f":"Sheet3!B652","v":0},{"$f":"Sheet3!E652","v":0},{"$f":"Sheet3!F652","v":0},{"$f":"Sheet3!G652","v":0},{"$f":"Sheet3!H652","v":0},{"$f":"Sheet3!A652","v":0}]
[null,null,{"$f":"SUMIF(Sheet3!C653:C1084,B665,Sheet3!D653:D1084)","v":0},null,null,null,null,{"$f":"Sheet3!C653","v":0},{"$f":"Sheet3!B653","v":0},{"$f":"Sheet3!E653","v":0},{"$f":"Sheet3!F653","v":0},{"$f":"Sheet3!G653","v":0},{"$f":"Sheet3!H653","v":0},{"$f":"Sheet3!A653","v":0}]
[null,null,{"$f":"SUMIF(Sheet3!C654:C1085,B666,Sheet3!D654:D1085)","v":0},null,null,null,null,{"$f":"Sheet3!C654","v":0},{"$f":"Sheet3!B654","v":0},{"$f":"Sheet3!E654","v":0},{"$f":"Sheet3!F654","v":0},{"$f":"Sheet3!G654","v":0},{"$f":"Sheet3!H654","v":0},{"$f":"Sheet3!A654","v":0}]
[null,null,{"$f":"SUMIF(Sheet3!C655:C1086,B667,Sheet3!D655:D1086)","v":0},null,null,null,null,{"$f":"Sheet3!C655","v":0},{"$f":"Sheet3!B655","v":0},{"$f":"Sheet3!E655","v":0},{"$f":"Sheet3!F655","v":0},{"$f":"Sheet3!G655","v":0},{"$f":"Sheet3!H655","v":0},{"$f":"Sheet3!A655","v":0}]
[null,null,{"$f":"SUMIF(Sheet3!C656:C1087,B668,Sheet3!D656:D1087)","v":0},null,null,null,null,{"$f":"Sheet3!C656","v":0},{"$f":"Sheet3!B656","v":0},{"$f":"Sheet3!E656","v":0},{"$f":"Sheet3!F656","v":0},{"$f":"Sheet3!G656","v":0},{"$f":"Sheet3!H656","v":0},{"$f":"Sheet3!A656","v":0}]
[null,null,{"$f":"SUMIF(Sheet3!C657:C1088,B669,Sheet3!D657:D1088)","v":0},null,null,null,null,{"$f":"Sheet3!C657","v":0},{"$f":"Sheet3!B657","v":0},{"$f":"Sheet3!E657","v":0},{"$f":"Sheet3!F657","v":0},{"$f":"Sheet3!G657","v":0},{"$f":"Sheet3!H657","v":0},{"$f":"Sheet3!A657","v":0}]
[null,null,{"$f":"SUMIF(Sheet3!C658:C1089,B670,Sheet3!D658:D1089)","v":0},null,null,null,null,{"$f":"Sheet3!C658","v":0},{"$f":"Sheet3!B658","v":0},{"$f":"Sheet3!E658","v":0},{"$f":"Sheet3!F658","v":0},{"$f":"Sheet3!G658","v":0},{"$f":"Sheet3!H658","v":0},{"$f":"Sheet3!A658","v":0}]
[null,null,{"$f":"SUMIF(Sheet3!C659:C1090,B671,Sheet3!D659:D1090)","v":0},null,null,null,null,{"$f":"Sheet3!C659","v":0},{"$f":"Sheet3!B659","v":0},{"$f":"Sheet3!E659","v":0},{"$f":"Sheet3!F659","v":0},{"$f":"Sheet3!G659","v":0},{"$f":"Sheet3!H659","v":0},{"$f":"Sheet3!A659","v":0}]
[null,null,{"$f":"SUMIF(Sheet3!C660:C1091,B672,Sheet3!D660:D1091)","v":0},null,null,null,null,{"$f":"Sheet3!C660","v":0},{"$f":"Sheet3!B660","v":0},{"$f":"Sheet3!E660","v":0},{"$f":"Sheet3!F660","v":0},{"$f":"Sheet3!G660","v":0},{"$f":"Sheet3!H660","v":0},{"$f":"Sheet3!A660","v":0}]
[null,null,{"$f":"SUMIF(Sheet3!C661:C1092,B673,Sheet3!D661:D1092)","v":0},null,null,null,null,{"$f":"Sheet3!C661","v":0},{"$f":"Sheet3!B661","v":0},{"$f":"Sheet3!E661","v":0},{"$f":"Sheet3!F661","v":0},{"$f":"Sheet3!G661","v":0},{"$f":"Sheet3!H661","v":0},{"$f":"Sheet3!A661","v":0}]
[null,null,{"$f":"SUMIF(Sheet3!C662:C1093,B674,Sheet3!D662:D1093)","v":0},null,null,null,null,{"$f":"Sheet3!C662","v":0},{"$f":"Sheet3!B662","v":0},{"$f":"Sheet3!E662","v":0},{"$f":"Sheet3!F662","v":0},{"$f":"Sheet3!G662","v":0},{"$f":"Sheet3!H662","v":0},{"$f":"Sheet3!A662","v":0}]
[null,null,{"$f":"SUMIF(Sheet3!C663:C1094,B675,Sheet3!D663:D1094)","v":0},null,null,null,null,{"$f":"Sheet3!C663","v":0},{"$f":"Sheet3!B663","v":0},{"$f":"Sheet3!E663","v":0},{"$f":"Sheet3!F663","v":0},{"$f":"Sheet3!G663","v":0},{"$f":"Sheet3!H663","v":0},{"$f":"Sheet3!A663","v":0}]
[null,null,{"$f":"SUMIF(Sheet3!C664:C1095,B676,Sheet3!D664:D1095)","v":0},null,null,null,null,{"$f":"Sheet3!C664","v":0},{"$f":"Sheet3!B664","v":0},{"$f":"Sheet3!E664","v":0},{"$f":"Sheet3!F664","v":0},{"$f":"Sheet3!G664","v":0},{"$f":"Sheet3!H664","v":0},{"$f":"Sheet3!A664","v":0}]
[null,null,{"$f":"SUMIF(Sheet3!C665:C1096,B677,Sheet3!D665:D1096)","v":0},null,null,null,null,{"$f":"Sheet3!C665","v":0},{"$f":"Sheet3!B665","v":0},{"$f":"Sheet3!E665","v":0},{"$f":"Sheet3!F665","v":0},{"$f":"Sheet3!G665","v":0},{"$f":"Sheet3!H665","v":0},{"$f":"Sheet3!A665","v":0}]
[null,null,{"$f":"SUMIF(Sheet3!C666:C1097,B678,Sheet3!D666:D1097)","v":0},null,null,null,null,{"$f":"Sheet3!C666","v":0},{"$f":"Sheet3!B666","v":0},{"$f":"Sheet3!E666","v":0},{"$f":"Sheet3!F666","v":0},{"$f":"Sheet3!G666","v":0},{"$f":"Sheet3!H666","v":0},{"$f":"Sheet3!A666","v":0}]
[null,null,{"$f":"SUMIF(Sheet3!C667:C1098,B679,Sheet3!D667:D1098)","v":0},null,null,null,null,{"$f":"Sheet3!C667","v":0},{"$f":"Sheet3!B667","v":0},{"$f":"Sheet3!E667","v":0},{"$f":"Sheet3!F667","v":0},{"$f":"Sheet3!G667","v":0},{"$f":"Sheet3!H667","v":0},{"$f":"Sheet3!A667","v":0}]
[null,null,{"$f":"SUMIF(Sheet3!C668:C1099,B680,Sheet3!D668:D1099)","v":0},null,null,null,null,{"$f":"Sheet3!C668","v":0},{"$f":"Sheet3!B668","v":0},{"$f":"Sheet3!E668","v":0},{"$f":"Sheet3!F668","v":0},{"$f":"Sheet3!G668","v":0},{"$f":"Sheet3!H668","v":0},{"$f":"Sheet3!A668","v":0}]
[null,null,{"$f":"SUMIF(Sheet3!C669:C1100,B681,Sheet3!D669:D1100)","v":0},null,null,null,null,{"$f":"Sheet3!C669","v":0},{"$f":"Sheet3!B669","v":0},{"$f":"Sheet3!E669","v":0},{"$f":"Sheet3!F669","v":0},{"$f":"Sheet3!G669","v":0},{"$f":"Sheet3!H669","v":0},{"$f":"Sheet3!A669","v":0}]
[null,null,{"$f":"SUMIF(Sheet3!C670:C1101,B682,Sheet3!D670:D1101)","v":0},null,null,null,null,{"$f":"Sheet3!C670","v":0},{"$f":"Sheet3!B670","v":0},{"$f":"Sheet3!E670","v":0},{"$f":"Sheet3!F670","v":0},{"$f":"Sheet3!G670","v":0},{"$f":"Sheet3!H670","v":0},{"$f":"Sheet3!A670","v":0}]
[null,null,{"$f":"SUMIF(Sheet3!C671:C1102,B683,Sheet3!D671:D1102)","v":0},null,null,null,null,{"$f":"Sheet3!C671","v":0},{"$f":"Sheet3!B671","v":0},{"$f":"Sheet3!E671","v":0},{"$f":"Sheet3!F671","v":0},{"$f":"Sheet3!G671","v":0},{"$f":"Sheet3!H671","v":0},{"$f":"Sheet3!A671","v":0}]
[null,null,{"$f":"SUMIF(Sheet3!C672:C1103,B684,Sheet3!D672:D1103)","v":0},null,null,null,null,{"$f":"Sheet3!C672","v":0},{"$f":"Sheet3!B672","v":0},{"$f":"Sheet3!E672","v":0},{"$f":"Sheet3!F672","v":0},{"$f":"Sheet3!G672","v":0},{"$f":"Sheet3!H672","v":0},{"$f":"Sheet3!A672","v":0}]
[null,null,{"$f":"SUMIF(Sheet3!C673:C1104,B685,Sheet3!D673:D1104)","v":0},null,null,null,null,{"$f":"Sheet3!C673","v":0},{"$f":"Sheet3!B673","v":0},{"$f":"Sheet3!E673","v":0},{"$f":"Sheet3!F673","v":0},{"$f":"Sheet3!G673","v":0},{"$f":"Sheet3!H673","v":0},{"$f":"Sheet3!A673","v":0}]
[null,null,{"$f":"SUMIF(Sheet3!C674:C1105,B686,Sheet3!D674:D1105)","v":0},null,null,null,null,{"$f":"Sheet3!C674","v":0},{"$f":"Sheet3!B674","v":0},{"$f":"Sheet3!E674","v":0},{"$f":"Sheet3!F674","v":0},{"$f":"Sheet3!G674","v":0},{"$f":"Sheet3!H674","v":0},{"$f":"Sheet3!A674","v":0}]
[null,null,{"$f":"SUMIF(Sheet3!C675:C1106,B687,Sheet3!D675:D1106)","v":0},null,null,null,null,{"$f":"Sheet3!C675","v":0},{"$f":"Sheet3!B675","v":0},{"$f":"Sheet3!E675","v":0},{"$f":"Sheet3!F675","v":0},{"$f":"Sheet3!G675","v":0},{"$f":"Sheet3!H675","v":0},{"$f":"Sheet3!A675","v":0}]
[null,null,{"$f":"SUMIF(Sheet3!C676:C1107,B688,Sheet3!D676:D1107)","v":0},null,null,null,null,{"$f":"Sheet3!C676","v":0},{"$f":"Sheet3!B676","v":0},{"$f":"Sheet3!E676","v":0},{"$f":"Sheet3!F676","v":0},{"$f":"Sheet3!G676","v":0},{"$f":"Sheet3!H676","v":0},{"$f":"Sheet3!A676","v":0}]
[null,null,{"$f":"SUMIF(Sheet3!C677:C1108,B689,Sheet3!D677:D1108)","v":0},null,null,null,null,{"$f":"Sheet3!C677","v":0},{"$f":"Sheet3!B677","v":0},{"$f":"Sheet3!E677","v":0},{"$f":"Sheet3!F677","v":0},{"$f":"Sheet3!G677","v":0},{"$f":"Sheet3!H677","v":0},{"$f":"Sheet3!A677","v":0}]
[null,null,{"$f":"SUMIF(Sheet3!C678:C1109,B690,Sheet3!D678:D1109)","v":0},null,null,null,null,{"$f":"Sheet3!C678","v":0},{"$f":"Sheet3!B678","v":0},{"$f":"Sheet3!E678","v":0},{"$f":"Sheet3!F678","v":0},{"$f":"Sheet3!G678","v":0},{"$f":"Sheet3!H678","v":0},{"$f":"Sheet3!A678","v":0}]
[null,null,{"$f":"SUMIF(Sheet3!C679:C1110,B691,Sheet3!D679:D1110)","v":0},null,null,null,null,{"$f":"Sheet3!C679","v":0},{"$f":"Sheet3!B679","v":0},{"$f":"Sheet3!E679","v":0},{"$f":"Sheet3!F679","v":0},{"$f":"Sheet3!G679","v":0},{"$f":"Sheet3!H679","v":0},{"$f":"Sheet3!A679","v":0}]
[null,null,{"$f":"SUMIF(Sheet3!C680:C1111,B692,Sheet3!D680:D1111)","v":0},null,null,null,null,{"$f":"Sheet3!C680","v":0},{"$f":"Sheet3!B680","v":0},{"$f":"Sheet3!E680","v":0},{"$f":"Sheet3!F680","v":0},{"$f":"Sheet3!G680","v":0},{"$f":"Sheet3!H680","v":0},{"$f":"Sheet3!A680","v":0}]
[null,null,{"$f":"SUMIF(Sheet3!C681:C1112,B693,Sheet3!D681:D1112)","v":0},null,null,null,null,{"$f":"Sheet3!C681","v":0},{"$f":"Sheet3!B681","v":0},{"$f":"Sheet3!E681","v":0},{"$f":"Sheet3!F681","v":0},{"$f":"Sheet3!G681","v":0},{"$f":"Sheet3!H681","v":0},{"$f":"Sheet3!A681","v":0}]
[null,null,{"$f":"SUMIF(Sheet3!C682:C1113,B694,Sheet3!D682:D1113)","v":0},null,null,null,null,{"$f":"Sheet3!C682","v":0},{"$f":"Sheet3!B682","v":0},{"$f":"Sheet3!E682","v":0},{"$f":"Sheet3!F682","v":0},{"$f":"Sheet3!G682","v":0},{"$f":"Sheet3!H682","v":0},{"$f":"Sheet3!A682","v":0}]
[null,null,{"$f":"SUMIF(Sheet3!C683:C1114,B695,Sheet3!D683:D1114)","v":0},null,null,null,null,{"$f":"Sheet3!C683","v":0},{"$f":"Sheet3!B683","v":0},{"$f":"Sheet3!E683","v":0},{"$f":"Sheet3!F683","v":0},{"$f":"Sheet3!G683","v":0},{"$f":"Sheet3!H683","v":0},{"$f":"Sheet3!A683","v":0}]
[null,null,{"$f":"SUMIF(Sheet3!C684:C1115,B696,Sheet3!D684:D1115)","v":0},null,null,null,null,{"$f":"Sheet3!C684","v":0},{"$f":"Sheet3!B684","v":0},{"$f":"Sheet3!E684","v":0},{"$f":"Sheet3!F684","v":0},{"$f":"Sheet3!G684","v":0},{"$f":"Sheet3!H684","v":0},{"$f":"Sheet3!A684","v":0}]
[null,null,{"$f":"SUMIF(Sheet3!C685:C1116,B697,Sheet3!D685:D1116)","v":0},null,null,null,null,{"$f":"Sheet3!C685","v":0},{"$f":"Sheet3!B685","v":0},{"$f":"Sheet3!E685","v":0},{"$f":"Sheet3!F685","v":0},{"$f":"Sheet3!G685","v":0},{"$f":"Sheet3!H685","v":0},{"$f":"Sheet3!A685","v":0}]
[null,null,{"$f":"SUMIF(Sheet3!C686:C1117,B698,Sheet3!D686:D1117)","v":0},null,null,null,null,{"$f":"Sheet3!C686","v":0},{"$f":"Sheet3!B686","v":0},{"$f":"Sheet3!E686","v":0},{"$f":"Sheet3!F686","v":0},{"$f":"Sheet3!G686","v":0},{"$f":"Sheet3!H686","v":0},{"$f":"Sheet3!A686","v":0}]
[null,null,{"$f":"SUMIF(Sheet3!C687:C1118,B699,Sheet3!D687:D1118)","v":0},null,null,null,null,{"$f":"Sheet3!C687","v":0},{"$f":"Sheet3!B687","v":0},{"$f":"Sheet3!E687","v":0},{"$f":"Sheet3!F687","v":0},{"$f":"Sheet3!G687","v":0},{"$f":"Sheet3!H687","v":0},{"$f":"Sheet3!A687","v":0}]
[null,null,{"$f":"SUMIF(Sheet3!C688:C1119,B700,Sheet3!D688:D1119)","v":0},null,null,null,null,{"$f":"Sheet3!C688","v":0},{"$f":"Sheet3!B688","v":0},{"$f":"Sheet3!E688","v":0},{"$f":"Sheet3!F688","v":0},{"$f":"Sheet3!G688","v":0},{"$f":"Sheet3!H688","v":0},{"$f":"Sheet3!A688","v":0}]
[null,null,{"$f":"SUMIF(Sheet3!C689:C1120,B701,Sheet3!D689:D1120)","v":0},null,null,null,null,{"$f":"Sheet3!C689","v":0},{"$f":"Sheet3!B689","v":0},{"$f":"Sheet3!E689","v":0},{"$f":"Sheet3!F689","v":0},{"$f":"Sheet3!G689","v":0},{"$f":"Sheet3!H689","v":0},{"$f":"Sheet3!A689","v":0}]
[null,null,{"$f":"SUMIF(Sheet3!C690:C1121,B702,Sheet3!D690:D1121)","v":0},null,null,null,null,{"$f":"Sheet3!C690","v":0},{"$f":"Sheet3!B690","v":0},{"$f":"Sheet3!E690","v":0},{"$f":"Sheet3!F690","v":0},{"$f":"Sheet3!G690","v":0},{"$f":"Sheet3!H690","v":0},{"$f":"Sheet3!A690","v":0}]
[null,null,{"$f":"SUMIF(Sheet3!C691:C1122,B703,Sheet3!D691:D1122)","v":0},null,null,null,null,{"$f":"Sheet3!C691","v":0},{"$f":"Sheet3!B691","v":0},{"$f":"Sheet3!E691","v":0},{"$f":"Sheet3!F691","v":0},{"$f":"Sheet3!G691","v":0},{"$f":"Sheet3!H691","v":0},{"$f":"Sheet3!A691","v":0}]
[null,null,{"$f":"SUMIF(Sheet3!C692:C1123,B704,Sheet3!D692:D1123)","v":0},null,null,null,null,{"$f":"Sheet3!C692","v":0},{"$f":"Sheet3!B692","v":0},{"$f":"Sheet3!E692","v":0},{"$f":"Sheet3!F692","v":0},{"$f":"Sheet3!G692","v":0},{"$f":"Sheet3!H692","v":0},{"$f":"Sheet3!A692","v":0}]
[null,null,{"$f":"SUMIF(Sheet3!C693:C1124,B705,Sheet3!D693:D1124)","v":0},null,null,null,null,{"$f":"Sheet3!C693","v":0},{"$f":"Sheet3!B693","v":0},{"$f":"Sheet3!E693","v":0},{"$f":"Sheet3!F693","v":0},{"$f":"Sheet3!G693","v":0},{"$f":"Sheet3!H693","v":0},{"$f":"Sheet3!A693","v":0}]
[null,null,{"$f":"SUMIF(Sheet3!C694:C1125,B706,Sheet3!D694:D1125)","v":0},null,null,null,null,{"$f":"Sheet3!C694","v":0},{"$f":"Sheet3!B694","v":0},{"$f":"Sheet3!E694","v":0},{"$f":"Sheet3!F694","v":0},{"$f":"Sheet3!G694","v":0},{"$f":"Sheet3!H694","v":0},{"$f":"Sheet3!A694","v":0}]
[null,null,{"$f":"SUMIF(Sheet3!C695:C1126,B707,Sheet3!D695:D1126)","v":0},null,null,null,null,{"$f":"Sheet3!C695","v":0},{"$f":"Sheet3!B695","v":0},{"$f":"Sheet3!E695","v":0},{"$f":"Sheet3!F695","v":0},{"$f":"Sheet3!G695","v":0},{"$f":"Sheet3!H695","v":0},{"$f":"Sheet3!A695","v":0}]
[null,null,{"$f":"SUMIF(Sheet3!C696:C1127,B708,Sheet3!D696:D1127)","v":0},null,null,null,null,{"$f":"Sheet3!C696","v":0},{"$f":"Sheet3!B696","v":0},{"$f":"Sheet3!E696","v":0},{"$f":"Sheet3!F696","v":0},{"$f":"Sheet3!G696","v":0},{"$f":"Sheet3!H696","v":0},{"$f":"Sheet3!A696","v":0}]
[null,null,{"$f":"SUMIF(Sheet3!C697:C1128,B709,Sheet3!D697:D1128)","v":0},null,null,null,null,{"$f":"Sheet3!C697","v":0},{"$f":"Sheet3!B697","v":0},{"$f":"Sheet3!E697","v":0},{"$f":"Sheet3!F697","v":0},{"$f":"Sheet3!G697","v":0},{"$f":"Sheet3!H697","v":0},{"$f":"Sheet3!A697","v":0}]
[null,null,{"$f":"SUMIF(Sheet3!C698:C1129,B710,Sheet3!D698:D1129)","v":0},null,null,null,null,{"$f":"Sheet3!C698","v":0},{"$f":"Sheet3!B698","v":0},{"$f":"Sheet3!E698","v":0},{"$f":"Sheet3!F698","v":0},{"$f":"Sheet3!G698","v":0},{"$f":"Sheet3!H698","v":0},{"$f":"Sheet3!A698","v":0}]
[null,null,{"$f":"SUMIF(Sheet3!C699:C1130,B711,Sheet3!D699:D1130)","v":0},null,null,null,null,{"$f":"Sheet3!C699","v":0},{"$f":"Sheet3!B699","v":0},{"$f":"Sheet3!E699","v":0},{"$f":"Sheet3!F699","v":0},{"$f":"Sheet3!G699","v":0},{"$f":"Sheet3!H699","v":0},{"$f":"Sheet3!A699","v":0}]
[null,null,{"$f":"SUMIF(Sheet3!C700:C1131,B712,Sheet3!D700:D1131)","v":0},null,null,null,null,{"$f":"Sheet3!C700","v":0},{"$f":"Sheet3!B700","v":0},{"$f":"Sheet3!E700","v":0},{"$f":"Sheet3!F700","v":0},{"$f":"Sheet3!G700","v":0},{"$f":"Sheet3!H700","v":0},{"$f":"Sheet3!A700","v":0}]
[null,null,{"$f":"SUMIF(Sheet3!C701:C1132,B713,Sheet3!D701:D1132)","v":0},null,null,null,null,{"$f":"Sheet3!C701","v":0},{"$f":"Sheet3!B701","v":0},{"$f":"Sheet3!E701","v":0},{"$f":"Sheet3!F701","v":0},{"$f":"Sheet3!G701","v":0},{"$f":"Sheet3!H701","v":0},{"$f":"Sheet3!A701","v":0}]
[null,null,{"$f":"SUMIF(Sheet3!C702:C1133,B714,Sheet3!D702:D1133)","v":0},null,null,null,null,{"$f":"Sheet3!C702","v":0},{"$f":"Sheet3!B702","v":0},{"$f":"Sheet3!E702","v":0},{"$f":"Sheet3!F702","v":0},{"$f":"Sheet3!G702","v":0},{"$f":"Sheet3!H702","v":0},{"$f":"Sheet3!A702","v":0}]
[null,null,{"$f":"SUMIF(Sheet3!C703:C1134,B715,Sheet3!D703:D1134)","v":0},null,null,null,null,{"$f":"Sheet3!C703","v":0},{"$f":"Sheet3!B703","v":0},{"$f":"Sheet3!E703","v":0},{"$f":"Sheet3!F703","v":0},{"$f":"Sheet3!G703","v":0},{"$f":"Sheet3!H703","v":0},{"$f":"Sheet3!A703","v":0}]
[null,null,{"$f":"SUMIF(Sheet3!C704:C1135,B716,Sheet3!D704:D1135)","v":0},null,null,null,null,{"$f":"Sheet3!C704","v":0},{"$f":"Sheet3!B704","v":0},{"$f":"Sheet3!E704","v":0},{"$f":"Sheet3!F704","v":0},{"$f":"Sheet3!G704","v":0},{"$f":"Sheet3!H704","v":0},{"$f":"Sheet3!A704","v":0}]
[null,null,{"$f":"SUMIF(Sheet3!C705:C1136,B717,Sheet3!D705:D1136)","v":0},null,null,null,null,{"$f":"Sheet3!C705","v":0},{"$f":"Sheet3!B705","v":0},{"$f":"Sheet3!E705","v":0},{"$f":"Sheet3!F705","v":0},{"$f":"Sheet3!G705","v":0},{"$f":"Sheet3!H705","v":0},{"$f":"Sheet3!A705","v":0}]
[null,null,{"$f":"SUMIF(Sheet3!C706:C1137,B718,Sheet3!D706:D1137)","v":0},null,null,null,null,{"$f":"Sheet3!C706","v":0},{"$f":"Sheet3!B706","v":0},{"$f":"Sheet3!E706","v":0},{"$f":"Sheet3!F706","v":0},{"$f":"Sheet3!G706","v":0},{"$f":"Sheet3!H706","v":0},{"$f":"Sheet3!A706","v":0}]
[null,null,{"$f":"SUMIF(Sheet3!C707:C1138,B719,Sheet3!D707:D1138)","v":0},null,null,null,null,{"$f":"Sheet3!C707","v":0},{"$f":"Sheet3!B707","v":0},{"$f":"Sheet3!E707","v":0},{"$f":"Sheet3!F707","v":0},{"$f":"Sheet3!G707","v":0},{"$f":"Sheet3!H707","v":0},{"$f":"Sheet3!A707","v":0}]
[null,null,{"$f":"SUMIF(Sheet3!C708:C1139,B720,Sheet3!D708:D1139)","v":0},null,null,null,null,{"$f":"Sheet3!C708","v":0},{"$f":"Sheet3!B708","v":0},{"$f":"Sheet3!E708","v":0},{"$f":"Sheet3!F708","v":0},{"$f":"Sheet3!G708","v":0},{"$f":"Sheet3!H708","v":0},{"$f":"Sheet3!A708","v":0}]
[null,null,{"$f":"SUMIF(Sheet3!C709:C1140,B721,Sheet3!D709:D1140)","v":0},null,null,null,null,{"$f":"Sheet3!C709","v":0},{"$f":"Sheet3!B709","v":0},{"$f":"Sheet3!E709","v":0},{"$f":"Sheet3!F709","v":0},{"$f":"Sheet3!G709","v":0},{"$f":"Sheet3!H709","v":0},{"$f":"Sheet3!A709","v":0}]
[null,null,{"$f":"SUMIF(Sheet3!C710:C1141,B722,Sheet3!D710:D1141)","v":0},null,null,null,null,{"$f":"Sheet3!C710","v":0},{"$f":"Sheet3!B710","v":0},{"$f":"Sheet3!E710","v":0},{"$f":"Sheet3!F710","v":0},{"$f":"Sheet3!G710","v":0},{"$f":"Sheet3!H710","v":0},{"$f":"Sheet3!A710","v":0}]
[null,null,{"$f":"SUMIF(Sheet3!C711:C1142,B723,Sheet3!D711:D1142)","v":0},null,null,null,null,{"$f":"Sheet3!C711","v":0},{"$f":"Sheet3!B711","v":0},{"$f":"Sheet3!E711","v":0},{"$f":"Sheet3!F711","v":0},{"$f":"Sheet3!G711","v":0},{"$f":"Sheet3!H711","v":0},{"$f":"Sheet3!A711","v":0}]
[null,null,{"$f":"SUMIF(Sheet3!C712:C1143,B724,Sheet3!D712:D1143)","v":0},null,null,null,null,{"$f":"Sheet3!C712","v":0},{"$f":"Sheet3!B712","v":0},{"$f":"Sheet3!E712","v":0},{"$f":"Sheet3!F712","v":0},{"$f":"Sheet3!G712","v":0},{"$f":"Sheet3!H712","v":0},{"$f":"Sheet3!A712","v":0}]
[null,null,{"$f":"SUMIF(Sheet3!C713:C1144,B725,Sheet3!D713:D1144)","v":0},null,null,null,null,{"$f":"Sheet3!C713","v":0},{"$f":"Sheet3!B713","v":0},{"$f":"Sheet3!E713","v":0},{"$f":"Sheet3!F713","v":0},{"$f":"Sheet3!G713","v":0},{"$f":"Sheet3!H713","v":0},{"$f":"Sheet3!A713","v":0}]
[null,null,{"$f":"SUMIF(Sheet3!C714:C1145,B726,Sheet3!D714:D1145)","v":0},null,null,null,null,{"$f":"Sheet3!C714","v":0},{"$f":"Sheet3!B714","v":0},{"$f":"Sheet3!E714","v":0},{"$f":"Sheet3!F714","v":0},{"$f":"Sheet3!G714","v":0},{"$f":"Sheet3!H714","v":0},{"$f":"Sheet3!A714","v":0}]
[null,null,{"$f":"SUMIF(Sheet3!C715:C1146,B727,Sheet3!D715:D1146)","v":0},null,null,null,null,{"$f":"Sheet3!C715","v":0},{"$f":"Sheet3!B715","v":0},{"$f":"Sheet3!E715","v":0},{"$f":"Sheet3!F715","v":0},{"$f":"Sheet3!G715","v":0},{"$f":"Sheet3!H715","v":0},{"$f":"Sheet3!A715","v":0}]
[null,null,{"$f":"SUMIF(Sheet3!C716:C1147,B728,Sheet3!D716:D1147)","v":0},null,null,null,null,{"$f":"Sheet3!C716","v":0},{"$f":"Sheet3!B716","v":0},{"$f":"Sheet3!E716","v":0},{"$f":"Sheet3!F716","v":0},{"$f":"Sheet3!G716","v":0},{"$f":"Sheet3!H716","v":0},{"$f":"Sheet3!A716","v":0}]
[null,null,{"$f":"SUMIF(Sheet3!C717:C1148,B729,Sheet3!D717:D1148)","v":0},null,null,null,null,{"$f":"Sheet3!C717","v":0},{"$f":"Sheet3!B717","v":0},{"$f":"Sheet3!E717","v":0},{"$f":"Sheet3!F717","v":0},{"$f":"Sheet3!G717","v":0},{"$f":"Sheet3!H717","v":0},{"$f":"Sheet3!A717","v":0}]
[null,null,{"$f":"SUMIF(Sheet3!C718:C1149,B730,Sheet3!D718:D1149)","v":0},null,null,null,null,{"$f":"Sheet3!C718","v":0},{"$f":"Sheet3!B718","v":0},{"$f":"Sheet3!E718","v":0},{"$f":"Sheet3!F718","v":0},{"$f":"Sheet3!G718","v":0},{"$f":"Sheet3!H718","v":0},{"$f":"Sheet3!A718","v":0}]
[null,null,{"$f":"SUMIF(Sheet3!C719:C1150,B731,Sheet3!D719:D1150)","v":0},null,null,null,null,{"$f":"Sheet3!C719","v":0},{"$f":"Sheet3!B719","v":0},{"$f":"Sheet3!E719","v":0},{"$f":"Sheet3!F719","v":0},{"$f":"Sheet3!G719","v":0},{"$f":"Sheet3!H719","v":0},{"$f":"Sheet3!A719","v":0}]
[null,null,{"$f":"SUMIF(Sheet3!C720:C1151,B732,Sheet3!D720:D1151)","v":0},null,null,null,null,{"$f":"Sheet3!C720","v":0},{"$f":"Sheet3!B720","v":0},{"$f":"Sheet3!E720","v":0},{"$f":"Sheet3!F720","v":0},{"$f":"Sheet3!G720","v":0},{"$f":"Sheet3!H720","v":0},{"$f":"Sheet3!A720","v":0}]
[null,null,{"$f":"SUMIF(Sheet3!C721:C1152,B733,Sheet3!D721:D1152)","v":0},null,null,null,null,{"$f":"Sheet3!C721","v":0},{"$f":"Sheet3!B721","v":0},{"$f":"Sheet3!E721","v":0},{"$f":"Sheet3!F721","v":0},{"$f":"Sheet3!G721","v":0},{"$f":"Sheet3!H721","v":0},{"$f":"Sheet3!A721","v":0}]
[null,null,{"$f":"SUMIF(Sheet3!C722:C1153,B734,Sheet3!D722:D1153)","v":0},null,null,null,null,{"$f":"Sheet3!C722","v":0},{"$f":"Sheet3!B722","v":0},{"$f":"Sheet3!E722","v":0},{"$f":"Sheet3!F722","v":0},{"$f":"Sheet3!G722","v":0},{"$f":"Sheet3!H722","v":0},{"$f":"Sheet3!A722","v":0}]
[null,null,{"$f":"SUMIF(Sheet3!C723:C1154,B735,Sheet3!D723:D1154)","v":0},null,null,null,null,{"$f":"Sheet3!C723","v":0},{"$f":"Sheet3!B723","v":0},{"$f":"Sheet3!E723","v":0},{"$f":"Sheet3!F723","v":0},{"$f":"Sheet3!G723","v":0},{"$f":"Sheet3!H723","v":0},{"$f":"Sheet3!A723","v":0}]
[null,null,{"$f":"SUMIF(Sheet3!C724:C1155,B736,Sheet3!D724:D1155)","v":0},null,null,null,null,{"$f":"Sheet3!C724","v":0},{"$f":"Sheet3!B724","v":0},{"$f":"Sheet3!E724","v":0},{"$f":"Sheet3!F724","v":0},{"$f":"Sheet3!G724","v":0},{"$f":"Sheet3!H724","v":0},{"$f":"Sheet3!A724","v":0}]
[null,null,{"$f":"SUMIF(Sheet3!C725:C1156,B737,Sheet3!D725:D1156)","v":0},null,null,null,null,{"$f":"Sheet3!C725","v":0},{"$f":"Sheet3!B725","v":0},{"$f":"Sheet3!E725","v":0},{"$f":"Sheet3!F725","v":0},{"$f":"Sheet3!G725","v":0},{"$f":"Sheet3!H725","v":0},{"$f":"Sheet3!A725","v":0}]
[null,null,{"$f":"SUMIF(Sheet3!C726:C1157,B738,Sheet3!D726:D1157)","v":0},null,null,null,null,{"$f":"Sheet3!C726","v":0},{"$f":"Sheet3!B726","v":0},{"$f":"Sheet3!E726","v":0},{"$f":"Sheet3!F726","v":0},{"$f":"Sheet3!G726","v":0},{"$f":"Sheet3!H726","v":0},{"$f":"Sheet3!A726","v":0}]
[null,null,{"$f":"SUMIF(Sheet3!C727:C1158,B739,Sheet3!D727:D1158)","v":0},null,null,null,null,{"$f":"Sheet3!C727","v":0},{"$f":"Sheet3!B727","v":0},{"$f":"Sheet3!E727","v":0},{"$f":"Sheet3!F727","v":0},{"$f":"Sheet3!G727","v":0},{"$f":"Sheet3!H727","v":0},{"$f":"Sheet3!A727","v":0}]
[null,null,{"$f":"SUMIF(Sheet3!C728:C1159,B740,Sheet3!D728:D1159)","v":0},null,null,null,null,{"$f":"Sheet3!C728","v":0},{"$f":"Sheet3!B728","v":0},{"$f":"Sheet3!E728","v":0},{"$f":"Sheet3!F728","v":0},{"$f":"Sheet3!G728","v":0},{"$f":"Sheet3!H728","v":0},{"$f":"Sheet3!A728","v":0}]
[null,null,{"$f":"SUMIF(Sheet3!C729:C1160,B741,Sheet3!D729:D1160)","v":0},null,null,null,null,{"$f":"Sheet3!C729","v":0},{"$f":"Sheet3!B729","v":0},{"$f":"Sheet3!E729","v":0},{"$f":"Sheet3!F729","v":0},{"$f":"Sheet3!G729","v":0},{"$f":"Sheet3!H729","v":0},{"$f":"Sheet3!A729","v":0}]
[null,null,{"$f":"SUMIF(Sheet3!C730:C1161,B742,Sheet3!D730:D1161)","v":0},null,null,null,null,{"$f":"Sheet3!C730","v":0},{"$f":"Sheet3!B730","v":0},{"$f":"Sheet3!E730","v":0},{"$f":"Sheet3!F730","v":0},{"$f":"Sheet3!G730","v":0},{"$f":"Sheet3!H730","v":0},{"$f":"Sheet3!A730","v":0}]
[null,null,{"$f":"SUMIF(Sheet3!C731:C1162,B743,Sheet3!D731:D1162)","v":0},null,null,null,null,{"$f":"Sheet3!C731","v":0},{"$f":"Sheet3!B731","v":0},{"$f":"Sheet3!E731","v":0},{"$f":"Sheet3!F731","v":0},{"$f":"Sheet3!G731","v":0},{"$f":"Sheet3!H731","v":0},{"$f":"Sheet3!A731","v":0}]
[null,null,{"$f":"SUMIF(Sheet3!C732:C1163,B744,Sheet3!D732:D1163)","v":0},null,null,null,null,{"$f":"Sheet3!C732","v":0},{"$f":"Sheet3!B732","v":0},{"$f":"Sheet3!E732","v":0},{"$f":"Sheet3!F732","v":0},{"$f":"Sheet3!G732","v":0},{"$f":"Sheet3!H732","v":0},{"$f":"Sheet3!A732","v":0}]
[null,null,{"$f":"SUMIF(Sheet3!C733:C1164,B745,Sheet3!D733:D1164)","v":0},null,null,null,null,{"$f":"Sheet3!C733","v":0},{"$f":"Sheet3!B733","v":0},{"$f":"Sheet3!E733","v":0},{"$f":"Sheet3!F733","v":0},{"$f":"Sheet3!G733","v":0},{"$f":"Sheet3!H733","v":0},{"$f":"Sheet3!A733","v":0}]
[null,null,{"$f":"SUMIF(Sheet3!C734:C1165,B746,Sheet3!D734:D1165)","v":0},null,null,null,null,{"$f":"Sheet3!C734","v":0},{"$f":"Sheet3!B734","v":0},{"$f":"Sheet3!E734","v":0},{"$f":"Sheet3!F734","v":0},{"$f":"Sheet3!G734","v":0},{"$f":"Sheet3!H734","v":0},{"$f":"Sheet3!A734","v":0}]
[null,null,{"$f":"SUMIF(Sheet3!C735:C1166,B747,Sheet3!D735:D1166)","v":0},null,null,null,null,{"$f":"Sheet3!C735","v":0},{"$f":"Sheet3!B735","v":0},{"$f":"Sheet3!E735","v":0},{"$f":"Sheet3!F735","v":0},{"$f":"Sheet3!G735","v":0},{"$f":"Sheet3!H735","v":0},{"$f":"Sheet3!A735","v":0}]
[null,null,{"$f":"SUMIF(Sheet3!C736:C1167,B748,Sheet3!D736:D1167)","v":0},null,null,null,null,{"$f":"Sheet3!C736","v":0},{"$f":"Sheet3!B736","v":0},{"$f":"Sheet3!E736","v":0},{"$f":"Sheet3!F736","v":0},{"$f":"Sheet3!G736","v":0},{"$f":"Sheet3!H736","v":0},{"$f":"Sheet3!A736","v":0}]
[null,null,{"$f":"SUMIF(Sheet3!C737:C1168,B749,Sheet3!D737:D1168)","v":0},null,null,null,null,{"$f":"Sheet3!C737","v":0},{"$f":"Sheet3!B737","v":0},{"$f":"Sheet3!E737","v":0},{"$f":"Sheet3!F737","v":0},{"$f":"Sheet3!G737","v":0},{"$f":"Sheet3!H737","v":0},{"$f":"Sheet3!A737","v":0}]
[null,null,{"$f":"SUMIF(Sheet3!C738:C1169,B750,Sheet3!D738:D1169)","v":0},null,null,null,null,{"$f":"Sheet3!C738","v":0},{"$f":"Sheet3!B738","v":0},{"$f":"Sheet3!E738","v":0},{"$f":"Sheet3!F738","v":0},{"$f":"Sheet3!G738","v":0},{"$f":"Sheet3!H738","v":0},{"$f":"Sheet3!A738","v":0}]
[null,null,{"$f":"SUMIF(Sheet3!C739:C1170,B751,Sheet3!D739:D1170)","v":0},null,null,null,null,{"$f":"Sheet3!C739","v":0},{"$f":"Sheet3!B739","v":0},{"$f":"Sheet3!E739","v":0},{"$f":"Sheet3!F739","v":0},{"$f":"Sheet3!G739","v":0},{"$f":"Sheet3!H739","v":0},{"$f":"Sheet3!A739","v":0}]
[null,null,{"$f":"SUMIF(Sheet3!C740:C1171,B752,Sheet3!D740:D1171)","v":0},null,null,null,null,{"$f":"Sheet3!C740","v":0},{"$f":"Sheet3!B740","v":0},{"$f":"Sheet3!E740","v":0},{"$f":"Sheet3!F740","v":0},{"$f":"Sheet3!G740","v":0},{"$f":"Sheet3!H740","v":0},{"$f":"Sheet3!A740","v":0}]
[null,null,{"$f":"SUMIF(Sheet3!C741:C1172,B753,Sheet3!D741:D1172)","v":0},null,null,null,null,{"$f":"Sheet3!C741","v":0},{"$f":"Sheet3!B741","v":0},{"$f":"Sheet3!E741","v":0},{"$f":"Sheet3!F741","v":0},{"$f":"Sheet3!G741","v":0},{"$f":"Sheet3!H741","v":0},{"$f":"Sheet3!A741","v":0}]
[null,null,{"$f":"SUMIF(Sheet3!C742:C1173,B754,Sheet3!D742:D1173)","v":0},null,null,null,null,{"$f":"Sheet3!C742","v":0},{"$f":"Sheet3!B742","v":0},{"$f":"Sheet3!E742","v":0},{"$f":"Sheet3!F742","v":0},{"$f":"Sheet3!G742","v":0},{"$f":"Sheet3!H742","v":0},{"$f":"Sheet3!A742","v":0}]
[null,null,{"$f":"SUMIF(Sheet3!C743:C1174,B755,Sheet3!D743:D1174)","v":0},null,null,null,null,{"$f":"Sheet3!C743","v":0},{"$f":"Sheet3!B743","v":0},{"$f":"Sheet3!E743","v":0},{"$f":"Sheet3!F743","v":0},{"$f":"Sheet3!G743","v":0},{"$f":"Sheet3!H743","v":0},{"$f":"Sheet3!A743","v":0}]
[null,null,{"$f":"SUMIF(Sheet3!C744:C1175,B756,Sheet3!D744:D1175)","v":0},null,null,null,null,{"$f":"Sheet3!C744","v":0},{"$f":"Sheet3!B744","v":0},{"$f":"Sheet3!E744","v":0},{"$f":"Sheet3!F744","v":0},{"$f":"Sheet3!G744","v":0},{"$f":"Sheet3!H744","v":0},{"$f":"Sheet3!A744","v":0}]
[null,null,{"$f":"SUMIF(Sheet3!C745:C1176,B757,Sheet3!D745:D1176)","v":0},null,null,null,null,{"$f":"Sheet3!C745","v":0},{"$f":"Sheet3!B745","v":0},{"$f":"Sheet3!E745","v":0},{"$f":"Sheet3!F745","v":0},{"$f":"Sheet3!G745","v":0},{"$f":"Sheet3!H745","v":0},{"$f":"Sheet3!A745","v":0}]
[null,null,{"$f":"SUMIF(Sheet3!C746:C1177,B758,Sheet3!D746:D1177)","v":0},null,null,null,null,{"$f":"Sheet3!C746","v":0},{"$f":"Sheet3!B746","v":0},{"$f":"Sheet3!E746","v":0},{"$f":"Sheet3!F746","v":0},{"$f":"Sheet3!G746","v":0},{"$f":"Sheet3!H746","v":0},{"$f":"Sheet3!A746","v":0}]
[null,null,{"$f":"SUMIF(Sheet3!C747:C1178,B759,Sheet3!D747:D1178)","v":0},null,null,null,null,{"$f":"Sheet3!C747","v":0},{"$f":"Sheet3!B747","v":0},{"$f":"Sheet3!E747","v":0},{"$f":"Sheet3!F747","v":0},{"$f":"Sheet3!G747","v":0},{"$f":"Sheet3!H747","v":0},{"$f":"Sheet3!A747","v":0}]
[null,null,{"$f":"SUMIF(Sheet3!C748:C1179,B760,Sheet3!D748:D1179)","v":0},null,null,null,null,{"$f":"Sheet3!C748","v":0},{"$f":"Sheet3!B748","v":0},{"$f":"Sheet3!E748","v":0},{"$f":"Sheet3!F748","v":0},{"$f":"Sheet3!G748","v":0},{"$f":"Sheet3!H748","v":0},{"$f":"Sheet3!A748","v":0}]
[null,null,{"$f":"SUMIF(Sheet3!C749:C1180,B761,Sheet3!D749:D1180)","v":0},null,null,null,null,{"$f":"Sheet3!C749","v":0},{"$f":"Sheet3!B749","v":0},{"$f":"Sheet3!E749","v":0},{"$f":"Sheet3!F749","v":0},{"$f":"Sheet3!G749","v":0},{"$f":"Sheet3!H749","v":0},{"$f":"Sheet3!A749","v":0}]
[null,null,{"$f":"SUMIF(Sheet3!C750:C1181,B762,Sheet3!D750:D1181)","v":0},null,null,null,null,{"$f":"Sheet3!C750","v":0},{"$f":"Sheet3!B750","v":0},{"$f":"Sheet3!E750","v":0},{"$f":"Sheet3!F750","v":0},{"$f":"Sheet3!G750","v":0},{"$f":"Sheet3!H750","v":0},{"$f":"Sheet3!A750","v":0}]
[null,null,{"$f":"SUMIF(Sheet3!C751:C1182,B763,Sheet3!D751:D1182)","v":0},null,null,null,null,{"$f":"Sheet3!C751","v":0},{"$f":"Sheet3!B751","v":0},{"$f":"Sheet3!E751","v":0},{"$f":"Sheet3!F751","v":0},{"$f":"Sheet3!G751","v":0},{"$f":"Sheet3!H751","v":0},{"$f":"Sheet3!A751","v":0}]
[null,null,{"$f":"SUMIF(Sheet3!C752:C1183,B764,Sheet3!D752:D1183)","v":0},null,null,null,null,{"$f":"Sheet3!C752","v":0},{"$f":"Sheet3!B752","v":0},{"$f":"Sheet3!E752","v":0},{"$f":"Sheet3!F752","v":0},{"$f":"Sheet3!G752","v":0},{"$f":"Sheet3!H752","v":0},{"$f":"Sheet3!A752","v":0}]
[null,null,{"$f":"SUMIF(Sheet3!C753:C1184,B765,Sheet3!D753:D1184)","v":0},null,null,null,null,{"$f":"Sheet3!C753","v":0},{"$f":"Sheet3!B753","v":0},{"$f":"Sheet3!E753","v":0},{"$f":"Sheet3!F753","v":0},{"$f":"Sheet3!G753","v":0},{"$f":"Sheet3!H753","v":0},{"$f":"Sheet3!A753","v":0}]
[null,null,{"$f":"SUMIF(Sheet3!C754:C1185,B766,Sheet3!D754:D1185)","v":0},null,null,null,null,{"$f":"Sheet3!C754","v":0},{"$f":"Sheet3!B754","v":0},{"$f":"Sheet3!E754","v":0},{"$f":"Sheet3!F754","v":0},{"$f":"Sheet3!G754","v":0},{"$f":"Sheet3!H754","v":0},{"$f":"Sheet3!A754","v":0}]
[null,null,{"$f":"SUMIF(Sheet3!C755:C1186,B767,Sheet3!D755:D1186)","v":0},null,null,null,null,{"$f":"Sheet3!C755","v":0},{"$f":"Sheet3!B755","v":0},{"$f":"Sheet3!E755","v":0},{"$f":"Sheet3!F755","v":0},{"$f":"Sheet3!G755","v":0},{"$f":"Sheet3!H755","v":0},{"$f":"Sheet3!A755","v":0}]
[null,null,{"$f":"SUMIF(Sheet3!C756:C1187,B768,Sheet3!D756:D1187)","v":0},null,null,null,null,{"$f":"Sheet3!C756","v":0},{"$f":"Sheet3!B756","v":0},{"$f":"Sheet3!E756","v":0},{"$f":"Sheet3!F756","v":0},{"$f":"Sheet3!G756","v":0},{"$f":"Sheet3!H756","v":0},{"$f":"Sheet3!A756","v":0}]
[null,null,{"$f":"SUMIF(Sheet3!C757:C1188,B769,Sheet3!D757:D1188)","v":0},null,null,null,null,{"$f":"Sheet3!C757","v":0},{"$f":"Sheet3!B757","v":0},{"$f":"Sheet3!E757","v":0},{"$f":"Sheet3!F757","v":0},{"$f":"Sheet3!G757","v":0},{"$f":"Sheet3!H757","v":0},{"$f":"Sheet3!A757","v":0}]
[null,null,{"$f":"SUMIF(Sheet3!C758:C1189,B770,Sheet3!D758:D1189)","v":0},null,null,null,null,{"$f":"Sheet3!C758","v":0},{"$f":"Sheet3!B758","v":0},{"$f":"Sheet3!E758","v":0},{"$f":"Sheet3!F758","v":0},{"$f":"Sheet3!G758","v":0},{"$f":"Sheet3!H758","v":0},{"$f":"Sheet3!A758","v":0}]
[null,null,{"$f":"SUMIF(Sheet3!C759:C1190,B771,Sheet3!D759:D1190)","v":0},null,null,null,null,{"$f":"Sheet3!C759","v":0},{"$f":"Sheet3!B759","v":0},{"$f":"Sheet3!E759","v":0},{"$f":"Sheet3!F759","v":0},{"$f":"Sheet3!G759","v":0},{"$f":"Sheet3!H759","v":0},{"$f":"Sheet3!A759","v":0}]
[null,null,{"$f":"SUMIF(Sheet3!C760:C1191,B772,Sheet3!D760:D1191)","v":0},null,null,null,null,{"$f":"Sheet3!C760","v":0},{"$f":"Sheet3!B760","v":0},{"$f":"Sheet3!E760","v":0},{"$f":"Sheet3!F760","v":0},{"$f":"Sheet3!G760","v":0},{"$f":"Sheet3!H760","v":0},{"$f":"Sheet3!A760","v":0}]
[null,null,{"$f":"SUMIF(Sheet3!C761:C1192,B773,Sheet3!D761:D1192)","v":0},null,null,null,null,{"$f":"Sheet3!C761","v":0},{"$f":"Sheet3!B761","v":0},{"$f":"Sheet3!E761","v":0},{"$f":"Sheet3!F761","v":0},{"$f":"Sheet3!G761","v":0},{"$f":"Sheet3!H761","v":0},{"$f":"Sheet3!A761","v":0}]
[null,null,{"$f":"SUMIF(Sheet3!C762:C1193,B774,Sheet3!D762:D1193)","v":0},null,null,null,null,{"$f":"Sheet3!C762","v":0},{"$f":"Sheet3!B762","v":0},{"$f":"Sheet3!E762","v":0},{"$f":"Sheet3!F762","v":0},{"$f":"Sheet3!G762","v":0},{"$f":"Sheet3!H762","v":0},{"$f":"Sheet3!A762","v":0}]
[null,null,{"$f":"SUMIF(Sheet3!C763:C1194,B775,Sheet3!D763:D1194)","v":0},null,null,null,null,{"$f":"Sheet3!C763","v":0},{"$f":"Sheet3!B763","v":0},{"$f":"Sheet3!E763","v":0},{"$f":"Sheet3!F763","v":0},{"$f":"Sheet3!G763","v":0},{"$f":"Sheet3!H763","v":0},{"$f":"Sheet3!A763","v":0}]
[null,null,{"$f":"SUMIF(Sheet3!C764:C1195,B776,Sheet3!D764:D1195)","v":0},null,null,null,null,{"$f":"Sheet3!C764","v":0},{"$f":"Sheet3!B764","v":0},{"$f":"Sheet3!E764","v":0},{"$f":"Sheet3!F764","v":0},{"$f":"Sheet3!G764","v":0},{"$f":"Sheet3!H764","v":0},{"$f":"Sheet3!A764","v":0}]
[null,null,{"$f":"SUMIF(Sheet3!C765:C1196,B777,Sheet3!D765:D1196)","v":0},null,null,null,null,{"$f":"Sheet3!C765","v":0},{"$f":"Sheet3!B765","v":0},{"$f":"Sheet3!E765","v":0},{"$f":"Sheet3!F765","v":0},{"$f":"Sheet3!G765","v":0},{"$f":"Sheet3!H765","v":0},{"$f":"Sheet3!A765","v":0}]
[null,null,{"$f":"SUMIF(Sheet3!C766:C1197,B778,Sheet3!D766:D1197)","v":0},null,null,null,null,{"$f":"Sheet3!C766","v":0},{"$f":"Sheet3!B766","v":0},{"$f":"Sheet3!E766","v":0},{"$f":"Sheet3!F766","v":0},{"$f":"Sheet3!G766","v":0},{"$f":"Sheet3!H766","v":0},{"$f":"Sheet3!A766","v":0}]
[null,null,{"$f":"SUMIF(Sheet3!C767:C1198,B779,Sheet3!D767:D1198)","v":0},null,null,null,null,{"$f":"Sheet3!C767","v":0},{"$f":"Sheet3!B767","v":0},{"$f":"Sheet3!E767","v":0},{"$f":"Sheet3!F767","v":0},{"$f":"Sheet3!G767","v":0},{"$f":"Sheet3!H767","v":0},{"$f":"Sheet3!A767","v":0}]
[null,null,{"$f":"SUMIF(Sheet3!C768:C1199,B780,Sheet3!D768:D1199)","v":0},null,null,null,null,{"$f":"Sheet3!C768","v":0},{"$f":"Sheet3!B768","v":0},{"$f":"Sheet3!E768","v":0},{"$f":"Sheet3!F768","v":0},{"$f":"Sheet3!G768","v":0},{"$f":"Sheet3!H768","v":0},{"$f":"Sheet3!A768","v":0}]
[null,null,{"$f":"SUMIF(Sheet3!C769:C1200,B781,Sheet3!D769:D1200)","v":0},null,null,null,null,{"$f":"Sheet3!C769","v":0},{"$f":"Sheet3!B769","v":0},{"$f":"Sheet3!E769","v":0},{"$f":"Sheet3!F769","v":0},{"$f":"Sheet3!G769","v":0},{"$f":"Sheet3!H769","v":0},{"$f":"Sheet3!A769","v":0}]
[null,null,{"$f":"SUMIF(Sheet3!C770:C1201,B782,Sheet3!D770:D1201)","v":0},null,null,null,null,{"$f":"Sheet3!C770","v":0},{"$f":"Sheet3!B770","v":0},{"$f":"Sheet3!E770","v":0},{"$f":"Sheet3!F770","v":0},{"$f":"Sheet3!G770","v":0},{"$f":"Sheet3!H770","v":0},{"$f":"Sheet3!A770","v":0}]
[null,null,{"$f":"SUMIF(Sheet3!C771:C1202,B783,Sheet3!D771:D1202)","v":0},null,null,null,null,{"$f":"Sheet3!C771","v":0},{"$f":"Sheet3!B771","v":0},{"$f":"Sheet3!E771","v":0},{"$f":"Sheet3!F771","v":0},{"$f":"Sheet3!G771","v":0},{"$f":"Sheet3!H771","v":0},{"$f":"Sheet3!A771","v":0}]
[null,null,{"$f":"SUMIF(Sheet3!C772:C1203,B784,Sheet3!D772:D1203)","v":0},null,null,null,null,{"$f":"Sheet3!C772","v":0},{"$f":"Sheet3!B772","v":0},{"$f":"Sheet3!E772","v":0},{"$f":"Sheet3!F772","v":0},{"$f":"Sheet3!G772","v":0},{"$f":"Sheet3!H772","v":0},{"$f":"Sheet3!A772","v":0}]
[null,null,{"$f":"SUMIF(Sheet3!C773:C1204,B785,Sheet3!D773:D1204)","v":0},null,null,null,null,{"$f":"Sheet3!C773","v":0},{"$f":"Sheet3!B773","v":0},{"$f":"Sheet3!E773","v":0},{"$f":"Sheet3!F773","v":0},{"$f":"Sheet3!G773","v":0},{"$f":"Sheet3!H773","v":0},{"$f":"Sheet3!A773","v":0}]
[null,null,{"$f":"SUMIF(Sheet3!C774:C1205,B786,Sheet3!D774:D1205)","v":0},null,null,null,null,{"$f":"Sheet3!C774","v":0},{"$f":"Sheet3!B774","v":0},{"$f":"Sheet3!E774","v":0},{"$f":"Sheet3!F774","v":0},{"$f":"Sheet3!G774","v":0},{"$f":"Sheet3!H774","v":0},{"$f":"Sheet3!A774","v":0}]
[null,null,{"$f":"SUMIF(Sheet3!C775:C1206,B787,Sheet3!D775:D1206)","v":0},null,null,null,null,{"$f":"Sheet3!C775","v":0},{"$f":"Sheet3!B775","v":0},{"$f":"Sheet3!E775","v":0},{"$f":"Sheet3!F775","v":0},{"$f":"Sheet3!G775","v":0},{"$f":"Sheet3!H775","v":0},{"$f":"Sheet3!A775","v":0}]
[null,null,{"$f":"SUMIF(Sheet3!C776:C1207,B788,Sheet3!D776:D1207)","v":0},null,null,null,null,{"$f":"Sheet3!C776","v":0},{"$f":"Sheet3!B776","v":0},{"$f":"Sheet3!E776","v":0},{"$f":"Sheet3!F776","v":0},{"$f":"Sheet3!G776","v":0},{"$f":"Sheet3!H776","v":0},{"$f":"Sheet3!A776","v":0}]
[null,null,{"$f":"SUMIF(Sheet3!C777:C1208,B789,Sheet3!D777:D1208)","v":0},null,null,null,null,{"$f":"Sheet3!C777","v":0},{"$f":"Sheet3!B777","v":0},{"$f":"Sheet3!E777","v":0},{"$f":"Sheet3!F777","v":0},{"$f":"Sheet3!G777","v":0},{"$f":"Sheet3!H777","v":0},{"$f":"Sheet3!A777","v":0}]
[null,null,{"$f":"SUMIF(Sheet3!C778:C1209,B790,Sheet3!D778:D1209)","v":0},null,null,null,null,{"$f":"Sheet3!C778","v":0},{"$f":"Sheet3!B778","v":0},{"$f":"Sheet3!E778","v":0},{"$f":"Sheet3!F778","v":0},{"$f":"Sheet3!G778","v":0},{"$f":"Sheet3!H778","v":0},{"$f":"Sheet3!A778","v":0}]
[null,null,{"$f":"SUMIF(Sheet3!C779:C1210,B791,Sheet3!D779:D1210)","v":0},null,null,null,null,{"$f":"Sheet3!C779","v":0},{"$f":"Sheet3!B779","v":0},{"$f":"Sheet3!E779","v":0},{"$f":"Sheet3!F779","v":0},{"$f":"Sheet3!G779","v":0},{"$f":"Sheet3!H779","v":0},{"$f":"Sheet3!A779","v":0}]
[null,null,{"$f":"SUMIF(Sheet3!C780:C1211,B792,Sheet3!D780:D1211)","v":0},null,null,null,null,{"$f":"Sheet3!C780","v":0},{"$f":"Sheet3!B780","v":0},{"$f":"Sheet3!E780","v":0},{"$f":"Sheet3!F780","v":0},{"$f":"Sheet3!G780","v":0},{"$f":"Sheet3!H780","v":0},{"$f":"Sheet3!A780","v":0}]
[null,null,{"$f":"SUMIF(Sheet3!C781:C1212,B793,Sheet3!D781:D1212)","v":0},null,null,null,null,{"$f":"Sheet3!C781","v":0},{"$f":"Sheet3!B781","v":0},{"$f":"Sheet3!E781","v":0},{"$f":"Sheet3!F781","v":0},{"$f":"Sheet3!G781","v":0},{"$f":"Sheet3!H781","v":0},{"$f":"Sheet3!A781","v":0}]
[null,null,{"$f":"SUMIF(Sheet3!C782:C1213,B794,Sheet3!D782:D1213)","v":0},null,null,null,null,{"$f":"Sheet3!C782","v":0},{"$f":"Sheet3!B782","v":0},{"$f":"Sheet3!E782","v":0},{"$f":"Sheet3!F782","v":0},{"$f":"Sheet3!G782","v":0},{"$f":"Sheet3!H782","v":0},{"$f":"Sheet3!A782","v":0}]
[null,null,{"$f":"SUMIF(Sheet3!C783:C1214,B795,Sheet3!D783:D1214)","v":0},null,null,null,null,{"$f":"Sheet3!C783","v":0},{"$f":"Sheet3!B783","v":0},{"$f":"Sheet3!E783","v":0},{"$f":"Sheet3!F783","v":0},{"$f":"Sheet3!G783","v":0},{"$f":"Sheet3!H783","v":0},{"$f":"Sheet3!A783","v":0}]
[null,null,{"$f":"SUMIF(Sheet3!C784:C1215,B796,Sheet3!D784:D1215)","v":0},null,null,null,null,{"$f":"Sheet3!C784","v":0},{"$f":"Sheet3!B784","v":0},{"$f":"Sheet3!E784","v":0},{"$f":"Sheet3!F784","v":0},{"$f":"Sheet3!G784","v":0},{"$f":"Sheet3!H784","v":0},{"$f":"Sheet3!A784","v":0}]
[null,null,{"$f":"SUMIF(Sheet3!C785:C1216,B797,Sheet3!D785:D1216)","v":0},null,null,null,null,{"$f":"Sheet3!C785","v":0},{"$f":"Sheet3!B785","v":0},{"$f":"Sheet3!E785","v":0},{"$f":"Sheet3!F785","v":0},{"$f":"Sheet3!G785","v":0},{"$f":"Sheet3!H785","v":0},{"$f":"Sheet3!A785","v":0}]
[null,null,{"$f":"SUMIF(Sheet3!C786:C1217,B798,Sheet3!D786:D1217)","v":0},null,null,null,null,{"$f":"Sheet3!C786","v":0},{"$f":"Sheet3!B786","v":0},{"$f":"Sheet3!E786","v":0},{"$f":"Sheet3!F786","v":0},{"$f":"Sheet3!G786","v":0},{"$f":"Sheet3!H786","v":0},{"$f":"Sheet3!A786","v":0}]
[null,null,{"$f":"SUMIF(Sheet3!C787:C1218,B799,Sheet3!D787:D1218)","v":0},null,null,null,null,{"$f":"Sheet3!C787","v":0},{"$f":"Sheet3!B787","v":0},{"$f":"Sheet3!E787","v":0},{"$f":"Sheet3!F787","v":0},{"$f":"Sheet3!G787","v":0},{"$f":"Sheet3!H787","v":0},{"$f":"Sheet3!A787","v":0}]
[null,null,{"$f":"SUMIF(Sheet3!C788:C1219,B800,Sheet3!D788:D1219)","v":0},null,null,null,null,{"$f":"Sheet3!C788","v":0},{"$f":"Sheet3!B788","v":0},{"$f":"Sheet3!E788","v":0},{"$f":"Sheet3!F788","v":0},{"$f":"Sheet3!G788","v":0},{"$f":"Sheet3!H788","v":0},{"$f":"Sheet3!A788","v":0}]
[null,null,{"$f":"SUMIF(Sheet3!C789:C1220,B801,Sheet3!D789:D1220)","v":0},null,null,null,null,{"$f":"Sheet3!C789","v":0},{"$f":"Sheet3!B789","v":0},{"$f":"Sheet3!E789","v":0},{"$f":"Sheet3!F789","v":0},{"$f":"Sheet3!G789","v":0},{"$f":"Sheet3!H789","v":0},{"$f":"Sheet3!A789","v":0}]
[null,null,{"$f":"SUMIF(Sheet3!C790:C1221,B802,Sheet3!D790:D1221)","v":0},null,null,null,null,{"$f":"Sheet3!C790","v":0},{"$f":"Sheet3!B790","v":0},{"$f":"Sheet3!E790","v":0},{"$f":"Sheet3!F790","v":0},{"$f":"Sheet3!G790","v":0},{"$f":"Sheet3!H790","v":0},{"$f":"Sheet3!A790","v":0}]
[null,null,{"$f":"SUMIF(Sheet3!C791:C1222,B803,Sheet3!D791:D1222)","v":0},null,null,null,null,{"$f":"Sheet3!C791","v":0},{"$f":"Sheet3!B791","v":0},{"$f":"Sheet3!E791","v":0},{"$f":"Sheet3!F791","v":0},{"$f":"Sheet3!G791","v":0},{"$f":"Sheet3!H791","v":0},{"$f":"Sheet3!A791","v":0}]
[null,null,{"$f":"SUMIF(Sheet3!C792:C1223,B804,Sheet3!D792:D1223)","v":0},null,null,null,null,{"$f":"Sheet3!C792","v":0},{"$f":"Sheet3!B792","v":0},{"$f":"Sheet3!E792","v":0},{"$f":"Sheet3!F792","v":0},{"$f":"Sheet3!G792","v":0},{"$f":"Sheet3!H792","v":0},{"$f":"Sheet3!A792","v":0}]
[null,null,{"$f":"SUMIF(Sheet3!C793:C1224,B805,Sheet3!D793:D1224)","v":0},null,null,null,null,{"$f":"Sheet3!C793","v":0},{"$f":"Sheet3!B793","v":0},{"$f":"Sheet3!E793","v":0},{"$f":"Sheet3!F793","v":0},{"$f":"Sheet3!G793","v":0},{"$f":"Sheet3!H793","v":0},{"$f":"Sheet3!A793","v":0}]
[null,null,{"$f":"SUMIF(Sheet3!C794:C1225,B806,Sheet3!D794:D1225)","v":0},null,null,null,null,{"$f":"Sheet3!C794","v":0},{"$f":"Sheet3!B794","v":0},{"$f":"Sheet3!E794","v":0},{"$f":"Sheet3!F794","v":0},{"$f":"Sheet3!G794","v":0},{"$f":"Sheet3!H794","v":0},{"$f":"Sheet3!A794","v":0}]
[null,null,{"$f":"SUMIF(Sheet3!C795:C1226,B807,Sheet3!D795:D1226)","v":0},null,null,null,null,{"$f":"Sheet3!C795","v":0},{"$f":"Sheet3!B795","v":0},{"$f":"Sheet3!E795","v":0},{"$f":"Sheet3!F795","v":0},{"$f":"Sheet3!G795","v":0},{"$f":"Sheet3!H795","v":0},{"$f":"Sheet3!A795","v":0}]
[null,null,{"$f":"SUMIF(Sheet3!C796:C1227,B808,Sheet3!D796:D1227)","v":0},null,null,null,null,{"$f":"Sheet3!C796","v":0},{"$f":"Sheet3!B796","v":0},{"$f":"Sheet3!E796","v":0},{"$f":"Sheet3!F796","v":0},{"$f":"Sheet3!G796","v":0},{"$f":"Sheet3!H796","v":0},{"$f":"Sheet3!A796","v":0}]
[null,null,{"$f":"SUMIF(Sheet3!C797:C1228,B809,Sheet3!D797:D1228)","v":0},null,null,null,null,{"$f":"Sheet3!C797","v":0},{"$f":"Sheet3!B797","v":0},{"$f":"Sheet3!E797","v":0},{"$f":"Sheet3!F797","v":0},{"$f":"Sheet3!G797","v":0},{"$f":"Sheet3!H797","v":0},{"$f":"Sheet3!A797","v":0}]
[null,null,{"$f":"SUMIF(Sheet3!C798:C1229,B810,Sheet3!D798:D1229)","v":0},null,null,null,null,{"$f":"Sheet3!C798","v":0},{"$f":"Sheet3!B798","v":0},{"$f":"Sheet3!E798","v":0},{"$f":"Sheet3!F798","v":0},{"$f":"Sheet3!G798","v":0},{"$f":"Sheet3!H798","v":0},{"$f":"Sheet3!A798","v":0}]
[null,null,{"$f":"SUMIF(Sheet3!C799:C1230,B811,Sheet3!D799:D1230)","v":0},null,null,null,null,{"$f":"Sheet3!C799","v":0},{"$f":"Sheet3!B799","v":0},{"$f":"Sheet3!E799","v":0},{"$f":"Sheet3!F799","v":0},{"$f":"Sheet3!G799","v":0},{"$f":"Sheet3!H799","v":0},{"$f":"Sheet3!A799","v":0}]
[null,null,{"$f":"SUMIF(Sheet3!C800:C1231,B812,Sheet3!D800:D1231)","v":0},null,null,null,null,{"$f":"Sheet3!C800","v":0},{"$f":"Sheet3!B800","v":0},{"$f":"Sheet3!E800","v":0},{"$f":"Sheet3!F800","v":0},{"$f":"Sheet3!G800","v":0},{"$f":"Sheet3!H800","v":0},{"$f":"Sheet3!A800","v":0}]
[null,null,{"$f":"SUMIF(Sheet3!C801:C1232,B813,Sheet3!D801:D1232)","v":0},null,null,null,null,{"$f":"Sheet3!C801","v":0},{"$f":"Sheet3!B801","v":0},{"$f":"Sheet3!E801","v":0},{"$f":"Sheet3!F801","v":0},{"$f":"Sheet3!G801","v":0},{"$f":"Sheet3!H801","v":0},{"$f":"Sheet3!A801","v":0}]
[null,null,{"$f":"SUMIF(Sheet3!C802:C1233,B814,Sheet3!D802:D1233)","v":0},null,null,null,null,{"$f":"Sheet3!C802","v":0},{"$f":"Sheet3!B802","v":0},{"$f":"Sheet3!E802","v":0},{"$f":"Sheet3!F802","v":0},{"$f":"Sheet3!G802","v":0},{"$f":"Sheet3!H802","v":0},{"$f":"Sheet3!A802","v":0}]
[null,null,{"$f":"SUMIF(Sheet3!C803:C1234,B815,Sheet3!D803:D1234)","v":0},null,null,null,null,{"$f":"Sheet3!C803","v":0},{"$f":"Sheet3!B803","v":0},{"$f":"Sheet3!E803","v":0},{"$f":"Sheet3!F803","v":0},{"$f":"Sheet3!G803","v":0},{"$f":"Sheet3!H803","v":0},{"$f":"Sheet3!A803","v":0}]
[null,null,{"$f":"SUMIF(Sheet3!C804:C1235,B816,Sheet3!D804:D1235)","v":0},null,null,null,null,{"$f":"Sheet3!C804","v":0},{"$f":"Sheet3!B804","v":0},{"$f":"Sheet3!E804","v":0},{"$f":"Sheet3!F804","v":0},{"$f":"Sheet3!G804","v":0},{"$f":"Sheet3!H804","v":0},{"$f":"Sheet3!A804","v":0}]
[null,null,{"$f":"SUMIF(Sheet3!C805:C1236,B817,Sheet3!D805:D1236)","v":0},null,null,null,null,{"$f":"Sheet3!C805","v":0},{"$f":"Sheet3!B805","v":0},{"$f":"Sheet3!E805","v":0},{"$f":"Sheet3!F805","v":0},{"$f":"Sheet3!G805","v":0},{"$f":"Sheet3!H805","v":0},{"$f":"Sheet3!A805","v":0}]
[null,null,{"$f":"SUMIF(Sheet3!C806:C1237,B818,Sheet3!D806:D1237)","v":0},null,null,null,null,{"$f":"Sheet3!C806","v":0},{"$f":"Sheet3!B806","v":0},{"$f":"Sheet3!E806","v":0},{"$f":"Sheet3!F806","v":0},{"$f":"Sheet3!G806","v":0},{"$f":"Sheet3!H806","v":0},{"$f":"Sheet3!A806","v":0}]
[null,null,{"$f":"SUMIF(Sheet3!C807:C1238,B819,Sheet3!D807:D1238)","v":0},null,null,null,null,{"$f":"Sheet3!C807","v":0},{"$f":"Sheet3!B807","v":0},{"$f":"Sheet3!E807","v":0},{"$f":"Sheet3!F807","v":0},{"$f":"Sheet3!G807","v":0},{"$f":"Sheet3!H807","v":0},{"$f":"Sheet3!A807","v":0}]
[null,null,{"$f":"SUMIF(Sheet3!C808:C1239,B820,Sheet3!D808:D1239)","v":0},null,null,null,null,{"$f":"Sheet3!C808","v":0},{"$f":"Sheet3!B808","v":0},{"$f":"Sheet3!E808","v":0},{"$f":"Sheet3!F808","v":0},{"$f":"Sheet3!G808","v":0},{"$f":"Sheet3!H808","v":0},{"$f":"Sheet3!A808","v":0}]
[null,null,{"$f":"SUMIF(Sheet3!C809:C1240,B821,Sheet3!D809:D1240)","v":0},null,null,null,null,{"$f":"Sheet3!C809","v":0},{"$f":"Sheet3!B809","v":0},{"$f":"Sheet3!E809","v":0},{"$f":"Sheet3!F809","v":0},{"$f":"Sheet3!G809","v":0},{"$f":"Sheet3!H809","v":0},{"$f":"Sheet3!A809","v":0}]
[null,null,{"$f":"SUMIF(Sheet3!C810:C1241,B822,Sheet3!D810:D1241)","v":0},null,null,null,null,{"$f":"Sheet3!C810","v":0},{"$f":"Sheet3!B810","v":0},{"$f":"Sheet3!E810","v":0},{"$f":"Sheet3!F810","v":0},{"$f":"Sheet3!G810","v":0},{"$f":"Sheet3!H810","v":0},{"$f":"Sheet3!A810","v":0}]
[null,null,{"$f":"SUMIF(Sheet3!C811:C1242,B823,Sheet3!D811:D1242)","v":0},null,null,null,null,{"$f":"Sheet3!C811","v":0},{"$f":"Sheet3!B811","v":0},{"$f":"Sheet3!E811","v":0},{"$f":"Sheet3!F811","v":0},{"$f":"Sheet3!G811","v":0},{"$f":"Sheet3!H811","v":0},{"$f":"Sheet3!A811","v":0}]
[null,null,{"$f":"SUMIF(Sheet3!C812:C1243,B824,Sheet3!D812:D1243)","v":0},null,null,null,null,{"$f":"Sheet3!C812","v":0},{"$f":"Sheet3!B812","v":0},{"$f":"Sheet3!E812","v":0},{"$f":"Sheet3!F812","v":0},{"$f":"Sheet3!G812","v":0},{"$f":"Sheet3!H812","v":0},{"$f":"Sheet3!A812","v":0}]
[null,null,{"$f":"SUMIF(Sheet3!C813:C1244,B825,Sheet3!D813:D1244)","v":0},null,null,null,null,{"$f":"Sheet3!C813","v":0},{"$f":"Sheet3!B813","v":0},{"$f":"Sheet3!E813","v":0},{"$f":"Sheet3!F813","v":0},{"$f":"Sheet3!G813","v":0},{"$f":"Sheet3!H813","v":0},{"$f":"Sheet3!A813","v":0}]
[null,null,{"$f":"SUMIF(Sheet3!C814:C1245,B826,Sheet3!D814:D1245)","v":0},null,null,null,null,{"$f":"Sheet3!C814","v":0},{"$f":"Sheet3!B814","v":0},{"$f":"Sheet3!E814","v":0},{"$f":"Sheet3!F814","v":0},{"$f":"Sheet3!G814","v":0},{"$f":"Sheet3!H814","v":0},{"$f":"Sheet3!A814","v":0}]
[null,null,{"$f":"SUMIF(Sheet3!C815:C1246,B827,Sheet3!D815:D1246)","v":0},null,null,null,null,{"$f":"Sheet3!C815","v":0},{"$f":"Sheet3!B815","v":0},{"$f":"Sheet3!E815","v":0},{"$f":"Sheet3!F815","v":0},{"$f":"Sheet3!G815","v":0},{"$f":"Sheet3!H815","v":0},{"$f":"Sheet3!A815","v":0}]
[null,null,{"$f":"SUMIF(Sheet3!C816:C1247,B828,Sheet3!D816:D1247)","v":0},null,null,null,null,{"$f":"Sheet3!C816","v":0},{"$f":"Sheet3!B816","v":0},{"$f":"Sheet3!E816","v":0},{"$f":"Sheet3!F816","v":0},{"$f":"Sheet3!G816","v":0},{"$f":"Sheet3!H816","v":0},{"$f":"Sheet3!A816","v":0}]
[null,null,{"$f":"SUMIF(Sheet3!C817:C1248,B829,Sheet3!D817:D1248)","v":0},null,null,null,null,{"$f":"Sheet3!C817","v":0},{"$f":"Sheet3!B817","v":0},{"$f":"Sheet3!E817","v":0},{"$f":"Sheet3!F817","v":0},{"$f":"Sheet3!G817","v":0},{"$f":"Sheet3!H817","v":0},{"$f":"Sheet3!A817","v":0}]
[null,null,{"$f":"SUMIF(Sheet3!C818:C1249,B830,Sheet3!D818:D1249)","v":0},null,null,null,null,{"$f":"Sheet3!C818","v":0},{"$f":"Sheet3!B818","v":0},{"$f":"Sheet3!E818","v":0},{"$f":"Sheet3!F818","v":0},{"$f":"Sheet3!G818","v":0},{"$f":"Sheet3!H818","v":0},{"$f":"Sheet3!A818","v":0}]
[null,null,{"$f":"SUMIF(Sheet3!C819:C1250,B831,Sheet3!D819:D1250)","v":0},null,null,null,null,{"$f":"Sheet3!C819","v":0},{"$f":"Sheet3!B819","v":0},{"$f":"Sheet3!E819","v":0},{"$f":"Sheet3!F819","v":0},{"$f":"Sheet3!G819","v":0},{"$f":"Sheet3!H819","v":0},{"$f":"Sheet3!A819","v":0}]
[null,null,{"$f":"SUMIF(Sheet3!C820:C1251,B832,Sheet3!D820:D1251)","v":0},null,null,null,null,{"$f":"Sheet3!C820","v":0},{"$f":"Sheet3!B820","v":0},{"$f":"Sheet3!E820","v":0},{"$f":"Sheet3!F820","v":0},{"$f":"Sheet3!G820","v":0},{"$f":"Sheet3!H820","v":0},{"$f":"Sheet3!A820","v":0}]
[null,null,{"$f":"SUMIF(Sheet3!C821:C1252,B833,Sheet3!D821:D1252)","v":0},null,null,null,null,{"$f":"Sheet3!C821","v":0},{"$f":"Sheet3!B821","v":0},{"$f":"Sheet3!E821","v":0},{"$f":"Sheet3!F821","v":0},{"$f":"Sheet3!G821","v":0},{"$f":"Sheet3!H821","v":0},{"$f":"Sheet3!A821","v":0}]
[null,null,{"$f":"SUMIF(Sheet3!C822:C1253,B834,Sheet3!D822:D1253)","v":0},null,null,null,null,{"$f":"Sheet3!C822","v":0},{"$f":"Sheet3!B822","v":0},{"$f":"Sheet3!E822","v":0},{"$f":"Sheet3!F822","v":0},{"$f":"Sheet3!G822","v":0},{"$f":"Sheet3!H822","v":0},{"$f":"Sheet3!A822","v":0}]
[null,null,{"$f":"SUMIF(Sheet3!C823:C1254,B835,Sheet3!D823:D1254)","v":0},null,null,null,null,{"$f":"Sheet3!C823","v":0},{"$f":"Sheet3!B823","v":0},{"$f":"Sheet3!E823","v":0},{"$f":"Sheet3!F823","v":0},{"$f":"Sheet3!G823","v":0},{"$f":"Sheet3!H823","v":0},{"$f":"Sheet3!A823","v":0}]
[null,null,{"$f":"SUMIF(Sheet3!C824:C1255,B836,Sheet3!D824:D1255)","v":0},null,null,null,null,{"$f":"Sheet3!C824","v":0},{"$f":"Sheet3!B824","v":0},{"$f":"Sheet3!E824","v":0},{"$f":"Sheet3!F824","v":0},{"$f":"Sheet3!G824","v":0},{"$f":"Sheet3!H824","v":0},{"$f":"Sheet3!A824","v":0}]
[null,null,{"$f":"SUMIF(Sheet3!C825:C1256,B837,Sheet3!D825:D1256)","v":0},null,null,null,null,{"$f":"Sheet3!C825","v":0},{"$f":"Sheet3!B825","v":0},{"$f":"Sheet3!E825","v":0},{"$f":"Sheet3!F825","v":0},{"$f":"Sheet3!G825","v":0},{"$f":"Sheet3!H825","v":0},{"$f":"Sheet3!A825","v":0}]
[null,null,{"$f":"SUMIF(Sheet3!C826:C1257,B838,Sheet3!D826:D1257)","v":0},null,null,null,null,{"$f":"Sheet3!C826","v":0},{"$f":"Sheet3!B826","v":0},{"$f":"Sheet3!E826","v":0},{"$f":"Sheet3!F826","v":0},{"$f":"Sheet3!G826","v":0},{"$f":"Sheet3!H826","v":0},{"$f":"Sheet3!A826","v":0}]
[null,null,{"$f":"SUMIF(Sheet3!C827:C1258,B839,Sheet3!D827:D1258)","v":0},null,null,null,null,{"$f":"Sheet3!C827","v":0},{"$f":"Sheet3!B827","v":0},{"$f":"Sheet3!E827","v":0},{"$f":"Sheet3!F827","v":0},{"$f":"Sheet3!G827","v":0},{"$f":"Sheet3!H827","v":0},{"$f":"Sheet3!A827","v":0}]
[null,null,{"$f":"SUMIF(Sheet3!C828:C1259,B840,Sheet3!D828:D1259)","v":0},null,null,null,null,{"$f":"Sheet3!C828","v":0},{"$f":"Sheet3!B828","v":0},{"$f":"Sheet3!E828","v":0},{"$f":"Sheet3!F828","v":0},{"$f":"Sheet3!G828","v":0},{"$f":"Sheet3!H828","v":0},{"$f":"Sheet3!A828","v":0}]
[null,null,{"$f":"SUMIF(Sheet3!C829:C1260,B841,Sheet3!D829:D1260)","v":0},null,null,null,null,{"$f":"Sheet3!C829","v":0},{"$f":"Sheet3!B829","v":0},{"$f":"Sheet3!E829","v":0},{"$f":"Sheet3!F829","v":0},{"$f":"Sheet3!G829","v":0},{"$f":"Sheet3!H829","v":0},{"$f":"Sheet3!A829","v":0}]
[null,null,{"$f":"SUMIF(Sheet3!C830:C1261,B842,Sheet3!D830:D1261)","v":0},null,null,null,null,{"$f":"Sheet3!C830","v":0},{"$f":"Sheet3!B830","v":0},{"$f":"Sheet3!E830","v":0},{"$f":"Sheet3!F830","v":0},{"$f":"Sheet3!G830","v":0},{"$f":"Sheet3!H830","v":0},{"$f":"Sheet3!A830","v":0}]
[null,null,{"$f":"SUMIF(Sheet3!C831:C1262,B843,Sheet3!D831:D1262)","v":0},null,null,null,null,{"$f":"Sheet3!C831","v":0},{"$f":"Sheet3!B831","v":0},{"$f":"Sheet3!E831","v":0},{"$f":"Sheet3!F831","v":0},{"$f":"Sheet3!G831","v":0},{"$f":"Sheet3!H831","v":0},{"$f":"Sheet3!A831","v":0}]
[null,null,{"$f":"SUMIF(Sheet3!C832:C1263,B844,Sheet3!D832:D1263)","v":0},null,null,null,null,{"$f":"Sheet3!C832","v":0},{"$f":"Sheet3!B832","v":0},{"$f":"Sheet3!E832","v":0},{"$f":"Sheet3!F832","v":0},{"$f":"Sheet3!G832","v":0},{"$f":"Sheet3!H832","v":0},{"$f":"Sheet3!A832","v":0}]
[null,null,{"$f":"SUMIF(Sheet3!C833:C1264,B845,Sheet3!D833:D1264)","v":0},null,null,null,null,{"$f":"Sheet3!C833","v":0},{"$f":"Sheet3!B833","v":0},{"$f":"Sheet3!E833","v":0},{"$f":"Sheet3!F833","v":0},{"$f":"Sheet3!G833","v":0},{"$f":"Sheet3!H833","v":0},{"$f":"Sheet3!A833","v":0}]
[null,null,{"$f":"SUMIF(Sheet3!C834:C1265,B846,Sheet3!D834:D1265)","v":0},null,null,null,null,{"$f":"Sheet3!C834","v":0},{"$f":"Sheet3!B834","v":0},{"$f":"Sheet3!E834","v":0},{"$f":"Sheet3!F834","v":0},{"$f":"Sheet3!G834","v":0},{"$f":"Sheet3!H834","v":0},{"$f":"Sheet3!A834","v":0}]
[null,null,{"$f":"SUMIF(Sheet3!C835:C1266,B847,Sheet3!D835:D1266)","v":0},null,null,null,null,{"$f":"Sheet3!C835","v":0},{"$f":"Sheet3!B835","v":0},{"$f":"Sheet3!E835","v":0},{"$f":"Sheet3!F835","v":0},{"$f":"Sheet3!G835","v":0},{"$f":"Sheet3!H835","v":0},{"$f":"Sheet3!A835","v":0}]
[null,null,{"$f":"SUMIF(Sheet3!C836:C1267,B848,Sheet3!D836:D1267)","v":0},null,null,null,null,{"$f":"Sheet3!C836","v":0},{"$f":"Sheet3!B836","v":0},{"$f":"Sheet3!E836","v":0},{"$f":"Sheet3!F836","v":0},{"$f":"Sheet3!G836","v":0},{"$f":"Sheet3!H836","v":0},{"$f":"Sheet3!A836","v":0}]
[null,null,{"$f":"SUMIF(Sheet3!C837:C1268,B849,Sheet3!D837:D1268)","v":0},null,null,null,null,{"$f":"Sheet3!C837","v":0},{"$f":"Sheet3!B837","v":0},{"$f":"Sheet3!E837","v":0},{"$f":"Sheet3!F837","v":0},{"$f":"Sheet3!G837","v":0},{"$f":"Sheet3!H837","v":0},{"$f":"Sheet3!A837","v":0}]
[null,null,{"$f":"SUMIF(Sheet3!C838:C1269,B850,Sheet3!D838:D1269)","v":0},null,null,null,null,{"$f":"Sheet3!C838","v":0},{"$f":"Sheet3!B838","v":0},{"$f":"Sheet3!E838","v":0},{"$f":"Sheet3!F838","v":0},{"$f":"Sheet3!G838","v":0},{"$f":"Sheet3!H838","v":0},{"$f":"Sheet3!A838","v":0}]
[null,null,{"$f":"SUMIF(Sheet3!C839:C1270,B851,Sheet3!D839:D1270)","v":0},null,null,null,null,{"$f":"Sheet3!C839","v":0},{"$f":"Sheet3!B839","v":0},{"$f":"Sheet3!E839","v":0},{"$f":"Sheet3!F839","v":0},{"$f":"Sheet3!G839","v":0},{"$f":"Sheet3!H839","v":0},{"$f":"Sheet3!A839","v":0}]
[null,null,{"$f":"SUMIF(Sheet3!C840:C1271,B852,Sheet3!D840:D1271)","v":0},null,null,null,null,{"$f":"Sheet3!C840","v":0},{"$f":"Sheet3!B840","v":0},{"$f":"Sheet3!E840","v":0},{"$f":"Sheet3!F840","v":0},{"$f":"Sheet3!G840","v":0},{"$f":"Sheet3!H840","v":0},{"$f":"Sheet3!A840","v":0}]
[null,null,{"$f":"SUMIF(Sheet3!C841:C1272,B853,Sheet3!D841:D1272)","v":0},null,null,null,null,{"$f":"Sheet3!C841","v":0},{"$f":"Sheet3!B841","v":0},{"$f":"Sheet3!E841","v":0},{"$f":"Sheet3!F841","v":0},{"$f":"Sheet3!G841","v":0},{"$f":"Sheet3!H841","v":0},{"$f":"Sheet3!A841","v":0}]
[null,null,{"$f":"SUMIF(Sheet3!C842:C1273,B854,Sheet3!D842:D1273)","v":0},null,null,null,null,{"$f":"Sheet3!C842","v":0},{"$f":"Sheet3!B842","v":0},{"$f":"Sheet3!E842","v":0},{"$f":"Sheet3!F842","v":0},{"$f":"Sheet3!G842","v":0},{"$f":"Sheet3!H842","v":0},{"$f":"Sheet3!A842","v":0}]
[null,null,{"$f":"SUMIF(Sheet3!C843:C1274,B855,Sheet3!D843:D1274)","v":0},null,null,null,null,{"$f":"Sheet3!C843","v":0},{"$f":"Sheet3!B843","v":0},{"$f":"Sheet3!E843","v":0},{"$f":"Sheet3!F843","v":0},{"$f":"Sheet3!G843","v":0},{"$f":"Sheet3!H843","v":0},{"$f":"Sheet3!A843","v":0}]
[null,null,{"$f":"SUMIF(Sheet3!C844:C1275,B856,Sheet3!D844:D1275)","v":0},null,null,null,null,{"$f":"Sheet3!C844","v":0},{"$f":"Sheet3!B844","v":0},{"$f":"Sheet3!E844","v":0},{"$f":"Sheet3!F844","v":0},{"$f":"Sheet3!G844","v":0},{"$f":"Sheet3!H844","v":0},{"$f":"Sheet3!A844","v":0}]
[null,null,{"$f":"SUMIF(Sheet3!C845:C1276,B857,Sheet3!D845:D1276)","v":0},null,null,null,null,{"$f":"Sheet3!C845","v":0},{"$f":"Sheet3!B845","v":0},{"$f":"Sheet3!E845","v":0},{"$f":"Sheet3!F845","v":0},{"$f":"Sheet3!G845","v":0},{"$f":"Sheet3!H845","v":0},{"$f":"Sheet3!A845","v":0}]
[null,null,{"$f":"SUMIF(Sheet3!C846:C1277,B858,Sheet3!D846:D1277)","v":0},null,null,null,null,{"$f":"Sheet3!C846","v":0},{"$f":"Sheet3!B846","v":0},{"$f":"Sheet3!E846","v":0},{"$f":"Sheet3!F846","v":0},{"$f":"Sheet3!G846","v":0},{"$f":"Sheet3!H846","v":0},{"$f":"Sheet3!A846","v":0}]
[null,null,{"$f":"SUMIF(Sheet3!C847:C1278,B859,Sheet3!D847:D1278)","v":0},null,null,null,null,{"$f":"Sheet3!C847","v":0},{"$f":"Sheet3!B847","v":0},{"$f":"Sheet3!E847","v":0},{"$f":"Sheet3!F847","v":0},{"$f":"Sheet3!G847","v":0},{"$f":"Sheet3!H847","v":0},{"$f":"Sheet3!A847","v":0}]
[null,null,{"$f":"SUMIF(Sheet3!C848:C1279,B860,Sheet3!D848:D1279)","v":0},null,null,null,null,{"$f":"Sheet3!C848","v":0},{"$f":"Sheet3!B848","v":0},{"$f":"Sheet3!E848","v":0},{"$f":"Sheet3!F848","v":0},{"$f":"Sheet3!G848","v":0},{"$f":"Sheet3!H848","v":0},{"$f":"Sheet3!A848","v":0}]
[null,null,{"$f":"SUMIF(Sheet3!C849:C1280,B861,Sheet3!D849:D1280)","v":0},null,null,null,null,{"$f":"Sheet3!C849","v":0},{"$f":"Sheet3!B849","v":0},{"$f":"Sheet3!E849","v":0},{"$f":"Sheet3!F849","v":0},{"$f":"Sheet3!G849","v":0},{"$f":"Sheet3!H849","v":0},{"$f":"Sheet3!A849","v":0}]
[null,null,{"$f":"SUMIF(Sheet3!C850:C1281,B862,Sheet3!D850:D1281)","v":0},null,null,null,null,{"$f":"Sheet3!C850","v":0},{"$f":"Sheet3!B850","v":0},{"$f":"Sheet3!E850","v":0},{"$f":"Sheet3!F850","v":0},{"$f":"Sheet3!G850","v":0},{"$f":"Sheet3!H850","v":0},{"$f":"Sheet3!A850","v":0}]
[null,null,{"$f":"SUMIF(Sheet3!C851:C1282,B863,Sheet3!D851:D1282)","v":0},null,null,null,null,{"$f":"Sheet3!C851","v":0},{"$f":"Sheet3!B851","v":0},{"$f":"Sheet3!E851","v":0},{"$f":"Sheet3!F851","v":0},{"$f":"Sheet3!G851","v":0},{"$f":"Sheet3!H851","v":0},{"$f":"Sheet3!A851","v":0}]
[null,null,{"$f":"SUMIF(Sheet3!C852:C1283,B864,Sheet3!D852:D1283)","v":0},null,null,null,null,{"$f":"Sheet3!C852","v":0},{"$f":"Sheet3!B852","v":0},{"$f":"Sheet3!E852","v":0},{"$f":"Sheet3!F852","v":0},{"$f":"Sheet3!G852","v":0},{"$f":"Sheet3!H852","v":0},{"$f":"Sheet3!A852","v":0}]
[null,null,{"$f":"SUMIF(Sheet3!C853:C1284,B865,Sheet3!D853:D1284)","v":0},null,null,null,null,{"$f":"Sheet3!C853","v":0},{"$f":"Sheet3!B853","v":0},{"$f":"Sheet3!E853","v":0},{"$f":"Sheet3!F853","v":0},{"$f":"Sheet3!G853","v":0},{"$f":"Sheet3!H853","v":0},{"$f":"Sheet3!A853","v":0}]
[null,null,{"$f":"SUMIF(Sheet3!C854:C1285,B866,Sheet3!D854:D1285)","v":0},null,null,null,null,{"$f":"Sheet3!C854","v":0},{"$f":"Sheet3!B854","v":0},{"$f":"Sheet3!E854","v":0},{"$f":"Sheet3!F854","v":0},{"$f":"Sheet3!G854","v":0},{"$f":"Sheet3!H854","v":0},{"$f":"Sheet3!A854","v":0}]
[null,null,{"$f":"SUMIF(Sheet3!C855:C1286,B867,Sheet3!D855:D1286)","v":0},null,null,null,null,{"$f":"Sheet3!C855","v":0},{"$f":"Sheet3!B855","v":0},{"$f":"Sheet3!E855","v":0},{"$f":"Sheet3!F855","v":0},{"$f":"Sheet3!G855","v":0},{"$f":"Sheet3!H855","v":0},{"$f":"Sheet3!A855","v":0}]
[null,null,{"$f":"SUMIF(Sheet3!C856:C1287,B868,Sheet3!D856:D1287)","v":0},null,null,null,null,{"$f":"Sheet3!C856","v":0},{"$f":"Sheet3!B856","v":0},{"$f":"Sheet3!E856","v":0},{"$f":"Sheet3!F856","v":0},{"$f":"Sheet3!G856","v":0},{"$f":"Sheet3!H856","v":0},{"$f":"Sheet3!A856","v":0}]
[null,null,{"$f":"SUMIF(Sheet3!C857:C1288,B869,Sheet3!D857:D1288)","v":0},null,null,null,null,{"$f":"Sheet3!C857","v":0},{"$f":"Sheet3!B857","v":0},{"$f":"Sheet3!E857","v":0},{"$f":"Sheet3!F857","v":0},{"$f":"Sheet3!G857","v":0},{"$f":"Sheet3!H857","v":0},{"$f":"Sheet3!A857","v":0}]
[null,null,{"$f":"SUMIF(Sheet3!C858:C1289,B870,Sheet3!D858:D1289)","v":0},null,null,null,null,{"$f":"Sheet3!C858","v":0},{"$f":"Sheet3!B858","v":0},{"$f":"Sheet3!E858","v":0},{"$f":"Sheet3!F858","v":0},{"$f":"Sheet3!G858","v":0},{"$f":"Sheet3!H858","v":0},{"$f":"Sheet3!A858","v":0}]
[null,null,{"$f":"SUMIF(Sheet3!C859:C1290,B871,Sheet3!D859:D1290)","v":0},null,null,null,null,{"$f":"Sheet3!C859","v":0},{"$f":"Sheet3!B859","v":0},{"$f":"Sheet3!E859","v":0},{"$f":"Sheet3!F859","v":0},{"$f":"Sheet3!G859","v":0},{"$f":"Sheet3!H859","v":0},{"$f":"Sheet3!A859","v":0}]
[null,null,{"$f":"SUMIF(Sheet3!C860:C1291,B872,Sheet3!D860:D1291)","v":0},null,null,null,null,{"$f":"Sheet3!C860","v":0},{"$f":"Sheet3!B860","v":0},{"$f":"Sheet3!E860","v":0},{"$f":"Sheet3!F860","v":0},{"$f":"Sheet3!G860","v":0},{"$f":"Sheet3!H860","v":0},{"$f":"Sheet3!A860","v":0}]
[null,null,{"$f":"SUMIF(Sheet3!C861:C1292,B873,Sheet3!D861:D1292)","v":0},null,null,null,null,{"$f":"Sheet3!C861","v":0},{"$f":"Sheet3!B861","v":0},{"$f":"Sheet3!E861","v":0},{"$f":"Sheet3!F861","v":0},{"$f":"Sheet3!G861","v":0},{"$f":"Sheet3!H861","v":0},{"$f":"Sheet3!A861","v":0}]
[null,null,{"$f":"SUMIF(Sheet3!C862:C1293,B874,Sheet3!D862:D1293)","v":0},null,null,null,null,{"$f":"Sheet3!C862","v":0},{"$f":"Sheet3!B862","v":0},{"$f":"Sheet3!E862","v":0},{"$f":"Sheet3!F862","v":0},{"$f":"Sheet3!G862","v":0},{"$f":"Sheet3!H862","v":0},{"$f":"Sheet3!A862","v":0}]
[null,null,{"$f":"SUMIF(Sheet3!C863:C1294,B875,Sheet3!D863:D1294)","v":0},null,null,null,null,{"$f":"Sheet3!C863","v":0},{"$f":"Sheet3!B863","v":0},{"$f":"Sheet3!E863","v":0},{"$f":"Sheet3!F863","v":0},{"$f":"Sheet3!G863","v":0},{"$f":"Sheet3!H863","v":0},{"$f":"Sheet3!A863","v":0}]
[null,null,{"$f":"SUMIF(Sheet3!C864:C1295,B876,Sheet3!D864:D1295)","v":0},null,null,null,null,{"$f":"Sheet3!C864","v":0},{"$f":"Sheet3!B864","v":0},{"$f":"Sheet3!E864","v":0},{"$f":"Sheet3!F864","v":0},{"$f":"Sheet3!G864","v":0},{"$f":"Sheet3!H864","v":0},{"$f":"Sheet3!A864","v":0}]
[null,null,{"$f":"SUMIF(Sheet3!C865:C1296,B877,Sheet3!D865:D1296)","v":0},null,null,null,null,{"$f":"Sheet3!C865","v":0},{"$f":"Sheet3!B865","v":0},{"$f":"Sheet3!E865","v":0},{"$f":"Sheet3!F865","v":0},{"$f":"Sheet3!G865","v":0},{"$f":"Sheet3!H865","v":0},{"$f":"Sheet3!A865","v":0}]
[null,null,{"$f":"SUMIF(Sheet3!C866:C1297,B878,Sheet3!D866:D1297)","v":0},null,null,null,null,{"$f":"Sheet3!C866","v":0},{"$f":"Sheet3!B866","v":0},{"$f":"Sheet3!E866","v":0},{"$f":"Sheet3!F866","v":0},{"$f":"Sheet3!G866","v":0},{"$f":"Sheet3!H866","v":0},{"$f":"Sheet3!A866","v":0}]
[null,null,{"$f":"SUMIF(Sheet3!C867:C1298,B879,Sheet3!D867:D1298)","v":0},null,null,null,null,{"$f":"Sheet3!C867","v":0},{"$f":"Sheet3!B867","v":0},{"$f":"Sheet3!E867","v":0},{"$f":"Sheet3!F867","v":0},{"$f":"Sheet3!G867","v":0},{"$f":"Sheet3!H867","v":0},{"$f":"Sheet3!A867","v":0}]
[null,null,{"$f":"SUMIF(Sheet3!C868:C1299,B880,Sheet3!D868:D1299)","v":0},null,null,null,null,{"$f":"Sheet3!C868","v":0},{"$f":"Sheet3!B868","v":0},{"$f":"Sheet3!E868","v":0},{"$f":"Sheet3!F868","v":0},{"$f":"Sheet3!G868","v":0},{"$f":"Sheet3!H868","v":0},{"$f":"Sheet3!A868","v":0}]
[null,null,{"$f":"SUMIF(Sheet3!C869:C1300,B881,Sheet3!D869:D1300)","v":0},null,null,null,null,{"$f":"Sheet3!C869","v":0},{"$f":"Sheet3!B869","v":0},{"$f":"Sheet3!E869","v":0},{"$f":"Sheet3!F869","v":0},{"$f":"Sheet3!G869","v":0},{"$f":"Sheet3!H869","v":0},{"$f":"Sheet3!A869","v":0}]
[null,null,{"$f":"SUMIF(Sheet3!C870:C1301,B882,Sheet3!D870:D1301)","v":0},null,null,null,null,{"$f":"Sheet3!C870","v":0},{"$f":"Sheet3!B870","v":0},{"$f":"Sheet3!E870","v":0},{"$f":"Sheet3!F870","v":0},{"$f":"Sheet3!G870","v":0},{"$f":"Sheet3!H870","v":0},{"$f":"Sheet3!A870","v":0}]
[null,null,{"$f":"SUMIF(Sheet3!C871:C1302,B883,Sheet3!D871:D1302)","v":0},null,null,null,null,{"$f":"Sheet3!C871","v":0},{"$f":"Sheet3!B871","v":0},{"$f":"Sheet3!E871","v":0},{"$f":"Sheet3!F871","v":0},{"$f":"Sheet3!G871","v":0},{"$f":"Sheet3!H871","v":0},{"$f":"Sheet3!A871","v":0}]
[null,null,{"$f":"SUMIF(Sheet3!C872:C1303,B884,Sheet3!D872:D1303)","v":0},null,null,null,null,{"$f":"Sheet3!C872","v":0},{"$f":"Sheet3!B872","v":0},{"$f":"Sheet3!E872","v":0},{"$f":"Sheet3!F872","v":0},{"$f":"Sheet3!G872","v":0},{"$f":"Sheet3!H872","v":0},{"$f":"Sheet3!A872","v":0}]
[null,null,{"$f":"SUMIF(Sheet3!C873:C1304,B885,Sheet3!D873:D1304)","v":0},null,null,null,null,{"$f":"Sheet3!C873","v":0},{"$f":"Sheet3!B873","v":0},{"$f":"Sheet3!E873","v":0},{"$f":"Sheet3!F873","v":0},{"$f":"Sheet3!G873","v":0},{"$f":"Sheet3!H873","v":0},{"$f":"Sheet3!A873","v":0}]
[null,null,{"$f":"SUMIF(Sheet3!C874:C1305,B886,Sheet3!D874:D1305)","v":0},null,null,null,null,{"$f":"Sheet3!C874","v":0},{"$f":"Sheet3!B874","v":0},{"$f":"Sheet3!E874","v":0},{"$f":"Sheet3!F874","v":0},{"$f":"Sheet3!G874","v":0},{"$f":"Sheet3!H874","v":0},{"$f":"Sheet3!A874","v":0}]
[null,null,{"$f":"SUMIF(Sheet3!C875:C1306,B887,Sheet3!D875:D1306)","v":0},null,null,null,null,{"$f":"Sheet3!C875","v":0},{"$f":"Sheet3!B875","v":0},{"$f":"Sheet3!E875","v":0},{"$f":"Sheet3!F875","v":0},{"$f":"Sheet3!G875","v":0},{"$f":"Sheet3!H875","v":0},{"$f":"Sheet3!A875","v":0}]
[null,null,{"$f":"SUMIF(Sheet3!C876:C1307,B888,Sheet3!D876:D1307)","v":0},null,null,null,null,{"$f":"Sheet3!C876","v":0},{"$f":"Sheet3!B876","v":0},{"$f":"Sheet3!E876","v":0},{"$f":"Sheet3!F876","v":0},{"$f":"Sheet3!G876","v":0},{"$f":"Sheet3!H876","v":0},{"$f":"Sheet3!A876","v":0}]
[null,null,{"$f":"SUMIF(Sheet3!C877:C1308,B889,Sheet3!D877:D1308)","v":0},null,null,null,null,{"$f":"Sheet3!C877","v":0},{"$f":"Sheet3!B877","v":0},{"$f":"Sheet3!E877","v":0},{"$f":"Sheet3!F877","v":0},{"$f":"Sheet3!G877","v":0},{"$f":"Sheet3!H877","v":0},{"$f":"Sheet3!A877","v":0}]
[null,null,{"$f":"SUMIF(Sheet3!C878:C1309,B890,Sheet3!D878:D1309)","v":0},null,null,null,null,{"$f":"Sheet3!C878","v":0},{"$f":"Sheet3!B878","v":0},{"$f":"Sheet3!E878","v":0},{"$f":"Sheet3!F878","v":0},{"$f":"Sheet3!G878","v":0},{"$f":"Sheet3!H878","v":0},{"$f":"Sheet3!A878","v":0}]
[null,null,{"$f":"SUMIF(Sheet3!C879:C1310,B891,Sheet3!D879:D1310)","v":0},null,null,null,null,{"$f":"Sheet3!C879","v":0},{"$f":"Sheet3!B879","v":0},{"$f":"Sheet3!E879","v":0},{"$f":"Sheet3!F879","v":0},{"$f":"Sheet3!G879","v":0},{"$f":"Sheet3!H879","v":0},{"$f":"Sheet3!A879","v":0}]
[null,null,{"$f":"SUMIF(Sheet3!C880:C1311,B892,Sheet3!D880:D1311)","v":0},null,null,null,null,{"$f":"Sheet3!C880","v":0},{"$f":"Sheet3!B880","v":0},{"$f":"Sheet3!E880","v":0},{"$f":"Sheet3!F880","v":0},{"$f":"Sheet3!G880","v":0},{"$f":"Sheet3!H880","v":0},{"$f":"Sheet3!A880","v":0}]
[null,null,{"$f":"SUMIF(Sheet3!C881:C1312,B893,Sheet3!D881:D1312)","v":0},null,null,null,null,{"$f":"Sheet3!C881","v":0},{"$f":"Sheet3!B881","v":0},{"$f":"Sheet3!E881","v":0},{"$f":"Sheet3!F881","v":0},{"$f":"Sheet3!G881","v":0},{"$f":"Sheet3!H881","v":0},{"$f":"Sheet3!A881","v":0}]
[null,null,{"$f":"SUMIF(Sheet3!C882:C1313,B894,Sheet3!D882:D1313)","v":0},null,null,null,null,{"$f":"Sheet3!C882","v":0},{"$f":"Sheet3!B882","v":0},{"$f":"Sheet3!E882","v":0},{"$f":"Sheet3!F882","v":0},{"$f":"Sheet3!G882","v":0},{"$f":"Sheet3!H882","v":0},{"$f":"Sheet3!A882","v":0}]
[null,null,{"$f":"SUMIF(Sheet3!C883:C1314,B895,Sheet3!D883:D1314)","v":0},null,null,null,null,{"$f":"Sheet3!C883","v":0},{"$f":"Sheet3!B883","v":0},{"$f":"Sheet3!E883","v":0},{"$f":"Sheet3!F883","v":0},{"$f":"Sheet3!G883","v":0},{"$f":"Sheet3!H883","v":0},{"$f":"Sheet3!A883","v":0}]
[null,null,{"$f":"SUMIF(Sheet3!C884:C1315,B896,Sheet3!D884:D1315)","v":0},null,null,null,null,{"$f":"Sheet3!C884","v":0},{"$f":"Sheet3!B884","v":0},{"$f":"Sheet3!E884","v":0},{"$f":"Sheet3!F884","v":0},{"$f":"Sheet3!G884","v":0},{"$f":"Sheet3!H884","v":0},{"$f":"Sheet3!A884","v":0}]
[null,null,{"$f":"SUMIF(Sheet3!C885:C1316,B897,Sheet3!D885:D1316)","v":0},null,null,null,null,{"$f":"Sheet3!C885","v":0},{"$f":"Sheet3!B885","v":0},{"$f":"Sheet3!E885","v":0},{"$f":"Sheet3!F885","v":0},{"$f":"Sheet3!G885","v":0},{"$f":"Sheet3!H885","v":0},{"$f":"Sheet3!A885","v":0}]
[null,null,{"$f":"SUMIF(Sheet3!C886:C1317,B898,Sheet3!D886:D1317)","v":0},null,null,null,null,{"$f":"Sheet3!C886","v":0},{"$f":"Sheet3!B886","v":0},{"$f":"Sheet3!E886","v":0},{"$f":"Sheet3!F886","v":0},{"$f":"Sheet3!G886","v":0},{"$f":"Sheet3!H886","v":0},{"$f":"Sheet3!A886","v":0}]
[null,null,{"$f":"SUMIF(Sheet3!C887:C1318,B899,Sheet3!D887:D1318)","v":0},null,null,null,null,{"$f":"Sheet3!C887","v":0},{"$f":"Sheet3!B887","v":0},{"$f":"Sheet3!E887","v":0},{"$f":"Sheet3!F887","v":0},{"$f":"Sheet3!G887","v":0},{"$f":"Sheet3!H887","v":0},{"$f":"Sheet3!A887","v":0}]
[null,null,{"$f":"SUMIF(Sheet3!C888:C1319,B900,Sheet3!D888:D1319)","v":0},null,null,null,null,{"$f":"Sheet3!C888","v":0},{"$f":"Sheet3!B888","v":0},{"$f":"Sheet3!E888","v":0},{"$f":"Sheet3!F888","v":0},{"$f":"Sheet3!G888","v":0},{"$f":"Sheet3!H888","v":0},{"$f":"Sheet3!A888","v":0}]
[null,null,{"$f":"SUMIF(Sheet3!C889:C1320,B901,Sheet3!D889:D1320)","v":0},null,null,null,null,{"$f":"Sheet3!C889","v":0},{"$f":"Sheet3!B889","v":0},{"$f":"Sheet3!E889","v":0},{"$f":"Sheet3!F889","v":0},{"$f":"Sheet3!G889","v":0},{"$f":"Sheet3!H889","v":0},{"$f":"Sheet3!A889","v":0}]
[null,null,{"$f":"SUMIF(Sheet3!C890:C1321,B902,Sheet3!D890:D1321)","v":0},null,null,null,null,{"$f":"Sheet3!C890","v":0},{"$f":"Sheet3!B890","v":0},{"$f":"Sheet3!E890","v":0},{"$f":"Sheet3!F890","v":0},{"$f":"Sheet3!G890","v":0},{"$f":"Sheet3!H890","v":0},{"$f":"Sheet3!A890","v":0}]
[null,null,{"$f":"SUMIF(Sheet3!C891:C1322,B903,Sheet3!D891:D1322)","v":0},null,null,null,null,{"$f":"Sheet3!C891","v":0},{"$f":"Sheet3!B891","v":0},{"$f":"Sheet3!E891","v":0},{"$f":"Sheet3!F891","v":0},{"$f":"Sheet3!G891","v":0},{"$f":"Sheet3!H891","v":0},{"$f":"Sheet3!A891","v":0}]
[null,null,{"$f":"SUMIF(Sheet3!C892:C1323,B904,Sheet3!D892:D1323)","v":0},null,null,null,null,{"$f":"Sheet3!C892","v":0},{"$f":"Sheet3!B892","v":0},{"$f":"Sheet3!E892","v":0},{"$f":"Sheet3!F892","v":0},{"$f":"Sheet3!G892","v":0},{"$f":"Sheet3!H892","v":0},{"$f":"Sheet3!A892","v":0}]
[null,null,{"$f":"SUMIF(Sheet3!C893:C1324,B905,Sheet3!D893:D1324)","v":0},null,null,null,null,{"$f":"Sheet3!C893","v":0},{"$f":"Sheet3!B893","v":0},{"$f":"Sheet3!E893","v":0},{"$f":"Sheet3!F893","v":0},{"$f":"Sheet3!G893","v":0},{"$f":"Sheet3!H893","v":0},{"$f":"Sheet3!A893","v":0}]
[null,null,{"$f":"SUMIF(Sheet3!C894:C1325,B906,Sheet3!D894:D1325)","v":0},null,null,null,null,{"$f":"Sheet3!C894","v":0},{"$f":"Sheet3!B894","v":0},{"$f":"Sheet3!E894","v":0},{"$f":"Sheet3!F894","v":0},{"$f":"Sheet3!G894","v":0},{"$f":"Sheet3!H894","v":0},{"$f":"Sheet3!A894","v":0}]
[null,null,{"$f":"SUMIF(Sheet3!C895:C1326,B907,Sheet3!D895:D1326)","v":0},null,null,null,null,{"$f":"Sheet3!C895","v":0},{"$f":"Sheet3!B895","v":0},{"$f":"Sheet3!E895","v":0},{"$f":"Sheet3!F895","v":0},{"$f":"Sheet3!G895","v":0},{"$f":"Sheet3!H895","v":0},{"$f":"Sheet3!A895","v":0}]
[null,null,{"$f":"SUMIF(Sheet3!C896:C1327,B908,Sheet3!D896:D1327)","v":0},null,null,null,null,{"$f":"Sheet3!C896","v":0},{"$f":"Sheet3!B896","v":0},{"$f":"Sheet3!E896","v":0},{"$f":"Sheet3!F896","v":0},{"$f":"Sheet3!G896","v":0},{"$f":"Sheet3!H896","v":0},{"$f":"Sheet3!A896","v":0}]
[null,null,{"$f":"SUMIF(Sheet3!C897:C1328,B909,Sheet3!D897:D1328)","v":0},null,null,null,null,{"$f":"Sheet3!C897","v":0},{"$f":"Sheet3!B897","v":0},{"$f":"Sheet3!E897","v":0},{"$f":"Sheet3!F897","v":0},{"$f":"Sheet3!G897","v":0},{"$f":"Sheet3!H897","v":0},{"$f":"Sheet3!A897","v":0}]
[null,null,{"$f":"SUMIF(Sheet3!C898:C1329,B910,Sheet3!D898:D1329)","v":0},null,null,null,null,{"$f":"Sheet3!C898","v":0},{"$f":"Sheet3!B898","v":0},{"$f":"Sheet3!E898","v":0},{"$f":"Sheet3!F898","v":0},{"$f":"Sheet3!G898","v":0},{"$f":"Sheet3!H898","v":0},{"$f":"Sheet3!A898","v":0}]
[null,null,{"$f":"SUMIF(Sheet3!C899:C1330,B911,Sheet3!D899:D1330)","v":0},null,null,null,null,{"$f":"Sheet3!C899","v":0},{"$f":"Sheet3!B899","v":0},{"$f":"Sheet3!E899","v":0},{"$f":"Sheet3!F899","v":0},{"$f":"Sheet3!G899","v":0},{"$f":"Sheet3!H899","v":0},{"$f":"Sheet3!A899","v":0}]
[null,null,{"$f":"SUMIF(Sheet3!C900:C1331,B912,Sheet3!D900:D1331)","v":0},null,null,null,null,{"$f":"Sheet3!C900","v":0},{"$f":"Sheet3!B900","v":0},{"$f":"Sheet3!E900","v":0},{"$f":"Sheet3!F900","v":0},{"$f":"Sheet3!G900","v":0},{"$f":"Sheet3!H900","v":0},{"$f":"Sheet3!A900","v":0}]
[null,null,{"$f":"SUMIF(Sheet3!C901:C1332,B913,Sheet3!D901:D1332)","v":0},null,null,null,null,{"$f":"Sheet3!C901","v":0},{"$f":"Sheet3!B901","v":0},{"$f":"Sheet3!E901","v":0},{"$f":"Sheet3!F901","v":0},{"$f":"Sheet3!G901","v":0},{"$f":"Sheet3!H901","v":0},{"$f":"Sheet3!A901","v":0}]
[null,null,{"$f":"SUMIF(Sheet3!C902:C1333,B914,Sheet3!D902:D1333)","v":0},null,null,null,null,{"$f":"Sheet3!C902","v":0},{"$f":"Sheet3!B902","v":0},{"$f":"Sheet3!E902","v":0},{"$f":"Sheet3!F902","v":0},{"$f":"Sheet3!G902","v":0},{"$f":"Sheet3!H902","v":0},{"$f":"Sheet3!A902","v":0}]
[null,null,{"$f":"SUMIF(Sheet3!C903:C1334,B915,Sheet3!D903:D1334)","v":0},null,null,null,null,{"$f":"Sheet3!C903","v":0},{"$f":"Sheet3!B903","v":0},{"$f":"Sheet3!E903","v":0},{"$f":"Sheet3!F903","v":0},{"$f":"Sheet3!G903","v":0},{"$f":"Sheet3!H903","v":0},{"$f":"Sheet3!A903","v":0}]
[null,null,{"$f":"SUMIF(Sheet3!C904:C1335,B916,Sheet3!D904:D1335)","v":0},null,null,null,null,{"$f":"Sheet3!C904","v":0},{"$f":"Sheet3!B904","v":0},{"$f":"Sheet3!E904","v":0},{"$f":"Sheet3!F904","v":0},{"$f":"Sheet3!G904","v":0},{"$f":"Sheet3!H904","v":0},{"$f":"Sheet3!A904","v":0}]
[null,null,{"$f":"SUMIF(Sheet3!C905:C1336,B917,Sheet3!D905:D1336)","v":0},null,null,null,null,{"$f":"Sheet3!C905","v":0},{"$f":"Sheet3!B905","v":0},{"$f":"Sheet3!E905","v":0},{"$f":"Sheet3!F905","v":0},{"$f":"Sheet3!G905","v":0},{"$f":"Sheet3!H905","v":0},{"$f":"Sheet3!A905","v":0}]
[null,null,{"$f":"SUMIF(Sheet3!C906:C1337,B918,Sheet3!D906:D1337)","v":0},null,null,null,null,{"$f":"Sheet3!C906","v":0},{"$f":"Sheet3!B906","v":0},{"$f":"Sheet3!E906","v":0},{"$f":"Sheet3!F906","v":0},{"$f":"Sheet3!G906","v":0},{"$f":"Sheet3!H906","v":0},{"$f":"Sheet3!A906","v":0}]
[null,null,{"$f":"SUMIF(Sheet3!C907:C1338,B919,Sheet3!D907:D1338)","v":0},null,null,null,null,{"$f":"Sheet3!C907","v":0},{"$f":"Sheet3!B907","v":0},{"$f":"Sheet3!E907","v":0},{"$f":"Sheet3!F907","v":0},{"$f":"Sheet3!G907","v":0},{"$f":"Sheet3!H907","v":0},{"$f":"Sheet3!A907","v":0}]
[null,null,{"$f":"SUMIF(Sheet3!C908:C1339,B920,Sheet3!D908:D1339)","v":0},null,null,null,null,{"$f":"Sheet3!C908","v":0},{"$f":"Sheet3!B908","v":0},{"$f":"Sheet3!E908","v":0},{"$f":"Sheet3!F908","v":0},{"$f":"Sheet3!G908","v":0},{"$f":"Sheet3!H908","v":0},{"$f":"Sheet3!A908","v":0}]
[null,null,{"$f":"SUMIF(Sheet3!C909:C1340,B921,Sheet3!D909:D1340)","v":0},null,null,null,null,{"$f":"Sheet3!C909","v":0},{"$f":"Sheet3!B909","v":0},{"$f":"Sheet3!E909","v":0},{"$f":"Sheet3!F909","v":0},{"$f":"Sheet3!G909","v":0},{"$f":"Sheet3!H909","v":0},{"$f":"Sheet3!A909","v":0}]
[null,null,{"$f":"SUMIF(Sheet3!C910:C1341,B922,Sheet3!D910:D1341)","v":0},null,null,null,null,{"$f":"Sheet3!C910","v":0},{"$f":"Sheet3!B910","v":0},{"$f":"Sheet3!E910","v":0},{"$f":"Sheet3!F910","v":0},{"$f":"Sheet3!G910","v":0},{"$f":"Sheet3!H910","v":0},{"$f":"Sheet3!A910","v":0}]
[null,null,{"$f":"SUMIF(Sheet3!C911:C1342,B923,Sheet3!D911:D1342)","v":0},null,null,null,null,{"$f":"Sheet3!C911","v":0},{"$f":"Sheet3!B911","v":0},{"$f":"Sheet3!E911","v":0},{"$f":"Sheet3!F911","v":0},{"$f":"Sheet3!G911","v":0},{"$f":"Sheet3!H911","v":0},{"$f":"Sheet3!A911","v":0}]
[null,null,{"$f":"SUMIF(Sheet3!C912:C1343,B924,Sheet3!D912:D1343)","v":0},null,null,null,null,{"$f":"Sheet3!C912","v":0},{"$f":"Sheet3!B912","v":0},{"$f":"Sheet3!E912","v":0},{"$f":"Sheet3!F912","v":0},{"$f":"Sheet3!G912","v":0},{"$f":"Sheet3!H912","v":0},{"$f":"Sheet3!A912","v":0}]
[null,null,{"$f":"SUMIF(Sheet3!C913:C1344,B925,Sheet3!D913:D1344)","v":0},null,null,null,null,{"$f":"Sheet3!C913","v":0},{"$f":"Sheet3!B913","v":0},{"$f":"Sheet3!E913","v":0},{"$f":"Sheet3!F913","v":0},{"$f":"Sheet3!G913","v":0},{"$f":"Sheet3!H913","v":0},{"$f":"Sheet3!A913","v":0}]
[null,null,{"$f":"SUMIF(Sheet3!C914:C1345,B926,Sheet3!D914:D1345)","v":0},null,null,null,null,{"$f":"Sheet3!C914","v":0},{"$f":"Sheet3!B914","v":0},{"$f":"Sheet3!E914","v":0},{"$f":"Sheet3!F914","v":0},{"$f":"Sheet3!G914","v":0},{"$f":"Sheet3!H914","v":0},{"$f":"Sheet3!A914","v":0}]
[null,null,{"$f":"SUMIF(Sheet3!C915:C1346,B927,Sheet3!D915:D1346)","v":0},null,null,null,null,{"$f":"Sheet3!C915","v":0},{"$f":"Sheet3!B915","v":0},{"$f":"Sheet3!E915","v":0},{"$f":"Sheet3!F915","v":0},{"$f":"Sheet3!G915","v":0},{"$f":"Sheet3!H915","v":0},{"$f":"Sheet3!A915","v":0}]
[null,null,{"$f":"SUMIF(Sheet3!C916:C1347,B928,Sheet3!D916:D1347)","v":0},null,null,null,null,{"$f":"Sheet3!C916","v":0},{"$f":"Sheet3!B916","v":0},{"$f":"Sheet3!E916","v":0},{"$f":"Sheet3!F916","v":0},{"$f":"Sheet3!G916","v":0},{"$f":"Sheet3!H916","v":0},{"$f":"Sheet3!A916","v":0}]
[null,null,{"$f":"SUMIF(Sheet3!C917:C1348,B929,Sheet3!D917:D1348)","v":0},null,null,null,null,{"$f":"Sheet3!C917","v":0},{"$f":"Sheet3!B917","v":0},{"$f":"Sheet3!E917","v":0},{"$f":"Sheet3!F917","v":0},{"$f":"Sheet3!G917","v":0},{"$f":"Sheet3!H917","v":0},{"$f":"Sheet3!A917","v":0}]
[null,null,{"$f":"SUMIF(Sheet3!C918:C1349,B930,Sheet3!D918:D1349)","v":0},null,null,null,null,{"$f":"Sheet3!C918","v":0},{"$f":"Sheet3!B918","v":0},{"$f":"Sheet3!E918","v":0},{"$f":"Sheet3!F918","v":0},{"$f":"Sheet3!G918","v":0},{"$f":"Sheet3!H918","v":0},{"$f":"Sheet3!A918","v":0}]
[null,null,{"$f":"SUMIF(Sheet3!C919:C1350,B931,Sheet3!D919:D1350)","v":0},null,null,null,null,{"$f":"Sheet3!C919","v":0},{"$f":"Sheet3!B919","v":0},{"$f":"Sheet3!E919","v":0},{"$f":"Sheet3!F919","v":0},{"$f":"Sheet3!G919","v":0},{"$f":"Sheet3!H919","v":0},{"$f":"Sheet3!A919","v":0}]
[null,null,{"$f":"SUMIF(Sheet3!C920:C1351,B932,Sheet3!D920:D1351)","v":0},null,null,null,null,{"$f":"Sheet3!C920","v":0},{"$f":"Sheet3!B920","v":0},{"$f":"Sheet3!E920","v":0},{"$f":"Sheet3!F920","v":0},{"$f":"Sheet3!G920","v":0},{"$f":"Sheet3!H920","v":0},{"$f":"Sheet3!A920","v":0}]
[null,null,{"$f":"SUMIF(Sheet3!C921:C1352,B933,Sheet3!D921:D1352)","v":0},null,null,null,null,{"$f":"Sheet3!C921","v":0},{"$f":"Sheet3!B921","v":0},{"$f":"Sheet3!E921","v":0},{"$f":"Sheet3!F921","v":0},{"$f":"Sheet3!G921","v":0},{"$f":"Sheet3!H921","v":0},{"$f":"Sheet3!A921","v":0}]
[null,null,{"$f":"SUMIF(Sheet3!C922:C1353,B934,Sheet3!D922:D1353)","v":0},null,null,null,null,{"$f":"Sheet3!C922","v":0},{"$f":"Sheet3!B922","v":0},{"$f":"Sheet3!E922","v":0},{"$f":"Sheet3!F922","v":0},{"$f":"Sheet3!G922","v":0},{"$f":"Sheet3!H922","v":0},{"$f":"Sheet3!A922","v":0}]
[null,null,{"$f":"SUMIF(Sheet3!C923:C1354,B935,Sheet3!D923:D1354)","v":0},null,null,null,null,{"$f":"Sheet3!C923","v":0},{"$f":"Sheet3!B923","v":0},{"$f":"Sheet3!E923","v":0},{"$f":"Sheet3!F923","v":0},{"$f":"Sheet3!G923","v":0},{"$f":"Sheet3!H923","v":0},{"$f":"Sheet3!A923","v":0}]
[null,null,{"$f":"SUMIF(Sheet3!C924:C1355,B936,Sheet3!D924:D1355)","v":0},null,null,null,null,{"$f":"Sheet3!C924","v":0},{"$f":"Sheet3!B924","v":0},{"$f":"Sheet3!E924","v":0},{"$f":"Sheet3!F924","v":0},{"$f":"Sheet3!G924","v":0},{"$f":"Sheet3!H924","v":0},{"$f":"Sheet3!A924","v":0}]
[null,null,{"$f":"SUMIF(Sheet3!C925:C1356,B937,Sheet3!D925:D1356)","v":0},null,null,null,null,{"$f":"Sheet3!C925","v":0},{"$f":"Sheet3!B925","v":0},{"$f":"Sheet3!E925","v":0},{"$f":"Sheet3!F925","v":0},{"$f":"Sheet3!G925","v":0},{"$f":"Sheet3!H925","v":0},{"$f":"Sheet3!A925","v":0}]
[null,null,{"$f":"SUMIF(Sheet3!C926:C1357,B938,Sheet3!D926:D1357)","v":0},null,null,null,null,{"$f":"Sheet3!C926","v":0},{"$f":"Sheet3!B926","v":0},{"$f":"Sheet3!E926","v":0},{"$f":"Sheet3!F926","v":0},{"$f":"Sheet3!G926","v":0},{"$f":"Sheet3!H926","v":0},{"$f":"Sheet3!A926","v":0}]
[null,null,{"$f":"SUMIF(Sheet3!C927:C1358,B939,Sheet3!D927:D1358)","v":0},null,null,null,null,{"$f":"Sheet3!C927","v":0},{"$f":"Sheet3!B927","v":0},{"$f":"Sheet3!E927","v":0},{"$f":"Sheet3!F927","v":0},{"$f":"Sheet3!G927","v":0},{"$f":"Sheet3!H927","v":0},{"$f":"Sheet3!A927","v":0}]
[null,null,{"$f":"SUMIF(Sheet3!C928:C1359,B940,Sheet3!D928:D1359)","v":0},null,null,null,null,{"$f":"Sheet3!C928","v":0},{"$f":"Sheet3!B928","v":0},{"$f":"Sheet3!E928","v":0},{"$f":"Sheet3!F928","v":0},{"$f":"Sheet3!G928","v":0},{"$f":"Sheet3!H928","v":0},{"$f":"Sheet3!A928","v":0}]
[null,null,{"$f":"SUMIF(Sheet3!C929:C1360,B941,Sheet3!D929:D1360)","v":0},null,null,null,null,{"$f":"Sheet3!C929","v":0},{"$f":"Sheet3!B929","v":0},{"$f":"Sheet3!E929","v":0},{"$f":"Sheet3!F929","v":0},{"$f":"Sheet3!G929","v":0},{"$f":"Sheet3!H929","v":0},{"$f":"Sheet3!A929","v":0}]
[null,null,{"$f":"SUMIF(Sheet3!C930:C1361,B942,Sheet3!D930:D1361)","v":0},null,null,null,null,{"$f":"Sheet3!C930","v":0},{"$f":"Sheet3!B930","v":0},{"$f":"Sheet3!E930","v":0},{"$f":"Sheet3!F930","v":0},{"$f":"Sheet3!G930","v":0},{"$f":"Sheet3!H930","v":0},{"$f":"Sheet3!A930","v":0}]
[null,null,{"$f":"SUMIF(Sheet3!C931:C1362,B943,Sheet3!D931:D1362)","v":0},null,null,null,null,{"$f":"Sheet3!C931","v":0},{"$f":"Sheet3!B931","v":0},{"$f":"Sheet3!E931","v":0},{"$f":"Sheet3!F931","v":0},{"$f":"Sheet3!G931","v":0},{"$f":"Sheet3!H931","v":0},{"$f":"Sheet3!A931","v":0}]
[null,null,{"$f":"SUMIF(Sheet3!C932:C1363,B944,Sheet3!D932:D1363)","v":0},null,null,null,null,{"$f":"Sheet3!C932","v":0},{"$f":"Sheet3!B932","v":0},{"$f":"Sheet3!E932","v":0},{"$f":"Sheet3!F932","v":0},{"$f":"Sheet3!G932","v":0},{"$f":"Sheet3!H932","v":0},{"$f":"Sheet3!A932","v":0}]
[null,null,{"$f":"SUMIF(Sheet3!C933:C1364,B945,Sheet3!D933:D1364)","v":0},null,null,null,null,{"$f":"Sheet3!C933","v":0},{"$f":"Sheet3!B933","v":0},{"$f":"Sheet3!E933","v":0},{"$f":"Sheet3!F933","v":0},{"$f":"Sheet3!G933","v":0},{"$f":"Sheet3!H933","v":0},{"$f":"Sheet3!A933","v":0}]
[null,null,{"$f":"SUMIF(Sheet3!C934:C1365,B946,Sheet3!D934:D1365)","v":0},null,null,null,null,{"$f":"Sheet3!C934","v":0},{"$f":"Sheet3!B934","v":0},{"$f":"Sheet3!E934","v":0},{"$f":"Sheet3!F934","v":0},{"$f":"Sheet3!G934","v":0},{"$f":"Sheet3!H934","v":0},{"$f":"Sheet3!A934","v":0}]
[null,null,{"$f":"SUMIF(Sheet3!C935:C1366,B947,Sheet3!D935:D1366)","v":0},null,null,null,null,{"$f":"Sheet3!C935","v":0},{"$f":"Sheet3!B935","v":0},{"$f":"Sheet3!E935","v":0},{"$f":"Sheet3!F935","v":0},{"$f":"Sheet3!G935","v":0},{"$f":"Sheet3!H935","v":0},{"$f":"Sheet3!A935","v":0}]
[null,null,{"$f":"SUMIF(Sheet3!C936:C1367,B948,Sheet3!D936:D1367)","v":0},null,null,null,null,{"$f":"Sheet3!C936","v":0},{"$f":"Sheet3!B936","v":0},{"$f":"Sheet3!E936","v":0},{"$f":"Sheet3!F936","v":0},{"$f":"Sheet3!G936","v":0},{"$f":"Sheet3!H936","v":0},{"$f":"Sheet3!A936","v":0}]
[null,null,{"$f":"SUMIF(Sheet3!C937:C1368,B949,Sheet3!D937:D1368)","v":0},null,null,null,null,{"$f":"Sheet3!C937","v":0},{"$f":"Sheet3!B937","v":0},{"$f":"Sheet3!E937","v":0},{"$f":"Sheet3!F937","v":0},{"$f":"Sheet3!G937","v":0},{"$f":"Sheet3!H937","v":0},{"$f":"Sheet3!A937","v":0}]
[null,null,{"$f":"SUMIF(Sheet3!C938:C1369,B950,Sheet3!D938:D1369)","v":0},null,null,null,null,{"$f":"Sheet3!C938","v":0},{"$f":"Sheet3!B938","v":0},{"$f":"Sheet3!E938","v":0},{"$f":"Sheet3!F938","v":0},{"$f":"Sheet3!G938","v":0},{"$f":"Sheet3!H938","v":0},{"$f":"Sheet3!A938","v":0}]
[null,null,{"$f":"SUMIF(Sheet3!C939:C1370,B951,Sheet3!D939:D1370)","v":0},null,null,null,null,{"$f":"Sheet3!C939","v":0},{"$f":"Sheet3!B939","v":0},{"$f":"Sheet3!E939","v":0},{"$f":"Sheet3!F939","v":0},{"$f":"Sheet3!G939","v":0},{"$f":"Sheet3!H939","v":0},{"$f":"Sheet3!A939","v":0}]
[null,null,{"$f":"SUMIF(Sheet3!C940:C1371,B952,Sheet3!D940:D1371)","v":0},null,null,null,null,{"$f":"Sheet3!C940","v":0},{"$f":"Sheet3!B940","v":0},{"$f":"Sheet3!E940","v":0},{"$f":"Sheet3!F940","v":0},{"$f":"Sheet3!G940","v":0},{"$f":"Sheet3!H940","v":0},{"$f":"Sheet3!A940","v":0}]
[null,null,{"$f":"SUMIF(Sheet3!C941:C1372,B953,Sheet3!D941:D1372)","v":0},null,null,null,null,{"$f":"Sheet3!C941","v":0},{"$f":"Sheet3!B941","v":0},{"$f":"Sheet3!E941","v":0},{"$f":"Sheet3!F941","v":0},{"$f":"Sheet3!G941","v":0},{"$f":"Sheet3!H941","v":0},{"$f":"Sheet3!A941","v":0}]
[null,null,{"$f":"SUMIF(Sheet3!C942:C1373,B954,Sheet3!D942:D1373)","v":0},null,null,null,null,{"$f":"Sheet3!C942","v":0},{"$f":"Sheet3!B942","v":0},{"$f":"Sheet3!E942","v":0},{"$f":"Sheet3!F942","v":0},{"$f":"Sheet3!G942","v":0},{"$f":"Sheet3!H942","v":0},{"$f":"Sheet3!A942","v":0}]
[null,null,{"$f":"SUMIF(Sheet3!C943:C1374,B955,Sheet3!D943:D1374)","v":0},null,null,null,null,{"$f":"Sheet3!C943","v":0},{"$f":"Sheet3!B943","v":0},{"$f":"Sheet3!E943","v":0},{"$f":"Sheet3!F943","v":0},{"$f":"Sheet3!G943","v":0},{"$f":"Sheet3!H943","v":0},{"$f":"Sheet3!A943","v":0}]
[null,null,{"$f":"SUMIF(Sheet3!C944:C1375,B956,Sheet3!D944:D1375)","v":0},null,null,null,null,{"$f":"Sheet3!C944","v":0},{"$f":"Sheet3!B944","v":0},{"$f":"Sheet3!E944","v":0},{"$f":"Sheet3!F944","v":0},{"$f":"Sheet3!G944","v":0},{"$f":"Sheet3!H944","v":0},{"$f":"Sheet3!A944","v":0}]
[null,null,{"$f":"SUMIF(Sheet3!C945:C1376,B957,Sheet3!D945:D1376)","v":0},null,null,null,null,{"$f":"Sheet3!C945","v":0},{"$f":"Sheet3!B945","v":0},{"$f":"Sheet3!E945","v":0},{"$f":"Sheet3!F945","v":0},{"$f":"Sheet3!G945","v":0},{"$f":"Sheet3!H945","v":0},{"$f":"Sheet3!A945","v":0}]
[null,null,{"$f":"SUMIF(Sheet3!C946:C1377,B958,Sheet3!D946:D1377)","v":0},null,null,null,null,{"$f":"Sheet3!C946","v":0},{"$f":"Sheet3!B946","v":0},{"$f":"Sheet3!E946","v":0},{"$f":"Sheet3!F946","v":0},{"$f":"Sheet3!G946","v":0},{"$f":"Sheet3!H946","v":0},{"$f":"Sheet3!A946","v":0}]
[null,null,{"$f":"SUMIF(Sheet3!C947:C1378,B959,Sheet3!D947:D1378)","v":0},null,null,null,null,{"$f":"Sheet3!C947","v":0},{"$f":"Sheet3!B947","v":0},{"$f":"Sheet3!E947","v":0},{"$f":"Sheet3!F947","v":0},{"$f":"Sheet3!G947","v":0},{"$f":"Sheet3!H947","v":0},{"$f":"Sheet3!A947","v":0}]
[null,null,{"$f":"SUMIF(Sheet3!C948:C1379,B960,Sheet3!D948:D1379)","v":0},null,null,null,null,{"$f":"Sheet3!C948","v":0},{"$f":"Sheet3!B948","v":0},{"$f":"Sheet3!E948","v":0},{"$f":"Sheet3!F948","v":0},{"$f":"Sheet3!G948","v":0},{"$f":"Sheet3!H948","v":0},{"$f":"Sheet3!A948","v":0}]
[null,null,{"$f":"SUMIF(Sheet3!C949:C1380,B961,Sheet3!D949:D1380)","v":0},null,null,null,null,{"$f":"Sheet3!C949","v":0},{"$f":"Sheet3!B949","v":0},{"$f":"Sheet3!E949","v":0},{"$f":"Sheet3!F949","v":0},{"$f":"Sheet3!G949","v":0},{"$f":"Sheet3!H949","v":0},{"$f":"Sheet3!A949","v":0}]
[null,null,{"$f":"SUMIF(Sheet3!C950:C1381,B962,Sheet3!D950:D1381)","v":0},null,null,null,null,{"$f":"Sheet3!C950","v":0},{"$f":"Sheet3!B950","v":0},{"$f":"Sheet3!E950","v":0},{"$f":"Sheet3!F950","v":0},{"$f":"Sheet3!G950","v":0},{"$f":"Sheet3!H950","v":0},{"$f":"Sheet3!A950","v":0}]
[null,null,{"$f":"SUMIF(Sheet3!C951:C1382,B963,Sheet3!D951:D1382)","v":0},null,null,null,null,{"$f":"Sheet3!C951","v":0},{"$f":"Sheet3!B951","v":0},{"$f":"Sheet3!E951","v":0},{"$f":"Sheet3!F951","v":0},{"$f":"Sheet3!G951","v":0},{"$f":"Sheet3!H951","v":0},{"$f":"Sheet3!A951","v":0}]
[null,null,{"$f":"SUMIF(Sheet3!C952:C1383,B964,Sheet3!D952:D1383)","v":0},null,null,null,null,{"$f":"Sheet3!C952","v":0},{"$f":"Sheet3!B952","v":0},{"$f":"Sheet3!E952","v":0},{"$f":"Sheet3!F952","v":0},{"$f":"Sheet3!G952","v":0},{"$f":"Sheet3!H952","v":0},{"$f":"Sheet3!A952","v":0}]
[null,null,{"$f":"SUMIF(Sheet3!C953:C1384,B965,Sheet3!D953:D1384)","v":0},null,null,null,null,{"$f":"Sheet3!C953","v":0},{"$f":"Sheet3!B953","v":0},{"$f":"Sheet3!E953","v":0},{"$f":"Sheet3!F953","v":0},{"$f":"Sheet3!G953","v":0},{"$f":"Sheet3!H953","v":0},{"$f":"Sheet3!A953","v":0}]
[null,null,{"$f":"SUMIF(Sheet3!C954:C1385,B966,Sheet3!D954:D1385)","v":0},null,null,null,null,{"$f":"Sheet3!C954","v":0},{"$f":"Sheet3!B954","v":0},{"$f":"Sheet3!E954","v":0},{"$f":"Sheet3!F954","v":0},{"$f":"Sheet3!G954","v":0},{"$f":"Sheet3!H954","v":0},{"$f":"Sheet3!A954","v":0}]
[null,null,{"$f":"SUMIF(Sheet3!C955:C1386,B967,Sheet3!D955:D1386)","v":0},null,null,null,null,{"$f":"Sheet3!C955","v":0},{"$f":"Sheet3!B955","v":0},{"$f":"Sheet3!E955","v":0},{"$f":"Sheet3!F955","v":0},{"$f":"Sheet3!G955","v":0},{"$f":"Sheet3!H955","v":0},{"$f":"Sheet3!A955","v":0}]
[null,null,{"$f":"SUMIF(Sheet3!C956:C1387,B968,Sheet3!D956:D1387)","v":0},null,null,null,null,{"$f":"Sheet3!C956","v":0},{"$f":"Sheet3!B956","v":0},{"$f":"Sheet3!E956","v":0},{"$f":"Sheet3!F956","v":0},{"$f":"Sheet3!G956","v":0},{"$f":"Sheet3!H956","v":0},{"$f":"Sheet3!A956","v":0}]
[null,null,{"$f":"SUMIF(Sheet3!C957:C1388,B969,Sheet3!D957:D1388)","v":0},null,null,null,null,{"$f":"Sheet3!C957","v":0},{"$f":"Sheet3!B957","v":0},{"$f":"Sheet3!E957","v":0},{"$f":"Sheet3!F957","v":0},{"$f":"Sheet3!G957","v":0},{"$f":"Sheet3!H957","v":0},{"$f":"Sheet3!A957","v":0}]
[null,null,{"$f":"SUMIF(Sheet3!C958:C1389,B970,Sheet3!D958:D1389)","v":0},null,null,null,null,{"$f":"Sheet3!C958","v":0},{"$f":"Sheet3!B958","v":0},{"$f":"Sheet3!E958","v":0},{"$f":"Sheet3!F958","v":0},{"$f":"Sheet3!G958","v":0},{"$f":"Sheet3!H958","v":0},{"$f":"Sheet3!A958","v":0}]
[null,null,{"$f":"SUMIF(Sheet3!C959:C1390,B971,Sheet3!D959:D1390)","v":0},null,null,null,null,{"$f":"Sheet3!C959","v":0},{"$f":"Sheet3!B959","v":0},{"$f":"Sheet3!E959","v":0},{"$f":"Sheet3!F959","v":0},{"$f":"Sheet3!G959","v":0},{"$f":"Sheet3!H959","v":0},{"$f":"Sheet3!A959","v":0}]
[null,null,{"$f":"SUMIF(Sheet3!C960:C1391,B972,Sheet3!D960:D1391)","v":0},null,null,null,null,{"$f":"Sheet3!C960","v":0},{"$f":"Sheet3!B960","v":0},{"$f":"Sheet3!E960","v":0},{"$f":"Sheet3!F960","v":0},{"$f":"Sheet3!G960","v":0},{"$f":"Sheet3!H960","v":0},{"$f":"Sheet3!A960","v":0}]
[null,null,{"$f":"SUMIF(Sheet3!C961:C1392,B973,Sheet3!D961:D1392)","v":0},null,null,null,null,{"$f":"Sheet3!C961","v":0},{"$f":"Sheet3!B961","v":0},{"$f":"Sheet3!E961","v":0},{"$f":"Sheet3!F961","v":0},{"$f":"Sheet3!G961","v":0},{"$f":"Sheet3!H961","v":0},{"$f":"Sheet3!A961","v":0}]
[null,null,{"$f":"SUMIF(Sheet3!C962:C1393,B974,Sheet3!D962:D1393)","v":0},null,null,null,null,{"$f":"Sheet3!C962","v":0},{"$f":"Sheet3!B962","v":0},{"$f":"Sheet3!E962","v":0},{"$f":"Sheet3!F962","v":0},{"$f":"Sheet3!G962","v":0},{"$f":"Sheet3!H962","v":0},{"$f":"Sheet3!A962","v":0}]
[null,null,{"$f":"SUMIF(Sheet3!C963:C1394,B975,Sheet3!D963:D1394)","v":0},null,null,null,null,{"$f":"Sheet3!C963","v":0},{"$f":"Sheet3!B963","v":0},{"$f":"Sheet3!E963","v":0},{"$f":"Sheet3!F963","v":0},{"$f":"Sheet3!G963","v":0},{"$f":"Sheet3!H963","v":0},{"$f":"Sheet3!A963","v":0}]
[null,null,{"$f":"SUMIF(Sheet3!C964:C1395,B976,Sheet3!D964:D1395)","v":0},null,null,null,null,{"$f":"Sheet3!C964","v":0},{"$f":"Sheet3!B964","v":0},{"$f":"Sheet3!E964","v":0},{"$f":"Sheet3!F964","v":0},{"$f":"Sheet3!G964","v":0},{"$f":"Sheet3!H964","v":0},{"$f":"Sheet3!A964","v":0}]
[null,null,{"$f":"SUMIF(Sheet3!C965:C1396,B977,Sheet3!D965:D1396)","v":0},null,null,null,null,{"$f":"Sheet3!C965","v":0},{"$f":"Sheet3!B965","v":0},{"$f":"Sheet3!E965","v":0},{"$f":"Sheet3!F965","v":0},{"$f":"Sheet3!G965","v":0},{"$f":"Sheet3!H965","v":0},{"$f":"Sheet3!A965","v":0}]
[null,null,{"$f":"SUMIF(Sheet3!C966:C1397,B978,Sheet3!D966:D1397)","v":0},null,null,null,null,{"$f":"Sheet3!C966","v":0},{"$f":"Sheet3!B966","v":0},{"$f":"Sheet3!E966","v":0},{"$f":"Sheet3!F966","v":0},{"$f":"Sheet3!G966","v":0},{"$f":"Sheet3!H966","v":0},{"$f":"Sheet3!A966","v":0}]
[null,null,{"$f":"SUMIF(Sheet3!C967:C1398,B979,Sheet3!D967:D1398)","v":0},null,null,null,null,{"$f":"Sheet3!C967","v":0},{"$f":"Sheet3!B967","v":0},{"$f":"Sheet3!E967","v":0},{"$f":"Sheet3!F967","v":0},{"$f":"Sheet3!G967","v":0},{"$f":"Sheet3!H967","v":0},{"$f":"Sheet3!A967","v":0}]
[null,null,{"$f":"SUMIF(Sheet3!C968:C1399,B980,Sheet3!D968:D1399)","v":0},null,null,null,null,{"$f":"Sheet3!C968","v":0},{"$f":"Sheet3!B968","v":0},{"$f":"Sheet3!E968","v":0},{"$f":"Sheet3!F968","v":0},{"$f":"Sheet3!G968","v":0},{"$f":"Sheet3!H968","v":0},{"$f":"Sheet3!A968","v":0}]
[null,null,{"$f":"SUMIF(Sheet3!C969:C1400,B981,Sheet3!D969:D1400)","v":0},null,null,null,null,{"$f":"Sheet3!C969","v":0},{"$f":"Sheet3!B969","v":0},{"$f":"Sheet3!E969","v":0},{"$f":"Sheet3!F969","v":0},{"$f":"Sheet3!G969","v":0},{"$f":"Sheet3!H969","v":0},{"$f":"Sheet3!A969","v":0}]
[null,null,{"$f":"SUMIF(Sheet3!C970:C1401,B982,Sheet3!D970:D1401)","v":0},null,null,null,null,{"$f":"Sheet3!C970","v":0},{"$f":"Sheet3!B970","v":0},{"$f":"Sheet3!E970","v":0},{"$f":"Sheet3!F970","v":0},{"$f":"Sheet3!G970","v":0},{"$f":"Sheet3!H970","v":0},{"$f":"Sheet3!A970","v":0}]
[null,null,{"$f":"SUMIF(Sheet3!C971:C1402,B983,Sheet3!D971:D1402)","v":0},null,null,null,null,{"$f":"Sheet3!C971","v":0},{"$f":"Sheet3!B971","v":0},{"$f":"Sheet3!E971","v":0},{"$f":"Sheet3!F971","v":0},{"$f":"Sheet3!G971","v":0},{"$f":"Sheet3!H971","v":0},{"$f":"Sheet3!A971","v":0}]
[null,null,{"$f":"SUMIF(Sheet3!C972:C1403,B984,Sheet3!D972:D1403)","v":0},null,null,null,null,{"$f":"Sheet3!C972","v":0},{"$f":"Sheet3!B972","v":0},{"$f":"Sheet3!E972","v":0},{"$f":"Sheet3!F972","v":0},{"$f":"Sheet3!G972","v":0},{"$f":"Sheet3!H972","v":0},{"$f":"Sheet3!A972","v":0}]
[null,null,{"$f":"SUMIF(Sheet3!C973:C1404,B985,Sheet3!D973:D1404)","v":0},null,null,null,null,{"$f":"Sheet3!C973","v":0},{"$f":"Sheet3!B973","v":0},{"$f":"Sheet3!E973","v":0},{"$f":"Sheet3!F973","v":0},{"$f":"Sheet3!G973","v":0},{"$f":"Sheet3!H973","v":0},{"$f":"Sheet3!A973","v":0}]
[null,null,{"$f":"SUMIF(Sheet3!C974:C1405,B986,Sheet3!D974:D1405)","v":0},null,null,null,null,{"$f":"Sheet3!C974","v":0},{"$f":"Sheet3!B974","v":0},{"$f":"Sheet3!E974","v":0},{"$f":"Sheet3!F974","v":0},{"$f":"Sheet3!G974","v":0},{"$f":"Sheet3!H974","v":0},{"$f":"Sheet3!A974","v":0}]
[null,null,{"$f":"SUMIF(Sheet3!C975:C1406,B987,Sheet3!D975:D1406)","v":0},null,null,null,null,{"$f":"Sheet3!C975","v":0},{"$f":"Sheet3!B975","v":0},{"$f":"Sheet3!E975","v":0},{"$f":"Sheet3!F975","v":0},{"$f":"Sheet3!G975","v":0},{"$f":"Sheet3!H975","v":0},{"$f":"Sheet3!A975","v":0}]
[null,null,{"$f":"SUMIF(Sheet3!C976:C1407,B988,Sheet3!D976:D1407)","v":0},null,null,null,null,{"$f":"Sheet3!C976","v":0},{"$f":"Sheet3!B976","v":0},{"$f":"Sheet3!E976","v":0},{"$f":"Sheet3!F976","v":0},{"$f":"Sheet3!G976","v":0},{"$f":"Sheet3!H976","v":0},{"$f":"Sheet3!A976","v":0}]
[null,null,{"$f":"SUMIF(Sheet3!C977:C1408,B989,Sheet3!D977:D1408)","v":0},null,null,null,null,{"$f":"Sheet3!C977","v":0},{"$f":"Sheet3!B977","v":0},{"$f":"Sheet3!E977","v":0},{"$f":"Sheet3!F977","v":0},{"$f":"Sheet3!G977","v":0},{"$f":"Sheet3!H977","v":0},{"$f":"Sheet3!A977","v":0}]
[null,null,{"$f":"SUMIF(Sheet3!C978:C1409,B990,Sheet3!D978:D1409)","v":0},null,null,null,null,{"$f":"Sheet3!C978","v":0},{"$f":"Sheet3!B978","v":0},{"$f":"Sheet3!E978","v":0},{"$f":"Sheet3!F978","v":0},{"$f":"Sheet3!G978","v":0},{"$f":"Sheet3!H978","v":0},{"$f":"Sheet3!A978","v":0}]
[null,null,{"$f":"SUMIF(Sheet3!C979:C1410,B991,Sheet3!D979:D1410)","v":0},null,null,null,null,{"$f":"Sheet3!C979","v":0},{"$f":"Sheet3!B979","v":0},{"$f":"Sheet3!E979","v":0},{"$f":"Sheet3!F979","v":0},{"$f":"Sheet3!G979","v":0},{"$f":"Sheet3!H979","v":0},{"$f":"Sheet3!A979","v":0}]
[null,null,{"$f":"SUMIF(Sheet3!C980:C1411,B992,Sheet3!D980:D1411)","v":0},null,null,null,null,{"$f":"Sheet3!C980","v":0},{"$f":"Sheet3!B980","v":0},{"$f":"Sheet3!E980","v":0},{"$f":"Sheet3!F980","v":0},{"$f":"Sheet3!G980","v":0},{"$f":"Sheet3!H980","v":0},{"$f":"Sheet3!A980","v":0}]
[null,null,{"$f":"SUMIF(Sheet3!C981:C1412,B993,Sheet3!D981:D1412)","v":0},null,null,null,null,{"$f":"Sheet3!C981","v":0},{"$f":"Sheet3!B981","v":0},{"$f":"Sheet3!E981","v":0},{"$f":"Sheet3!F981","v":0},{"$f":"Sheet3!G981","v":0},{"$f":"Sheet3!H981","v":0},{"$f":"Sheet3!A981","v":0}]
[null,null,{"$f":"SUMIF(Sheet3!C982:C1413,B994,Sheet3!D982:D1413)","v":0},null,null,null,null,{"$f":"Sheet3!C982","v":0},{"$f":"Sheet3!B982","v":0},{"$f":"Sheet3!E982","v":0},{"$f":"Sheet3!F982","v":0},{"$f":"Sheet3!G982","v":0},{"$f":"Sheet3!H982","v":0},{"$f":"Sheet3!A982","v":0}]
[null,null,{"$f":"SUMIF(Sheet3!C983:C1414,B995,Sheet3!D983:D1414)","v":0},null,null,null,null,{"$f":"Sheet3!C983","v":0},{"$f":"Sheet3!B983","v":0},{"$f":"Sheet3!E983","v":0},{"$f":"Sheet3!F983","v":0},{"$f":"Sheet3!G983","v":0},{"$f":"Sheet3!H983","v":0},{"$f":"Sheet3!A983","v":0}]
[null,null,{"$f":"SUMIF(Sheet3!C984:C1415,B996,Sheet3!D984:D1415)","v":0},null,null,null,null,{"$f":"Sheet3!C984","v":0},{"$f":"Sheet3!B984","v":0},{"$f":"Sheet3!E984","v":0},{"$f":"Sheet3!F984","v":0},{"$f":"Sheet3!G984","v":0},{"$f":"Sheet3!H984","v":0},{"$f":"Sheet3!A984","v":0}]
[null,null,{"$f":"SUMIF(Sheet3!C985:C1416,B997,Sheet3!D985:D1416)","v":0},null,null,null,null,{"$f":"Sheet3!C985","v":0},{"$f":"Sheet3!B985","v":0},{"$f":"Sheet3!E985","v":0},{"$f":"Sheet3!F985","v":0},{"$f":"Sheet3!G985","v":0},{"$f":"Sheet3!H985","v":0},{"$f":"Sheet3!A985","v":0}]
[null,null,{"$f":"SUMIF(Sheet3!C986:C1417,B998,Sheet3!D986:D1417)","v":0},null,null,null,null,{"$f":"Sheet3!C986","v":0},{"$f":"Sheet3!B986","v":0},{"$f":"Sheet3!E986","v":0},{"$f":"Sheet3!F986","v":0},{"$f":"Sheet3!G986","v":0},{"$f":"Sheet3!H986","v":0},{"$f":"Sheet3!A986","v":0}]
[null,null,{"$f":"SUMIF(Sheet3!C987:C1418,B999,Sheet3!D987:D1418)","v":0},null,null,null,null,{"$f":"Sheet3!C987","v":0},{"$f":"Sheet3!B987","v":0},{"$f":"Sheet3!E987","v":0},{"$f":"Sheet3!F987","v":0},{"$f":"Sheet3!G987","v":0},{"$f":"Sheet3!H987","v":0},{"$f":"Sheet3!A987","v":0}]
[null,null,{"$f":"SUMIF(Sheet3!C988:C1419,B1000,Sheet3!D988:D1419)","v":0},null,null,null,null,{"$f":"Sheet3!C988","v":0},{"$f":"Sheet3!B988","v":0},{"$f":"Sheet3!E988","v":0},{"$f":"Sheet3!F988","v":0},{"$f":"Sheet3!G988","v":0},{"$f":"Sheet3!H988","v":0},{"$f":"Sheet3!A988","v":0}]
[null,null,{"$f":"SUMIF(Sheet3!C989:C1420,B1001,Sheet3!D989:D1420)","v":0},null,null,null,null,{"$f":"Sheet3!C989","v":0},{"$f":"Sheet3!B989","v":0},{"$f":"Sheet3!E989","v":0},{"$f":"Sheet3!F989","v":0},{"$f":"Sheet3!G989","v":0},{"$f":"Sheet3!H989","v":0},{"$f":"Sheet3!A989","v":0}]
[null,null,{"$f":"SUMIF(Sheet3!C990:C1421,B1002,Sheet3!D990:D1421)","v":0},null,null,null,null,{"$f":"Sheet3!C990","v":0},{"$f":"Sheet3!B990","v":0},{"$f":"Sheet3!E990","v":0},{"$f":"Sheet3!F990","v":0},{"$f":"Sheet3!G990","v":0},{"$f":"Sheet3!H990","v":0},{"$f":"Sheet3!A990","v":0}]
[null,null,{"$f":"SUMIF(Sheet3!C991:C1422,B1003,Sheet3!D991:D1422)","v":0},null,null,null,null,{"$f":"Sheet3!C991","v":0},{"$f":"Sheet3!B991","v":0},{"$f":"Sheet3!E991","v":0},{"$f":"Sheet3!F991","v":0},{"$f":"Sheet3!G991","v":0},{"$f":"Sheet3!H991","v":0},{"$f":"Sheet3!A991","v":0}]
[null,null,{"$f":"SUMIF(Sheet3!C992:C1423,B1004,Sheet3!D992:D1423)","v":0},null,null,null,null,{"$f":"Sheet3!C992","v":0},{"$f":"Sheet3!B992","v":0},{"$f":"Sheet3!E992","v":0},{"$f":"Sheet3!F992","v":0},{"$f":"Sheet3!G992","v":0},{"$f":"Sheet3!H992","v":0},{"$f":"Sheet3!A992","v":0}]
[null,null,{"$f":"SUMIF(Sheet3!C993:C1424,B1005,Sheet3!D993:D1424)","v":0},null,null,null,null,{"$f":"Sheet3!C993","v":0},{"$f":"Sheet3!B993","v":0},{"$f":"Sheet3!E993","v":0},{"$f":"Sheet3!F993","v":0},{"$f":"Sheet3!G993","v":0},{"$f":"Sheet3!H993","v":0},{"$f":"Sheet3!A993","v":0}]
[null,null,{"$f":"SUMIF(Sheet3!C994:C1425,B1006,Sheet3!D994:D1425)","v":0},null,null,null,null,{"$f":"Sheet3!C994","v":0},{"$f":"Sheet3!B994","v":0},{"$f":"Sheet3!E994","v":0},{"$f":"Sheet3!F994","v":0},{"$f":"Sheet3!G994","v":0},{"$f":"Sheet3!H994","v":0},{"$f":"Sheet3!A994","v":0}]
[null,null,{"$f":"SUMIF(Sheet3!C995:C1426,B1007,Sheet3!D995:D1426)","v":0},null,null,null,null,{"$f":"Sheet3!C995","v":0},{"$f":"Sheet3!B995","v":0},{"$f":"Sheet3!E995","v":0},{"$f":"Sheet3!F995","v":0},{"$f":"Sheet3!G995","v":0},{"$f":"Sheet3!H995","v":0},{"$f":"Sheet3!A995","v":0}]
[null,null,{"$f":"SUMIF(Sheet3!C996:C1427,B1008,Sheet3!D996:D1427)","v":0},null,null,null,null,{"$f":"Sheet3!C996","v":0},{"$f":"Sheet3!B996","v":0},{"$f":"Sheet3!E996","v":0},{"$f":"Sheet3!F996","v":0},{"$f":"Sheet3!G996","v":0},{"$f":"Sheet3!H996","v":0},{"$f":"Sheet3!A996","v":0}]
[null,null,{"$f":"SUMIF(Sheet3!C997:C1428,B1009,Sheet3!D997:D1428)","v":0},null,null,null,null,{"$f":"Sheet3!C997","v":0},{"$f":"Sheet3!B997","v":0},{"$f":"Sheet3!E997","v":0},{"$f":"Sheet3!F997","v":0},{"$f":"Sheet3!G997","v":0},{"$f":"Sheet3!H997","v":0},{"$f":"Sheet3!A997","v":0}]
[null,null,{"$f":"SUMIF(Sheet3!C998:C1429,B1010,Sheet3!D998:D1429)","v":0},null,null,null,null,{"$f":"Sheet3!C998","v":0},{"$f":"Sheet3!B998","v":0},{"$f":"Sheet3!E998","v":0},{"$f":"Sheet3!F998","v":0},{"$f":"Sheet3!G998","v":0},{"$f":"Sheet3!H998","v":0},{"$f":"Sheet3!A998","v":0}]
[null,null,{"$f":"SUMIF(Sheet3!C999:C1430,B1011,Sheet3!D999:D1430)","v":0},null,null,null,null,{"$f":"Sheet3!C999","v":0},{"$f":"Sheet3!B999","v":0},{"$f":"Sheet3!E999","v":0},{"$f":"Sheet3!F999","v":0},{"$f":"Sheet3!G999","v":0},{"$f":"Sheet3!H999","v":0},{"$f":"Sheet3!A999","v":0}]
[null,null,{"$f":"SUMIF(Sheet3!C1000:C1431,B1012,Sheet3!D1000:D1431)","v":0},null,null,null,null,{"$f":"Sheet3!C1000","v":0},{"$f":"Sheet3!B1000","v":0},{"$f":"Sheet3!E1000","v":0},{"$f":"Sheet3!F1000","v":0},{"$f":"Sheet3!G1000","v":0},{"$f":"Sheet3!H1000","v":0},{"$f":"Sheet3!A1000","v":0}]
[null,null,{"$f":"SUMIF(Sheet3!C1001:C1432,B1013,Sheet3!D1001:D1432)","v":0},null,null,null,null,{"$f":"Sheet3!C1001","v":0},{"$f":"Sheet3!B1001","v":0},{"$f":"Sheet3!E1001","v":0},{"$f":"Sheet3!F1001","v":0},{"$f":"Sheet3!G1001","v":0},{"$f":"Sheet3!H1001","v":0},{"$f":"Sheet3!A1001","v":0}]
[null,null,{"$f":"SUMIF(Sheet3!C1002:C1433,B1014,Sheet3!D1002:D1433)","v":0},null,null,null,null,{"$f":"Sheet3!C1002","v":0},{"$f":"Sheet3!B1002","v":0},{"$f":"Sheet3!E1002","v":0},{"$f":"Sheet3!F1002","v":0},{"$f":"Sheet3!G1002","v":0},{"$f":"Sheet3!H1002","v":0},{"$f":"Sheet3!A1002","v":0}]
[null,null,{"$f":"SUMIF(Sheet3!C1003:C1434,B1015,Sheet3!D1003:D1434)","v":0},null,null,null,null,{"$f":"Sheet3!C1003","v":0},{"$f":"Sheet3!B1003","v":0},{"$f":"Sheet3!E1003","v":0},{"$f":"Sheet3!F1003","v":0},{"$f":"Sheet3!G1003","v":0},{"$f":"Sheet3!H1003","v":0},{"$f":"Sheet3!A1003","v":0}]
[null,null,{"$f":"SUMIF(Sheet3!C1004:C1435,B1016,Sheet3!D1004:D1435)","v":0},null,null,null,null,{"$f":"Sheet3!C1004","v":0},{"$f":"Sheet3!B1004","v":0},{"$f":"Sheet3!E1004","v":0},{"$f":"Sheet3!F1004","v":0},{"$f":"Sheet3!G1004","v":0},{"$f":"Sheet3!H1004","v":0},{"$f":"Sheet3!A1004","v":0}]
[null,null,{"$f":"SUMIF(Sheet3!C1005:C1436,B1017,Sheet3!D1005:D1436)","v":0},null,null,null,null,{"$f":"Sheet3!C1005","v":0},{"$f":"Sheet3!B1005","v":0},{"$f":"Sheet3!E1005","v":0},{"$f":"Sheet3!F1005","v":0},{"$f":"Sheet3!G1005","v":0},{"$f":"Sheet3!H1005","v":0},{"$f":"Sheet3!A1005","v":0}]
[null,null,{"$f":"SUMIF(Sheet3!C1006:C1437,B1018,Sheet3!D1006:D1437)","v":0},null,null,null,null,{"$f":"Sheet3!C1006","v":0},{"$f":"Sheet3!B1006","v":0},{"$f":"Sheet3!E1006","v":0},{"$f":"Sheet3!F1006","v":0},{"$f":"Sheet3!G1006","v":0},{"$f":"Sheet3!H1006","v":0},{"$f":"Sheet3!A1006","v":0}]
[null,null,{"$f":"SUMIF(Sheet3!C1007:C1438,B1019,Sheet3!D1007:D1438)","v":0},null,null,null,null,{"$f":"Sheet3!C1007","v":0},{"$f":"Sheet3!B1007","v":0},{"$f":"Sheet3!E1007","v":0},{"$f":"Sheet3!F1007","v":0},{"$f":"Sheet3!G1007","v":0},{"$f":"Sheet3!H1007","v":0},{"$f":"Sheet3!A1007","v":0}]
[null,null,{"$f":"SUMIF(Sheet3!C1008:C1439,B1020,Sheet3!D1008:D1439)","v":0},null,null,null,null,{"$f":"Sheet3!C1008","v":0},{"$f":"Sheet3!B1008","v":0},{"$f":"Sheet3!E1008","v":0},{"$f":"Sheet3!F1008","v":0},{"$f":"Sheet3!G1008","v":0},{"$f":"Sheet3!H1008","v":0},{"$f":"Sheet3!A1008","v":0}]
[null,null,{"$f":"SUMIF(Sheet3!C1009:C1440,B1021,Sheet3!D1009:D1440)","v":0},null,null,null,null,{"$f":"Sheet3!C1009","v":0},{"$f":"Sheet3!B1009","v":0},{"$f":"Sheet3!E1009","v":0},{"$f":"Sheet3!F1009","v":0},{"$f":"Sheet3!G1009","v":0},{"$f":"Sheet3!H1009","v":0},{"$f":"Sheet3!A1009","v":0}]
[null,null,{"$f":"SUMIF(Sheet3!C1010:C1441,B1022,Sheet3!D1010:D1441)","v":0},null,null,null,null,{"$f":"Sheet3!C1010","v":0},{"$f":"Sheet3!B1010","v":0},{"$f":"Sheet3!E1010","v":0},{"$f":"Sheet3!F1010","v":0},{"$f":"Sheet3!G1010","v":0},{"$f":"Sheet3!H1010","v":0},{"$f":"Sheet3!A1010","v":0}]
[null,null,{"$f":"SUMIF(Sheet3!C1011:C1442,B1023,Sheet3!D1011:D1442)","v":0},null,null,null,null,{"$f":"Sheet3!C1011","v":0},{"$f":"Sheet3!B1011","v":0},{"$f":"Sheet3!E1011","v":0},{"$f":"Sheet3!F1011","v":0},{"$f":"Sheet3!G1011","v":0},{"$f":"Sheet3!H1011","v":0},{"$f":"Sheet3!A1011","v":0}]
[null,null,{"$f":"SUMIF(Sheet3!C1012:C1443,B1024,Sheet3!D1012:D1443)","v":0},null,null,null,null,{"$f":"Sheet3!C1012","v":0},{"$f":"Sheet3!B1012","v":0},{"$f":"Sheet3!E1012","v":0},{"$f":"Sheet3!F1012","v":0},{"$f":"Sheet3!G1012","v":0},{"$f":"Sheet3!H1012","v":0},{"$f":"Sheet3!A1012","v":0}]
[null,null,{"$f":"SUMIF(Sheet3!C1013:C1444,B1025,Sheet3!D1013:D1444)","v":0},null,null,null,null,{"$f":"Sheet3!C1013","v":0},{"$f":"Sheet3!B1013","v":0},{"$f":"Sheet3!E1013","v":0},{"$f":"Sheet3!F1013","v":0},{"$f":"Sheet3!G1013","v":0},{"$f":"Sheet3!H1013","v":0},{"$f":"Sheet3!A1013","v":0}]
[null,null,{"$f":"SUMIF(Sheet3!C1014:C1445,B1026,Sheet3!D1014:D1445)","v":0},null,null,null,null,{"$f":"Sheet3!C1014","v":0},{"$f":"Sheet3!B1014","v":0},{"$f":"Sheet3!E1014","v":0},{"$f":"Sheet3!F1014","v":0},{"$f":"Sheet3!G1014","v":0},{"$f":"Sheet3!H1014","v":0},{"$f":"Sheet3!A1014","v":0}]
[null,null,{"$f":"SUMIF(Sheet3!C1015:C1446,B1027,Sheet3!D1015:D1446)","v":0},null,null,null,null,{"$f":"Sheet3!C1015","v":0},{"$f":"Sheet3!B1015","v":0},{"$f":"Sheet3!E1015","v":0},{"$f":"Sheet3!F1015","v":0},{"$f":"Sheet3!G1015","v":0},{"$f":"Sheet3!H1015","v":0},{"$f":"Sheet3!A1015","v":0}]
[null,null,{"$f":"SUMIF(Sheet3!C1016:C1447,B1028,Sheet3!D1016:D1447)","v":0},null,null,null,null,{"$f":"Sheet3!C1016","v":0},{"$f":"Sheet3!B1016","v":0},{"$f":"Sheet3!E1016","v":0},{"$f":"Sheet3!F1016","v":0},{"$f":"Sheet3!G1016","v":0},{"$f":"Sheet3!H1016","v":0},{"$f":"Sheet3!A1016","v":0}]
[null,null,{"$f":"SUMIF(Sheet3!C1017:C1448,B1029,Sheet3!D1017:D1448)","v":0},null,null,null,null,{"$f":"Sheet3!C1017","v":0},{"$f":"Sheet3!B1017","v":0},{"$f":"Sheet3!E1017","v":0},{"$f":"Sheet3!F1017","v":0},{"$f":"Sheet3!G1017","v":0},{"$f":"Sheet3!H1017","v":0},{"$f":"Sheet3!A1017","v":0}]
[null,null,{"$f":"SUMIF(Sheet3!C1018:C1449,B1030,Sheet3!D1018:D1449)","v":0},null,null,null,null,{"$f":"Sheet3!C1018","v":0},{"$f":"Sheet3!B1018","v":0},{"$f":"Sheet3!E1018","v":0},{"$f":"Sheet3!F1018","v":0},{"$f":"Sheet3!G1018","v":0},{"$f":"Sheet3!H1018","v":0},{"$f":"Sheet3!A1018","v":0}]
[null,null,{"$f":"SUMIF(Sheet3!C1019:C1450,B1031,Sheet3!D1019:D1450)","v":0},null,null,null,null,{"$f":"Sheet3!C1019","v":0},{"$f":"Sheet3!B1019","v":0},{"$f":"Sheet3!E1019","v":0},{"$f":"Sheet3!F1019","v":0},{"$f":"Sheet3!G1019","v":0},{"$f":"Sheet3!H1019","v":0},{"$f":"Sheet3!A1019","v":0}]
[null,null,{"$f":"SUMIF(Sheet3!C1020:C1451,B1032,Sheet3!D1020:D1451)","v":0},null,null,null,null,{"$f":"Sheet3!C1020","v":0},{"$f":"Sheet3!B1020","v":0},{"$f":"Sheet3!E1020","v":0},{"$f":"Sheet3!F1020","v":0},{"$f":"Sheet3!G1020","v":0},{"$f":"Sheet3!H1020","v":0},{"$f":"Sheet3!A1020","v":0}]
[null,null,{"$f":"SUMIF(Sheet3!C1021:C1452,B1033,Sheet3!D1021:D1452)","v":0},null,null,null,null,{"$f":"Sheet3!C1021","v":0},{"$f":"Sheet3!B1021","v":0},{"$f":"Sheet3!E1021","v":0},{"$f":"Sheet3!F1021","v":0},{"$f":"Sheet3!G1021","v":0},{"$f":"Sheet3!H1021","v":0},{"$f":"Sheet3!A1021","v":0}]
[null,null,{"$f":"SUMIF(Sheet3!C1022:C1453,B1034,Sheet3!D1022:D1453)","v":0},null,null,null,null,{"$f":"Sheet3!C1022","v":0},{"$f":"Sheet3!B1022","v":0},{"$f":"Sheet3!E1022","v":0},{"$f":"Sheet3!F1022","v":0},{"$f":"Sheet3!G1022","v":0},{"$f":"Sheet3!H1022","v":0},{"$f":"Sheet3!A1022","v":0}]
[null,null,{"$f":"SUMIF(Sheet3!C1023:C1454,B1035,Sheet3!D1023:D1454)","v":0},null,null,null,null,{"$f":"Sheet3!C1023","v":0},{"$f":"Sheet3!B1023","v":0},{"$f":"Sheet3!E1023","v":0},{"$f":"Sheet3!F1023","v":0},{"$f":"Sheet3!G1023","v":0},{"$f":"Sheet3!H1023","v":0},{"$f":"Sheet3!A1023","v":0}]
[null,null,{"$f":"SUMIF(Sheet3!C1024:C1455,B1036,Sheet3!D1024:D1455)","v":0},null,null,null,null,{"$f":"Sheet3!C1024","v":0},{"$f":"Sheet3!B1024","v":0},{"$f":"Sheet3!E1024","v":0},{"$f":"Sheet3!F1024","v":0},{"$f":"Sheet3!G1024","v":0},{"$f":"Sheet3!H1024","v":0},{"$f":"Sheet3!A1024","v":0}]
[null,null,{"$f":"SUMIF(Sheet3!C1025:C1456,B1037,Sheet3!D1025:D1456)","v":0},null,null,null,null,{"$f":"Sheet3!C1025","v":0},{"$f":"Sheet3!B1025","v":0},{"$f":"Sheet3!E1025","v":0},{"$f":"Sheet3!F1025","v":0},{"$f":"Sheet3!G1025","v":0},{"$f":"Sheet3!H1025","v":0},{"$f":"Sheet3!A1025","v":0}]
[null,null,{"$f":"SUMIF(Sheet3!C1026:C1457,B1038,Sheet3!D1026:D1457)","v":0},null,null,null,null,{"$f":"Sheet3!C1026","v":0},{"$f":"Sheet3!B1026","v":0},{"$f":"Sheet3!E1026","v":0},{"$f":"Sheet3!F1026","v":0},{"$f":"Sheet3!G1026","v":0},{"$f":"Sheet3!H1026","v":0},{"$f":"Sheet3!A1026","v":0}]
[null,null,{"$f":"SUMIF(Sheet3!C1027:C1458,B1039,Sheet3!D1027:D1458)","v":0},null,null,null,null,{"$f":"Sheet3!C1027","v":0},{"$f":"Sheet3!B1027","v":0},{"$f":"Sheet3!E1027","v":0},{"$f":"Sheet3!F1027","v":0},{"$f":"Sheet3!G1027","v":0},{"$f":"Sheet3!H1027","v":0},{"$f":"Sheet3!A1027","v":0}]
[null,null,{"$f":"SUMIF(Sheet3!C1028:C1459,B1040,Sheet3!D1028:D1459)","v":0},null,null,null,null,{"$f":"Sheet3!C1028","v":0},{"$f":"Sheet3!B1028","v":0},{"$f":"Sheet3!E1028","v":0},{"$f":"Sheet3!F1028","v":0},{"$f":"Sheet3!G1028","v":0},{"$f":"Sheet3!H1028","v":0},{"$f":"Sheet3!A1028","v":0}]
[null,null,{"$f":"SUMIF(Sheet3!C1029:C1460,B1041,Sheet3!D1029:D1460)","v":0},null,null,null,null,{"$f":"Sheet3!C1029","v":0},{"$f":"Sheet3!B1029","v":0},{"$f":"Sheet3!E1029","v":0},{"$f":"Sheet3!F1029","v":0},{"$f":"Sheet3!G1029","v":0},{"$f":"Sheet3!H1029","v":0},{"$f":"Sheet3!A1029","v":0}]
[null,null,{"$f":"SUMIF(Sheet3!C1030:C1461,B1042,Sheet3!D1030:D1461)","v":0},null,null,null,null,{"$f":"Sheet3!C1030","v":0},{"$f":"Sheet3!B1030","v":0},{"$f":"Sheet3!E1030","v":0},{"$f":"Sheet3!F1030","v":0},{"$f":"Sheet3!G1030","v":0},{"$f":"Sheet3!H1030","v":0},{"$f":"Sheet3!A1030","v":0}]
[null,null,{"$f":"SUMIF(Sheet3!C1031:C1462,B1043,Sheet3!D1031:D1462)","v":0},null,null,null,null,{"$f":"Sheet3!C1031","v":0},{"$f":"Sheet3!B1031","v":0},{"$f":"Sheet3!E1031","v":0},{"$f":"Sheet3!F1031","v":0},{"$f":"Sheet3!G1031","v":0},{"$f":"Sheet3!H1031","v":0},{"$f":"Sheet3!A1031","v":0}]
[null,null,{"$f":"SUMIF(Sheet3!C1032:C1463,B1044,Sheet3!D1032:D1463)","v":0},null,null,null,null,{"$f":"Sheet3!C1032","v":0},{"$f":"Sheet3!B1032","v":0},{"$f":"Sheet3!E1032","v":0},{"$f":"Sheet3!F1032","v":0},{"$f":"Sheet3!G1032","v":0},{"$f":"Sheet3!H1032","v":0},{"$f":"Sheet3!A1032","v":0}]
[null,null,{"$f":"SUMIF(Sheet3!C1033:C1464,B1045,Sheet3!D1033:D1464)","v":0},null,null,null,null,{"$f":"Sheet3!C1033","v":0},{"$f":"Sheet3!B1033","v":0},{"$f":"Sheet3!E1033","v":0},{"$f":"Sheet3!F1033","v":0},{"$f":"Sheet3!G1033","v":0},{"$f":"Sheet3!H1033","v":0},{"$f":"Sheet3!A1033","v":0}]
[null,null,{"$f":"SUMIF(Sheet3!C1034:C1465,B1046,Sheet3!D1034:D1465)","v":0},null,null,null,null,{"$f":"Sheet3!C1034","v":0},{"$f":"Sheet3!B1034","v":0},{"$f":"Sheet3!E1034","v":0},{"$f":"Sheet3!F1034","v":0},{"$f":"Sheet3!G1034","v":0},{"$f":"Sheet3!H1034","v":0},{"$f":"Sheet3!A1034","v":0}]
[null,null,{"$f":"SUMIF(Sheet3!C1035:C1466,B1047,Sheet3!D1035:D1466)","v":0},null,null,null,null,{"$f":"Sheet3!C1035","v":0},{"$f":"Sheet3!B1035","v":0},{"$f":"Sheet3!E1035","v":0},{"$f":"Sheet3!F1035","v":0},{"$f":"Sheet3!G1035","v":0},{"$f":"Sheet3!H1035","v":0},{"$f":"Sheet3!A1035","v":0}]
[null,null,{"$f":"SUMIF(Sheet3!C1036:C1467,B1048,Sheet3!D1036:D1467)","v":0},null,null,null,null,{"$f":"Sheet3!C1036","v":0},{"$f":"Sheet3!B1036","v":0},{"$f":"Sheet3!E1036","v":0},{"$f":"Sheet3!F1036","v":0},{"$f":"Sheet3!G1036","v":0},{"$f":"Sheet3!H1036","v":0},{"$f":"Sheet3!A1036","v":0}]
[null,null,{"$f":"SUMIF(Sheet3!C1037:C1468,B1049,Sheet3!D1037:D1468)","v":0},null,null,null,null,{"$f":"Sheet3!C1037","v":0},{"$f":"Sheet3!B1037","v":0},{"$f":"Sheet3!E1037","v":0},{"$f":"Sheet3!F1037","v":0},{"$f":"Sheet3!G1037","v":0},{"$f":"Sheet3!H1037","v":0},{"$f":"Sheet3!A1037","v":0}]
[null,null,{"$f":"SUMIF(Sheet3!C1038:C1469,B1050,Sheet3!D1038:D1469)","v":0},null,null,null,null,{"$f":"Sheet3!C1038","v":0},{"$f":"Sheet3!B1038","v":0},{"$f":"Sheet3!E1038","v":0},{"$f":"Sheet3!F1038","v":0},{"$f":"Sheet3!G1038","v":0},{"$f":"Sheet3!H1038","v":0},{"$f":"Sheet3!A1038","v":0}]
[null,null,{"$f":"SUMIF(Sheet3!C1039:C1470,B1051,Sheet3!D1039:D1470)","v":0},null,null,null,null,{"$f":"Sheet3!C1039","v":0},{"$f":"Sheet3!B1039","v":0},{"$f":"Sheet3!E1039","v":0},{"$f":"Sheet3!F1039","v":0},{"$f":"Sheet3!G1039","v":0},{"$f":"Sheet3!H1039","v":0},{"$f":"Sheet3!A1039","v":0}]
[null,null,{"$f":"SUMIF(Sheet3!C1040:C1471,B1052,Sheet3!D1040:D1471)","v":0},null,null,null,null,{"$f":"Sheet3!C1040","v":0},{"$f":"Sheet3!B1040","v":0},{"$f":"Sheet3!E1040","v":0},{"$f":"Sheet3!F1040","v":0},{"$f":"Sheet3!G1040","v":0},{"$f":"Sheet3!H1040","v":0},{"$f":"Sheet3!A1040","v":0}]
[null,null,{"$f":"SUMIF(Sheet3!C1041:C1472,B1053,Sheet3!D1041:D1472)","v":0},null,null,null,null,{"$f":"Sheet3!C1041","v":0},{"$f":"Sheet3!B1041","v":0},{"$f":"Sheet3!E1041","v":0},{"$f":"Sheet3!F1041","v":0},{"$f":"Sheet3!G1041","v":0},{"$f":"Sheet3!H1041","v":0},{"$f":"Sheet3!A1041","v":0}]
[null,null,{"$f":"SUMIF(Sheet3!C1042:C1473,B1054,Sheet3!D1042:D1473)","v":0},null,null,null,null,{"$f":"Sheet3!C1042","v":0},{"$f":"Sheet3!B1042","v":0},{"$f":"Sheet3!E1042","v":0},{"$f":"Sheet3!F1042","v":0},{"$f":"Sheet3!G1042","v":0},{"$f":"Sheet3!H1042","v":0},{"$f":"Sheet3!A1042","v":0}]
[null,null,{"$f":"SUMIF(Sheet3!C1043:C1474,B1055,Sheet3!D1043:D1474)","v":0},null,null,null,null,{"$f":"Sheet3!C1043","v":0},{"$f":"Sheet3!B1043","v":0},{"$f":"Sheet3!E1043","v":0},{"$f":"Sheet3!F1043","v":0},{"$f":"Sheet3!G1043","v":0},{"$f":"Sheet3!H1043","v":0},{"$f":"Sheet3!A1043","v":0}]
[null,null,{"$f":"SUMIF(Sheet3!C1044:C1475,B1056,Sheet3!D1044:D1475)","v":0},null,null,null,null,{"$f":"Sheet3!C1044","v":0},{"$f":"Sheet3!B1044","v":0},{"$f":"Sheet3!E1044","v":0},{"$f":"Sheet3!F1044","v":0},{"$f":"Sheet3!G1044","v":0},{"$f":"Sheet3!H1044","v":0},{"$f":"Sheet3!A1044","v":0}]
[null,null,{"$f":"SUMIF(Sheet3!C1045:C1476,B1057,Sheet3!D1045:D1476)","v":0},null,null,null,null,{"$f":"Sheet3!C1045","v":0},{"$f":"Sheet3!B1045","v":0},{"$f":"Sheet3!E1045","v":0},{"$f":"Sheet3!F1045","v":0},{"$f":"Sheet3!G1045","v":0},{"$f":"Sheet3!H1045","v":0},{"$f":"Sheet3!A1045","v":0}]
[null,null,{"$f":"SUMIF(Sheet3!C1046:C1477,B1058,Sheet3!D1046:D1477)","v":0},null,null,null,null,{"$f":"Sheet3!C1046","v":0},{"$f":"Sheet3!B1046","v":0},{"$f":"Sheet3!E1046","v":0},{"$f":"Sheet3!F1046","v":0},{"$f":"Sheet3!G1046","v":0},{"$f":"Sheet3!H1046","v":0},{"$f":"Sheet3!A1046","v":0}]
[null,null,{"$f":"SUMIF(Sheet3!C1047:C1478,B1059,Sheet3!D1047:D1478)","v":0},null,null,null,null,{"$f":"Sheet3!C1047","v":0},{"$f":"Sheet3!B1047","v":0},{"$f":"Sheet3!E1047","v":0},{"$f":"Sheet3!F1047","v":0},{"$f":"Sheet3!G1047","v":0},{"$f":"Sheet3!H1047","v":0},{"$f":"Sheet3!A1047","v":0}]
[null,null,{"$f":"SUMIF(Sheet3!C1048:C1479,B1060,Sheet3!D1048:D1479)","v":0},null,null,null,null,{"$f":"Sheet3!C1048","v":0},{"$f":"Sheet3!B1048","v":0},{"$f":"Sheet3!E1048","v":0},{"$f":"Sheet3!F1048","v":0},{"$f":"Sheet3!G1048","v":0},{"$f":"Sheet3!H1048","v":0},{"$f":"Sheet3!A1048","v":0}]
[null,null,{"$f":"SUMIF(Sheet3!C1049:C1480,B1061,Sheet3!D1049:D1480)","v":0},null,null,null,null,{"$f":"Sheet3!C1049","v":0},{"$f":"Sheet3!B1049","v":0},{"$f":"Sheet3!E1049","v":0},{"$f":"Sheet3!F1049","v":0},{"$f":"Sheet3!G1049","v":0},{"$f":"Sheet3!H1049","v":0},{"$f":"Sheet3!A1049","v":0}]
[null,null,{"$f":"SUMIF(Sheet3!C1050:C1481,B1062,Sheet3!D1050:D1481)","v":0},null,null,null,null,{"$f":"Sheet3!C1050","v":0},{"$f":"Sheet3!B1050","v":0},{"$f":"Sheet3!E1050","v":0},{"$f":"Sheet3!F1050","v":0},{"$f":"Sheet3!G1050","v":0},{"$f":"Sheet3!H1050","v":0},{"$f":"Sheet3!A1050","v":0}]
[null,null,{"$f":"SUMIF(Sheet3!C1051:C1482,B1063,Sheet3!D1051:D1482)","v":0},null,null,null,null,{"$f":"Sheet3!C1051","v":0},{"$f":"Sheet3!B1051","v":0},{"$f":"Sheet3!E1051","v":0},{"$f":"Sheet3!F1051","v":0},{"$f":"Sheet3!G1051","v":0},{"$f":"Sheet3!H1051","v":0},{"$f":"Sheet3!A1051","v":0}]
[null,null,{"$f":"SUMIF(Sheet3!C1052:C1483,B1064,Sheet3!D1052:D1483)","v":0},null,null,null,null,{"$f":"Sheet3!C1052","v":0},{"$f":"Sheet3!B1052","v":0},{"$f":"Sheet3!E1052","v":0},{"$f":"Sheet3!F1052","v":0},{"$f":"Sheet3!G1052","v":0},{"$f":"Sheet3!H1052","v":0},{"$f":"Sheet3!A1052","v":0}]
[null,null,{"$f":"SUMIF(Sheet3!C1053:C1484,B1065,Sheet3!D1053:D1484)","v":0},null,null,null,null,{"$f":"Sheet3!C1053","v":0},{"$f":"Sheet3!B1053","v":0},{"$f":"Sheet3!E1053","v":0},{"$f":"Sheet3!F1053","v":0},{"$f":"Sheet3!G1053","v":0},{"$f":"Sheet3!H1053","v":0},{"$f":"Sheet3!A1053","v":0}]
[null,null,{"$f":"SUMIF(Sheet3!C1054:C1485,B1066,Sheet3!D1054:D1485)","v":0},null,null,null,null,{"$f":"Sheet3!C1054","v":0},{"$f":"Sheet3!B1054","v":0},{"$f":"Sheet3!E1054","v":0},{"$f":"Sheet3!F1054","v":0},{"$f":"Sheet3!G1054","v":0},{"$f":"Sheet3!H1054","v":0},{"$f":"Sheet3!A1054","v":0}]
[null,null,{"$f":"SUMIF(Sheet3!C1055:C1486,B1067,Sheet3!D1055:D1486)","v":0},null,null,null,null,{"$f":"Sheet3!C1055","v":0},{"$f":"Sheet3!B1055","v":0},{"$f":"Sheet3!E1055","v":0},{"$f":"Sheet3!F1055","v":0},{"$f":"Sheet3!G1055","v":0},{"$f":"Sheet3!H1055","v":0},{"$f":"Sheet3!A1055","v":0}]
[null,null,{"$f":"SUMIF(Sheet3!C1056:C1487,B1068,Sheet3!D1056:D1487)","v":0},null,null,null,null,{"$f":"Sheet3!C1056","v":0},{"$f":"Sheet3!B1056","v":0},{"$f":"Sheet3!E1056","v":0},{"$f":"Sheet3!F1056","v":0},{"$f":"Sheet3!G1056","v":0},{"$f":"Sheet3!H1056","v":0},{"$f":"Sheet3!A1056","v":0}]
[null,null,{"$f":"SUMIF(Sheet3!C1057:C1488,B1069,Sheet3!D1057:D1488)","v":0},null,null,null,null,{"$f":"Sheet3!C1057","v":0},{"$f":"Sheet3!B1057","v":0},{"$f":"Sheet3!E1057","v":0},{"$f":"Sheet3!F1057","v":0},{"$f":"Sheet3!G1057","v":0},{"$f":"Sheet3!H1057","v":0},{"$f":"Sheet3!A1057","v":0}]
[null,null,{"$f":"SUMIF(Sheet3!C1058:C1489,B1070,Sheet3!D1058:D1489)","v":0},null,null,null,null,{"$f":"Sheet3!C1058","v":0},{"$f":"Sheet3!B1058","v":0},{"$f":"Sheet3!E1058","v":0},{"$f":"Sheet3!F1058","v":0},{"$f":"Sheet3!G1058","v":0},{"$f":"Sheet3!H1058","v":0},{"$f":"Sheet3!A1058","v":0}]
[null,null,{"$f":"SUMIF(Sheet3!C1059:C1490,B1071,Sheet3!D1059:D1490)","v":0},null,null,null,null,{"$f":"Sheet3!C1059","v":0},{"$f":"Sheet3!B1059","v":0},{"$f":"Sheet3!E1059","v":0},{"$f":"Sheet3!F1059","v":0},{"$f":"Sheet3!G1059","v":0},{"$f":"Sheet3!H1059","v":0},{"$f":"Sheet3!A1059","v":0}]
[null,null,{"$f":"SUMIF(Sheet3!C1060:C1491,B1072,Sheet3!D1060:D1491)","v":0},null,null,null,null,{"$f":"Sheet3!C1060","v":0},{"$f":"Sheet3!B1060","v":0},{"$f":"Sheet3!E1060","v":0},{"$f":"Sheet3!F1060","v":0},{"$f":"Sheet3!G1060","v":0},{"$f":"Sheet3!H1060","v":0},{"$f":"Sheet3!A1060","v":0}]
[null,null,{"$f":"SUMIF(Sheet3!C1061:C1492,B1073,Sheet3!D1061:D1492)","v":0},null,null,null,null,{"$f":"Sheet3!C1061","v":0},{"$f":"Sheet3!B1061","v":0},{"$f":"Sheet3!E1061","v":0},{"$f":"Sheet3!F1061","v":0},{"$f":"Sheet3!G1061","v":0},{"$f":"Sheet3!H1061","v":0},{"$f":"Sheet3!A1061","v":0}]
[null,null,{"$f":"SUMIF(Sheet3!C1062:C1493,B1074,Sheet3!D1062:D1493)","v":0},null,null,null,null,{"$f":"Sheet3!C1062","v":0},{"$f":"Sheet3!B1062","v":0},{"$f":"Sheet3!E1062","v":0},{"$f":"Sheet3!F1062","v":0},{"$f":"Sheet3!G1062","v":0},{"$f":"Sheet3!H1062","v":0},{"$f":"Sheet3!A1062","v":0}]
[null,null,{"$f":"SUMIF(Sheet3!C1063:C1494,B1075,Sheet3!D1063:D1494)","v":0},null,null,null,null,{"$f":"Sheet3!C1063","v":0},{"$f":"Sheet3!B1063","v":0},{"$f":"Sheet3!E1063","v":0},{"$f":"Sheet3!F1063","v":0},{"$f":"Sheet3!G1063","v":0},{"$f":"Sheet3!H1063","v":0},{"$f":"Sheet3!A1063","v":0}]
[null,null,{"$f":"SUMIF(Sheet3!C1064:C1495,B1076,Sheet3!D1064:D1495)","v":0},null,null,null,null,{"$f":"Sheet3!C1064","v":0},{"$f":"Sheet3!B1064","v":0},{"$f":"Sheet3!E1064","v":0},{"$f":"Sheet3!F1064","v":0},{"$f":"Sheet3!G1064","v":0},{"$f":"Sheet3!H1064","v":0},{"$f":"Sheet3!A1064","v":0}]
[null,null,{"$f":"SUMIF(Sheet3!C1065:C1496,B1077,Sheet3!D1065:D1496)","v":0},null,null,null,null,{"$f":"Sheet3!C1065","v":0},{"$f":"Sheet3!B1065","v":0},{"$f":"Sheet3!E1065","v":0},{"$f":"Sheet3!F1065","v":0},{"$f":"Sheet3!G1065","v":0},{"$f":"Sheet3!H1065","v":0},{"$f":"Sheet3!A1065","v":0}]
[null,null,{"$f":"SUMIF(Sheet3!C1066:C1497,B1078,Sheet3!D1066:D1497)","v":0},null,null,null,null,{"$f":"Sheet3!C1066","v":0},{"$f":"Sheet3!B1066","v":0},{"$f":"Sheet3!E1066","v":0},{"$f":"Sheet3!F1066","v":0},{"$f":"Sheet3!G1066","v":0},{"$f":"Sheet3!H1066","v":0},{"$f":"Sheet3!A1066","v":0}]
[null,null,{"$f":"SUMIF(Sheet3!C1067:C1498,B1079,Sheet3!D1067:D1498)","v":0},null,null,null,null,{"$f":"Sheet3!C1067","v":0},{"$f":"Sheet3!B1067","v":0},{"$f":"Sheet3!E1067","v":0},{"$f":"Sheet3!F1067","v":0},{"$f":"Sheet3!G1067","v":0},{"$f":"Sheet3!H1067","v":0},{"$f":"Sheet3!A1067","v":0}]
[null,null,{"$f":"SUMIF(Sheet3!C1068:C1499,B1080,Sheet3!D1068:D1499)","v":0},null,null,null,null,{"$f":"Sheet3!C1068","v":0},{"$f":"Sheet3!B1068","v":0},{"$f":"Sheet3!E1068","v":0},{"$f":"Sheet3!F1068","v":0},{"$f":"Sheet3!G1068","v":0},{"$f":"Sheet3!H1068","v":0},{"$f":"Sheet3!A1068","v":0}]
[null,null,{"$f":"SUMIF(Sheet3!C1069:C1500,B1081,Sheet3!D1069:D1500)","v":0},null,null,null,null,{"$f":"Sheet3!C1069","v":0},{"$f":"Sheet3!B1069","v":0},{"$f":"Sheet3!E1069","v":0},{"$f":"Sheet3!F1069","v":0},{"$f":"Sheet3!G1069","v":0},{"$f":"Sheet3!H1069","v":0},{"$f":"Sheet3!A1069","v":0}]
[null,null,{"$f":"SUMIF(Sheet3!C1070:C1501,B1082,Sheet3!D1070:D1501)","v":0},null,null,null,null,{"$f":"Sheet3!C1070","v":0},{"$f":"Sheet3!B1070","v":0},{"$f":"Sheet3!E1070","v":0},{"$f":"Sheet3!F1070","v":0},{"$f":"Sheet3!G1070","v":0},{"$f":"Sheet3!H1070","v":0},{"$f":"Sheet3!A1070","v":0}]
[null,null,{"$f":"SUMIF(Sheet3!C1071:C1502,B1083,Sheet3!D1071:D1502)","v":0},null,null,null,null,{"$f":"Sheet3!C1071","v":0},{"$f":"Sheet3!B1071","v":0},{"$f":"Sheet3!E1071","v":0},{"$f":"Sheet3!F1071","v":0},{"$f":"Sheet3!G1071","v":0},{"$f":"Sheet3!H1071","v":0},{"$f":"Sheet3!A1071","v":0}]
[null,null,{"$f":"SUMIF(Sheet3!C1072:C1503,B1084,Sheet3!D1072:D1503)","v":0},null,null,null,null,{"$f":"Sheet3!C1072","v":0},{"$f":"Sheet3!B1072","v":0},{"$f":"Sheet3!E1072","v":0},{"$f":"Sheet3!F1072","v":0},{"$f":"Sheet3!G1072","v":0},{"$f":"Sheet3!H1072","v":0},{"$f":"Sheet3!A1072","v":0}]
[null,null,{"$f":"SUMIF(Sheet3!C1073:C1504,B1085,Sheet3!D1073:D1504)","v":0},null,null,null,null,{"$f":"Sheet3!C1073","v":0},{"$f":"Sheet3!B1073","v":0},{"$f":"Sheet3!E1073","v":0},{"$f":"Sheet3!F1073","v":0},{"$f":"Sheet3!G1073","v":0},{"$f":"Sheet3!H1073","v":0},{"$f":"Sheet3!A1073","v":0}]
[null,null,{"$f":"SUMIF(Sheet3!C1074:C1505,B1086,Sheet3!D1074:D1505)","v":0},null,null,null,null,{"$f":"Sheet3!C1074","v":0},{"$f":"Sheet3!B1074","v":0},{"$f":"Sheet3!E1074","v":0},{"$f":"Sheet3!F1074","v":0},{"$f":"Sheet3!G1074","v":0},{"$f":"Sheet3!H1074","v":0},{"$f":"Sheet3!A1074","v":0}]
[null,null,{"$f":"SUMIF(Sheet3!C1075:C1506,B1087,Sheet3!D1075:D1506)","v":0},null,null,null,null,{"$f":"Sheet3!C1075","v":0},{"$f":"Sheet3!B1075","v":0},{"$f":"Sheet3!E1075","v":0},{"$f":"Sheet3!F1075","v":0},{"$f":"Sheet3!G1075","v":0},{"$f":"Sheet3!H1075","v":0},{"$f":"Sheet3!A1075","v":0}]
[null,null,{"$f":"SUMIF(Sheet3!C1076:C1507,B1088,Sheet3!D1076:D1507)","v":0},null,null,null,null,{"$f":"Sheet3!C1076","v":0},{"$f":"Sheet3!B1076","v":0},{"$f":"Sheet3!E1076","v":0},{"$f":"Sheet3!F1076","v":0},{"$f":"Sheet3!G1076","v":0},{"$f":"Sheet3!H1076","v":0},{"$f":"Sheet3!A1076","v":0}]
[null,null,{"$f":"SUMIF(Sheet3!C1077:C1508,B1089,Sheet3!D1077:D1508)","v":0},null,null,null,null,{"$f":"Sheet3!C1077","v":0},{"$f":"Sheet3!B1077","v":0},{"$f":"Sheet3!E1077","v":0},{"$f":"Sheet3!F1077","v":0},{"$f":"Sheet3!G1077","v":0},{"$f":"Sheet3!H1077","v":0},{"$f":"Sheet3!A1077","v":0}]
[null,null,{"$f":"SUMIF(Sheet3!C1078:C1509,B1090,Sheet3!D1078:D1509)","v":0},null,null,null,null,{"$f":"Sheet3!C1078","v":0},{"$f":"Sheet3!B1078","v":0},{"$f":"Sheet3!E1078","v":0},{"$f":"Sheet3!F1078","v":0},{"$f":"Sheet3!G1078","v":0},{"$f":"Sheet3!H1078","v":0},{"$f":"Sheet3!A1078","v":0}]
[null,null,{"$f":"SUMIF(Sheet3!C1079:C1510,B1091,Sheet3!D1079:D1510)","v":0},null,null,null,null,{"$f":"Sheet3!C1079","v":0},{"$f":"Sheet3!B1079","v":0},{"$f":"Sheet3!E1079","v":0},{"$f":"Sheet3!F1079","v":0},{"$f":"Sheet3!G1079","v":0},{"$f":"Sheet3!H1079","v":0},{"$f":"Sheet3!A1079","v":0}]
[null,null,{"$f":"SUMIF(Sheet3!C1080:C1511,B1092,Sheet3!D1080:D1511)","v":0},null,null,null,null,{"$f":"Sheet3!C1080","v":0},{"$f":"Sheet3!B1080","v":0},{"$f":"Sheet3!E1080","v":0},{"$f":"Sheet3!F1080","v":0},{"$f":"Sheet3!G1080","v":0},{"$f":"Sheet3!H1080","v":0},{"$f":"Sheet3!A1080","v":0}]
[null,null,{"$f":"SUMIF(Sheet3!C1081:C1512,B1093,Sheet3!D1081:D1512)","v":0},null,null,null,null,{"$f":"Sheet3!C1081","v":0},{"$f":"Sheet3!B1081","v":0},{"$f":"Sheet3!E1081","v":0},{"$f":"Sheet3!F1081","v":0},{"$f":"Sheet3!G1081","v":0},{"$f":"Sheet3!H1081","v":0},{"$f":"Sheet3!A1081","v":0}]
[null,null,{"$f":"SUMIF(Sheet3!C1082:C1513,B1094,Sheet3!D1082:D1513)","v":0},null,null,null,null,{"$f":"Sheet3!C1082","v":0},{"$f":"Sheet3!B1082","v":0},{"$f":"Sheet3!E1082","v":0},{"$f":"Sheet3!F1082","v":0},{"$f":"Sheet3!G1082","v":0},{"$f":"Sheet3!H1082","v":0},{"$f":"Sheet3!A1082","v":0}]
[null,null,{"$f":"SUMIF(Sheet3!C1083:C1514,B1095,Sheet3!D1083:D1514)","v":0},null,null,null,null,{"$f":"Sheet3!C1083","v":0},{"$f":"Sheet3!B1083","v":0},{"$f":"Sheet3!E1083","v":0},{"$f":"Sheet3!F1083","v":0},{"$f":"Sheet3!G1083","v":0},{"$f":"Sheet3!H1083","v":0},{"$f":"Sheet3!A1083","v":0}]
[null,null,{"$f":"SUMIF(Sheet3!C1084:C1515,B1096,Sheet3!D1084:D1515)","v":0},null,null,null,null,{"$f":"Sheet3!C1084","v":0},{"$f":"Sheet3!B1084","v":0},{"$f":"Sheet3!E1084","v":0},{"$f":"Sheet3!F1084","v":0},{"$f":"Sheet3!G1084","v":0},{"$f":"Sheet3!H1084","v":0},{"$f":"Sheet3!A1084","v":0}]
[null,null,{"$f":"SUMIF(Sheet3!C1085:C1516,B1097,Sheet3!D1085:D1516)","v":0},null,null,null,null,{"$f":"Sheet3!C1085","v":0},{"$f":"Sheet3!B1085","v":0},{"$f":"Sheet3!E1085","v":0},{"$f":"Sheet3!F1085","v":0},{"$f":"Sheet3!G1085","v":0},{"$f":"Sheet3!H1085","v":0},{"$f":"Sheet3!A1085","v":0}]
[null,null,{"$f":"SUMIF(Sheet3!C1086:C1517,B1098,Sheet3!D1086:D1517)","v":0},null,null,null,null,{"$f":"Sheet3!C1086","v":0},{"$f":"Sheet3!B1086","v":0},{"$f":"Sheet3!E1086","v":0},{"$f":"Sheet3!F1086","v":0},{"$f":"Sheet3!G1086","v":0},{"$f":"Sheet3!H1086","v":0},{"$f":"Sheet3!A1086","v":0}]
[null,null,{"$f":"SUMIF(Sheet3!C1087:C1518,B1099,Sheet3!D1087:D1518)","v":0},null,null,null,null,{"$f":"Sheet3!C1087","v":0},{"$f":"Sheet3!B1087","v":0},{"$f":"Sheet3!E1087","v":0},{"$f":"Sheet3!F1087","v":0},{"$f":"Sheet3!G1087","v":0},{"$f":"Sheet3!H1087","v":0},{"$f":"Sheet3!A1087","v":0}]
[null,null,{"$f":"SUMIF(Sheet3!C1088:C1519,B1100,Sheet3!D1088:D1519)","v":0},null,null,null,null,{"$f":"Sheet3!C1088","v":0},{"$f":"Sheet3!B1088","v":0},{"$f":"Sheet3!E1088","v":0},{"$f":"Sheet3!F1088","v":0},{"$f":"Sheet3!G1088","v":0},{"$f":"Sheet3!H1088","v":0},{"$f":"Sheet3!A1088","v":0}]
[null,null,{"$f":"SUMIF(Sheet3!C1089:C1520,B1101,Sheet3!D1089:D1520)","v":0},null,null,null,null,{"$f":"Sheet3!C1089","v":0},{"$f":"Sheet3!B1089","v":0},{"$f":"Sheet3!E1089","v":0},{"$f":"Sheet3!F1089","v":0},{"$f":"Sheet3!G1089","v":0},{"$f":"Sheet3!H1089","v":0},{"$f":"Sheet3!A1089","v":0}]
[null,null,{"$f":"SUMIF(Sheet3!C1090:C1521,B1102,Sheet3!D1090:D1521)","v":0},null,null,null,null,{"$f":"Sheet3!C1090","v":0},{"$f":"Sheet3!B1090","v":0},{"$f":"Sheet3!E1090","v":0},{"$f":"Sheet3!F1090","v":0},{"$f":"Sheet3!G1090","v":0},{"$f":"Sheet3!H1090","v":0},{"$f":"Sheet3!A1090","v":0}]
[null,null,{"$f":"SUMIF(Sheet3!C1091:C1522,B1103,Sheet3!D1091:D1522)","v":0},null,null,null,null,{"$f":"Sheet3!C1091","v":0},{"$f":"Sheet3!B1091","v":0},{"$f":"Sheet3!E1091","v":0},{"$f":"Sheet3!F1091","v":0},{"$f":"Sheet3!G1091","v":0},{"$f":"Sheet3!H1091","v":0},{"$f":"Sheet3!A1091","v":0}]
[null,null,{"$f":"SUMIF(Sheet3!C1092:C1523,B1104,Sheet3!D1092:D1523)","v":0},null,null,null,null,{"$f":"Sheet3!C1092","v":0},{"$f":"Sheet3!B1092","v":0},{"$f":"Sheet3!E1092","v":0},{"$f":"Sheet3!F1092","v":0},{"$f":"Sheet3!G1092","v":0},{"$f":"Sheet3!H1092","v":0},{"$f":"Sheet3!A1092","v":0}]
[null,null,{"$f":"SUMIF(Sheet3!C1093:C1524,B1105,Sheet3!D1093:D1524)","v":0},null,null,null,null,{"$f":"Sheet3!C1093","v":0},{"$f":"Sheet3!B1093","v":0},{"$f":"Sheet3!E1093","v":0},{"$f":"Sheet3!F1093","v":0},{"$f":"Sheet3!G1093","v":0},{"$f":"Sheet3!H1093","v":0},{"$f":"Sheet3!A1093","v":0}]
[null,null,{"$f":"SUMIF(Sheet3!C1094:C1525,B1106,Sheet3!D1094:D1525)","v":0},null,null,null,null,{"$f":"Sheet3!C1094","v":0},{"$f":"Sheet3!B1094","v":0},{"$f":"Sheet3!E1094","v":0},{"$f":"Sheet3!F1094","v":0},{"$f":"Sheet3!G1094","v":0},{"$f":"Sheet3!H1094","v":0},{"$f":"Sheet3!A1094","v":0}]
[null,null,{"$f":"SUMIF(Sheet3!C1095:C1526,B1107,Sheet3!D1095:D1526)","v":0},null,null,null,null,{"$f":"Sheet3!C1095","v":0},{"$f":"Sheet3!B1095","v":0},{"$f":"Sheet3!E1095","v":0},{"$f":"Sheet3!F1095","v":0},{"$f":"Sheet3!G1095","v":0},{"$f":"Sheet3!H1095","v":0},{"$f":"Sheet3!A1095","v":0}]
[null,null,{"$f":"SUMIF(Sheet3!C1096:C1527,B1108,Sheet3!D1096:D1527)","v":0},null,null,null,null,{"$f":"Sheet3!C1096","v":0},{"$f":"Sheet3!B1096","v":0},{"$f":"Sheet3!E1096","v":0},{"$f":"Sheet3!F1096","v":0},{"$f":"Sheet3!G1096","v":0},{"$f":"Sheet3!H1096","v":0},{"$f":"Sheet3!A1096","v":0}]
[null,null,{"$f":"SUMIF(Sheet3!C1097:C1528,B1109,Sheet3!D1097:D1528)","v":0},null,null,null,null,{"$f":"Sheet3!C1097","v":0},{"$f":"Sheet3!B1097","v":0},{"$f":"Sheet3!E1097","v":0},{"$f":"Sheet3!F1097","v":0},{"$f":"Sheet3!G1097","v":0},{"$f":"Sheet3!H1097","v":0},{"$f":"Sheet3!A1097","v":0}]
[null,null,{"$f":"SUMIF(Sheet3!C1098:C1529,B1110,Sheet3!D1098:D1529)","v":0},null,null,null,null,{"$f":"Sheet3!C1098","v":0},{"$f":"Sheet3!B1098","v":0},{"$f":"Sheet3!E1098","v":0},{"$f":"Sheet3!F1098","v":0},{"$f":"Sheet3!G1098","v":0},{"$f":"Sheet3!H1098","v":0},{"$f":"Sheet3!A1098","v":0}]
[null,null,{"$f":"SUMIF(Sheet3!C1099:C1530,B1111,Sheet3!D1099:D1530)","v":0},null,null,null,null,{"$f":"Sheet3!C1099","v":0},{"$f":"Sheet3!B1099","v":0},{"$f":"Sheet3!E1099","v":0},{"$f":"Sheet3!F1099","v":0},{"$f":"Sheet3!G1099","v":0},{"$f":"Sheet3!H1099","v":0},{"$f":"Sheet3!A1099","v":0}]
[null,null,{"$f":"SUMIF(Sheet3!C1100:C1531,B1112,Sheet3!D1100:D1531)","v":0},null,null,null,null,{"$f":"Sheet3!C1100","v":0},{"$f":"Sheet3!B1100","v":0},{"$f":"Sheet3!E1100","v":0},{"$f":"Sheet3!F1100","v":0},{"$f":"Sheet3!G1100","v":0},{"$f":"Sheet3!H1100","v":0},{"$f":"Sheet3!A1100","v":0}]
[null,null,{"$f":"SUMIF(Sheet3!C1101:C1532,B1113,Sheet3!D1101:D1532)","v":0},null,null,null,null,{"$f":"Sheet3!C1101","v":0},{"$f":"Sheet3!B1101","v":0},{"$f":"Sheet3!E1101","v":0},{"$f":"Sheet3!F1101","v":0},{"$f":"Sheet3!G1101","v":0},{"$f":"Sheet3!H1101","v":0},{"$f":"Sheet3!A1101","v":0}]
[null,null,{"$f":"SUMIF(Sheet3!C1102:C1533,B1114,Sheet3!D1102:D1533)","v":0},null,null,null,null,{"$f":"Sheet3!C1102","v":0},{"$f":"Sheet3!B1102","v":0},{"$f":"Sheet3!E1102","v":0},{"$f":"Sheet3!F1102","v":0},{"$f":"Sheet3!G1102","v":0},{"$f":"Sheet3!H1102","v":0},{"$f":"Sheet3!A1102","v":0}]
[null,null,{"$f":"SUMIF(Sheet3!C1103:C1534,B1115,Sheet3!D1103:D1534)","v":0},null,null,null,null,{"$f":"Sheet3!C1103","v":0},{"$f":"Sheet3!B1103","v":0},{"$f":"Sheet3!E1103","v":0},{"$f":"Sheet3!F1103","v":0},{"$f":"Sheet3!G1103","v":0},{"$f":"Sheet3!H1103","v":0},{"$f":"Sheet3!A1103","v":0}]
[null,null,{"$f":"SUMIF(Sheet3!C1104:C1535,B1116,Sheet3!D1104:D1535)","v":0},null,null,null,null,{"$f":"Sheet3!C1104","v":0},{"$f":"Sheet3!B1104","v":0},{"$f":"Sheet3!E1104","v":0},{"$f":"Sheet3!F1104","v":0},{"$f":"Sheet3!G1104","v":0},{"$f":"Sheet3!H1104","v":0},{"$f":"Sheet3!A1104","v":0}]
[null,null,{"$f":"SUMIF(Sheet3!C1105:C1536,B1117,Sheet3!D1105:D1536)","v":0},null,null,null,null,{"$f":"Sheet3!C1105","v":0},{"$f":"Sheet3!B1105","v":0},{"$f":"Sheet3!E1105","v":0},{"$f":"Sheet3!F1105","v":0},{"$f":"Sheet3!G1105","v":0},{"$f":"Sheet3!H1105","v":0},{"$f":"Sheet3!A1105","v":0}]
[null,null,{"$f":"SUMIF(Sheet3!C1106:C1537,B1118,Sheet3!D1106:D1537)","v":0},null,null,null,null,{"$f":"Sheet3!C1106","v":0},{"$f":"Sheet3!B1106","v":0},{"$f":"Sheet3!E1106","v":0},{"$f":"Sheet3!F1106","v":0},{"$f":"Sheet3!G1106","v":0},{"$f":"Sheet3!H1106","v":0},{"$f":"Sheet3!A1106","v":0}]
[null,null,{"$f":"SUMIF(Sheet3!C1107:C1538,B1119,Sheet3!D1107:D1538)","v":0},null,null,null,null,{"$f":"Sheet3!C1107","v":0},{"$f":"Sheet3!B1107","v":0},{"$f":"Sheet3!E1107","v":0},{"$f":"Sheet3!F1107","v":0},{"$f":"Sheet3!G1107","v":0},{"$f":"Sheet3!H1107","v":0},{"$f":"Sheet3!A1107","v":0}]
[null,null,{"$f":"SUMIF(Sheet3!C1108:C1539,B1120,Sheet3!D1108:D1539)","v":0},null,null,null,null,{"$f":"Sheet3!C1108","v":0},{"$f":"Sheet3!B1108","v":0},{"$f":"Sheet3!E1108","v":0},{"$f":"Sheet3!F1108","v":0},{"$f":"Sheet3!G1108","v":0},{"$f":"Sheet3!H1108","v":0},{"$f":"Sheet3!A1108","v":0}]
[null,null,{"$f":"SUMIF(Sheet3!C1109:C1540,B1121,Sheet3!D1109:D1540)","v":0},null,null,null,null,{"$f":"Sheet3!C1109","v":0},{"$f":"Sheet3!B1109","v":0},{"$f":"Sheet3!E1109","v":0},{"$f":"Sheet3!F1109","v":0},{"$f":"Sheet3!G1109","v":0},{"$f":"Sheet3!H1109","v":0},{"$f":"Sheet3!A1109","v":0}]
[null,null,{"$f":"SUMIF(Sheet3!C1110:C1541,B1122,Sheet3!D1110:D1541)","v":0},null,null,null,null,{"$f":"Sheet3!C1110","v":0},{"$f":"Sheet3!B1110","v":0},{"$f":"Sheet3!E1110","v":0},{"$f":"Sheet3!F1110","v":0},{"$f":"Sheet3!G1110","v":0},{"$f":"Sheet3!H1110","v":0},{"$f":"Sheet3!A1110","v":0}]
[null,null,{"$f":"SUMIF(Sheet3!C1111:C1542,B1123,Sheet3!D1111:D1542)","v":0},null,null,null,null,{"$f":"Sheet3!C1111","v":0},{"$f":"Sheet3!B1111","v":0},{"$f":"Sheet3!E1111","v":0},{"$f":"Sheet3!F1111","v":0},{"$f":"Sheet3!G1111","v":0},{"$f":"Sheet3!H1111","v":0},{"$f":"Sheet3!A1111","v":0}]
[null,null,{"$f":"SUMIF(Sheet3!C1112:C1543,B1124,Sheet3!D1112:D1543)","v":0},null,null,null,null,{"$f":"Sheet3!C1112","v":0},{"$f":"Sheet3!B1112","v":0},{"$f":"Sheet3!E1112","v":0},{"$f":"Sheet3!F1112","v":0},{"$f":"Sheet3!G1112","v":0},{"$f":"Sheet3!H1112","v":0},{"$f":"Sheet3!A1112","v":0}]
[null,null,{"$f":"SUMIF(Sheet3!C1113:C1544,B1125,Sheet3!D1113:D1544)","v":0},null,null,null,null,{"$f":"Sheet3!C1113","v":0},{"$f":"Sheet3!B1113","v":0},{"$f":"Sheet3!E1113","v":0},{"$f":"Sheet3!F1113","v":0},{"$f":"Sheet3!G1113","v":0},{"$f":"Sheet3!H1113","v":0},{"$f":"Sheet3!A1113","v":0}]
[null,null,{"$f":"SUMIF(Sheet3!C1114:C1545,B1126,Sheet3!D1114:D1545)","v":0},null,null,null,null,{"$f":"Sheet3!C1114","v":0},{"$f":"Sheet3!B1114","v":0},{"$f":"Sheet3!E1114","v":0},{"$f":"Sheet3!F1114","v":0},{"$f":"Sheet3!G1114","v":0},{"$f":"Sheet3!H1114","v":0},{"$f":"Sheet3!A1114","v":0}]
[null,null,{"$f":"SUMIF(Sheet3!C1115:C1546,B1127,Sheet3!D1115:D1546)","v":0},null,null,null,null,{"$f":"Sheet3!C1115","v":0},{"$f":"Sheet3!B1115","v":0},{"$f":"Sheet3!E1115","v":0},{"$f":"Sheet3!F1115","v":0},{"$f":"Sheet3!G1115","v":0},{"$f":"Sheet3!H1115","v":0},{"$f":"Sheet3!A1115","v":0}]
[null,null,{"$f":"SUMIF(Sheet3!C1116:C1547,B1128,Sheet3!D1116:D1547)","v":0},null,null,null,null,{"$f":"Sheet3!C1116","v":0},{"$f":"Sheet3!B1116","v":0},{"$f":"Sheet3!E1116","v":0},{"$f":"Sheet3!F1116","v":0},{"$f":"Sheet3!G1116","v":0},{"$f":"Sheet3!H1116","v":0},{"$f":"Sheet3!A1116","v":0}]
[null,null,null,null,null,null,null,{"$f":"Sheet3!C1117","v":0},{"$f":"Sheet3!B1117","v":0},{"$f":"Sheet3!E1117","v":0},{"$f":"Sheet3!F1117","v":0},{"$f":"Sheet3!G1117","v":0},{"$f":"Sheet3!H1117","v":0},{"$f":"Sheet3!A1117","v":0}]
[null,null,null,null,null,null,null,{"$f":"Sheet3!C1118","v":0},{"$f":"Sheet3!B1118","v":0},{"$f":"Sheet3!E1118","v":0},{"$f":"Sheet3!F1118","v":0},{"$f":"Sheet3!G1118","v":0},{"$f":"Sheet3!H1118","v":0},{"$f":"Sheet3!A1118","v":0}]
[null,null,null,null,null,null,null,{"$f":"Sheet3!C1119","v":0},{"$f":"Sheet3!B1119","v":0},{"$f":"Sheet3!E1119","v":0},{"$f":"Sheet3!F1119","v":0},{"$f":"Sheet3!G1119","v":0},{"$f":"Sheet3!H1119","v":0},{"$f":"Sheet3!A1119","v":0}]
[null,null,null,null,null,null,null,{"$f":"Sheet3!C1120","v":0},{"$f":"Sheet3!B1120","v":0},{"$f":"Sheet3!E1120","v":0},{"$f":"Sheet3!F1120","v":0},{"$f":"Sheet3!G1120","v":0},{"$f":"Sheet3!H1120","v":0},{"$f":"Sheet3!A1120","v":0}]
[null,null,null,null,null,null,null,{"$f":"Sheet3!C1121","v":0},{"$f":"Sheet3!B1121","v":0},{"$f":"Sheet3!E1121","v":0},{"$f":"Sheet3!F1121","v":0},{"$f":"Sheet3!G1121","v":0},{"$f":"Sheet3!H1121","v":0},{"$f":"Sheet3!A1121","v":0}]
[null,null,null,null,null,null,null,{"$f":"Sheet3!C1122","v":0},{"$f":"Sheet3!B1122","v":0},{"$f":"Sheet3!E1122","v":0},{"$f":"Sheet3!F1122","v":0},{"$f":"Sheet3!G1122","v":0},{"$f":"Sheet3!H1122","v":0},{"$f":"Sheet3!A1122","v":0}]
[null,null,null,null,null,null,null,{"$f":"Sheet3!C1123","v":0},{"$f":"Sheet3!B1123","v":0},{"$f":"Sheet3!E1123","v":0},{"$f":"Sheet3!F1123","v":0},{"$f":"Sheet3!G1123","v":0},{"$f":"Sheet3!H1123","v":0},{"$f":"Sheet3!A1123","v":0}]
[null,null,null,null,null,null,null,{"$f":"Sheet3!C1124","v":0},{"$f":"Sheet3!B1124","v":0},{"$f":"Sheet3!E1124","v":0},{"$f":"Sheet3!F1124","v":0},{"$f":"Sheet3!G1124","v":0},{"$f":"Sheet3!H1124","v":0},{"$f":"Sheet3!A1124","v":0}]
[null,null,null,null,null,null,null,{"$f":"Sheet3!C1125","v":0},{"$f":"Sheet3!B1125","v":0},{"$f":"Sheet3!E1125","v":0},{"$f":"Sheet3!F1125","v":0},{"$f":"Sheet3!G1125","v":0},{"$f":"Sheet3!H1125","v":0},{"$f":"Sheet3!A1125","v":0}]
[null,null,null,null,null,null,null,{"$f":"Sheet3!C1126","v":0},{"$f":"Sheet3!B1126","v":0},{"$f":"Sheet3!E1126","v":0},{"$f":"Sheet3!F1126","v":0},{"$f":"Sheet3!G1126","v":0},{"$f":"Sheet3!H1126","v":0},{"$f":"Sheet3!A1126","v":0}]
[null,null,null,null,null,null,null,{"$f":"Sheet3!C1127","v":0},{"$f":"Sheet3!B1127","v":0},{"$f":"Sheet3!E1127","v":0},{"$f":"Sheet3!F1127","v":0},{"$f":"Sheet3!G1127","v":0},{"$f":"Sheet3!H1127","v":0},{"$f":"Sheet3!A1127","v":0}]
[null,null,null,null,null,null,null,{"$f":"Sheet3!C1128","v":0},{"$f":"Sheet3!B1128","v":0},{"$f":"Sheet3!E1128","v":0},{"$f":"Sheet3!F1128","v":0},{"$f":"Sheet3!G1128","v":0},{"$f":"Sheet3!H1128","v":0},{"$f":"Sheet3!A1128","v":0}]
[null,null,null,null,null,null,null,{"$f":"Sheet3!C1129","v":0},{"$f":"Sheet3!B1129","v":0},{"$f":"Sheet3!E1129","v":0},{"$f":"Sheet3!F1129","v":0},{"$f":"Sheet3!G1129","v":0},{"$f":"Sheet3!H1129","v":0},{"$f":"Sheet3!A1129","v":0}]
[null,null,null,null,null,null,null,{"$f":"Sheet3!C1130","v":0},{"$f":"Sheet3!B1130","v":0},{"$f":"Sheet3!E1130","v":0},{"$f":"Sheet3!F1130","v":0},{"$f":"Sheet3!G1130","v":0},{"$f":"Sheet3!H1130","v":0},{"$f":"Sheet3!A1130","v":0}]
[null,null,null,null,null,null,null,{"$f":"Sheet3!C1131","v":0},{"$f":"Sheet3!B1131","v":0},{"$f":"Sheet3!E1131","v":0},{"$f":"Sheet3!F1131","v":0},{"$f":"Sheet3!G1131","v":0},{"$f":"Sheet3!H1131","v":0},{"$f":"Sheet3!A1131","v":0}]
[null,null,null,null,null,null,null,{"$f":"Sheet3!C1132","v":0},{"$f":"Sheet3!B1132","v":0},{"$f":"Sheet3!E1132","v":0},{"$f":"Sheet3!F1132","v":0},{"$f":"Sheet3!G1132","v":0},{"$f":"Sheet3!H1132","v":0},{"$f":"Sheet3!A1132","v":0}]
[null,null,null,null,null,null,null,{"$f":"Sheet3!C1133","v":0},{"$f":"Sheet3!B1133","v":0},{"$f":"Sheet3!E1133","v":0},{"$f":"Sheet3!F1133","v":0},{"$f":"Sheet3!G1133","v":0},{"$f":"Sheet3!H1133","v":0},{"$f":"Sheet3!A1133","v":0}]
[null,null,null,null,null,null,null,{"$f":"Sheet3!C1134","v":0},{"$f":"Sheet3!B1134","v":0},{"$f":"Sheet3!E1134","v":0},{"$f":"Sheet3!F1134","v":0},{"$f":"Sheet3!G1134","v":0},{"$f":"Sheet3!H1134","v":0},{"$f":"Sheet3!A1134","v":0}]
[null,null,null,null,null,null,null,{"$f":"Sheet3!C1135","v":0},{"$f":"Sheet3!B1135","v":0},{"$f":"Sheet3!E1135","v":0},{"$f":"Sheet3!F1135","v":0},{"$f":"Sheet3!G1135","v":0},{"$f":"Sheet3!H1135","v":0},{"$f":"Sheet3!A1135","v":0}]
[null,null,null,null,null,null,null,{"$f":"Sheet3!C1136","v":0},{"$f":"Sheet3!B1136","v":0},{"$f":"Sheet3!E1136","v":0},{"$f":"Sheet3!F1136","v":0},{"$f":"Sheet3!G1136","v":0},{"$f":"Sheet3!H1136","v":0},{"$f":"Sheet3!A1136","v":0}]
[null,null,null,null,null,null,null,{"$f":"Sheet3!C1137","v":0},{"$f":"Sheet3!B1137","v":0},{"$f":"Sheet3!E1137","v":0},{"$f":"Sheet3!F1137","v":0},{"$f":"Sheet3!G1137","v":0},{"$f":"Sheet3!H1137","v":0},{"$f":"Sheet3!A1137","v":0}]
[null,null,null,null,null,null,null,{"$f":"Sheet3!C1138","v":0},{"$f":"Sheet3!B1138","v":0},{"$f":"Sheet3!E1138","v":0},{"$f":"Sheet3!F1138","v":0},{"$f":"Sheet3!G1138","v":0},{"$f":"Sheet3!H1138","v":0},{"$f":"Sheet3!A1138","v":0}]
[null,null,null,null,null,null,null,{"$f":"Sheet3!C1139","v":0},{"$f":"Sheet3!B1139","v":0},{"$f":"Sheet3!E1139","v":0},{"$f":"Sheet3!F1139","v":0},{"$f":"Sheet3!G1139","v":0},{"$f":"Sheet3!H1139","v":0},{"$f":"Sheet3!A1139","v":0}]
[null,null,null,null,null,null,null,{"$f":"Sheet3!C1140","v":0},{"$f":"Sheet3!B1140","v":0},{"$f":"Sheet3!E1140","v":0},{"$f":"Sheet3!F1140","v":0},{"$f":"Sheet3!G1140","v":0},{"$f":"Sheet3!H1140","v":0},{"$f":"Sheet3!A1140","v":0}]
[null,null,null,null,null,null,null,{"$f":"Sheet3!C1141","v":0},{"$f":"Sheet3!B1141","v":0},{"$f":"Sheet3!E1141","v":0},{"$f":"Sheet3!F1141","v":0},{"$f":"Sheet3!G1141","v":0},{"$f":"Sheet3!H1141","v":0},{"$f":"Sheet3!A1141","v":0}]
[null,null,null,null,null,null,null,{"$f":"Sheet3!C1142","v":0},{"$f":"Sheet3!B1142","v":0},{"$f":"Sheet3!E1142","v":0},{"$f":"Sheet3!F1142","v":0},{"$f":"Sheet3!G1142","v":0},{"$f":"Sheet3!H1142","v":0},{"$f":"Sheet3!A1142","v":0}]
[null,null,null,null,null,null,null,{"$f":"Sheet3!C1143","v":0},{"$f":"Sheet3!B1143","v":0},{"$f":"Sheet3!E1143","v":0},{"$f":"Sheet3!F1143","v":0},{"$f":"Sheet3!G1143","v":0},{"$f":"Sheet3!H1143","v":0},{"$f":"Sheet3!A1143","v":0}]
[null,null,null,null,null,null,null,{"$f":"Sheet3!C1144","v":0},{"$f":"Sheet3!B1144","v":0},{"$f":"Sheet3!E1144","v":0},{"$f":"Sheet3!F1144","v":0},{"$f":"Sheet3!G1144","v":0},{"$f":"Sheet3!H1144","v":0},{"$f":"Sheet3!A1144","v":0}]
[null,null,null,null,null,null,null,{"$f":"Sheet3!C1145","v":0},{"$f":"Sheet3!B1145","v":0},{"$f":"Sheet3!E1145","v":0},{"$f":"Sheet3!F1145","v":0},{"$f":"Sheet3!G1145","v":0},{"$f":"Sheet3!H1145","v":0},{"$f":"Sheet3!A1145","v":0}]
[null,null,null,null,null,null,null,{"$f":"Sheet3!C1146","v":0},{"$f":"Sheet3!B1146","v":0},{"$f":"Sheet3!E1146","v":0},{"$f":"Sheet3!F1146","v":0},{"$f":"Sheet3!G1146","v":0},{"$f":"Sheet3!H1146","v":0},{"$f":"Sheet3!A1146","v":0}]
[null,null,null,null,null,null,null,{"$f":"Sheet3!C1147","v":0},{"$f":"Sheet3!B1147","v":0},{"$f":"Sheet3!E1147","v":0},{"$f":"Sheet3!F1147","v":0},{"$f":"Sheet3!G1147","v":0},{"$f":"Sheet3!H1147","v":0},{"$f":"Sheet3!A1147","v":0}]
[null,null,null,null,null,null,null,{"$f":"Sheet3!C1148","v":0},{"$f":"Sheet3!B1148","v":0},{"$f":"Sheet3!E1148","v":0},{"$f":"Sheet3!F1148","v":0},{"$f":"Sheet3!G1148","v":0},{"$f":"Sheet3!H1148","v":0},{"$f":"Sheet3!A1148","v":0}]
[null,null,null,null,null,null,null,{"$f":"Sheet3!C1149","v":0},{"$f":"Sheet3!B1149","v":0},{"$f":"Sheet3!E1149","v":0},{"$f":"Sheet3!F1149","v":0},{"$f":"Sheet3!G1149","v":0},{"$f":"Sheet3!H1149","v":0},{"$f":"Sheet3!A1149","v":0}]
[null,null,null,null,null,null,null,{"$f":"Sheet3!C1150","v":0},{"$f":"Sheet3!B1150","v":0},{"$f":"Sheet3!E1150","v":0},{"$f":"Sheet3!F1150","v":0},{"$f":"Sheet3!G1150","v":0},{"$f":"Sheet3!H1150","v":0},{"$f":"Sheet3!A1150","v":0}]
[null,null,null,null,null,null,null,{"$f":"Sheet3!C1151","v":0},{"$f":"Sheet3!B1151","v":0},{"$f":"Sheet3!E1151","v":0},{"$f":"Sheet3!F1151","v":0},{"$f":"Sheet3!G1151","v":0},{"$f":"Sheet3!H1151","v":0},{"$f":"Sheet3!A1151","v":0}]
[null,null,null,null,null,null,null,{"$f":"Sheet3!C1152","v":0},{"$f":"Sheet3!B1152","v":0},{"$f":"Sheet3!E1152","v":0},{"$f":"Sheet3!F1152","v":0},{"$f":"Sheet3!G1152","v":0},{"$f":"Sheet3!H1152","v":0},{"$f":"Sheet3!A1152","v":0}]
[null,null,null,null,null,null,null,{"$f":"Sheet3!C1153","v":0},{"$f":"Sheet3!B1153","v":0},{"$f":"Sheet3!E1153","v":0},{"$f":"Sheet3!F1153","v":0},{"$f":"Sheet3!G1153","v":0},{"$f":"Sheet3!H1153","v":0},{"$f":"Sheet3!A1153","v":0}]
[null,null,null,null,null,null,null,{"$f":"Sheet3!C1154","v":0},{"$f":"Sheet3!B1154","v":0},{"$f":"Sheet3!E1154","v":0},{"$f":"Sheet3!F1154","v":0},{"$f":"Sheet3!G1154","v":0},{"$f":"Sheet3!H1154","v":0},{"$f":"Sheet3!A1154","v":0}]
[null,null,null,null,null,null,null,{"$f":"Sheet3!C1155","v":0},{"$f":"Sheet3!B1155","v":0},{"$f":"Sheet3!E1155","v":0},{"$f":"Sheet3!F1155","v":0},{"$f":"Sheet3!G1155","v":0},{"$f":"Sheet3!H1155","v":0},{"$f":"Sheet3!A1155","v":0}]
[null,null,null,null,null,null,null,{"$f":"Sheet3!C1156","v":0},{"$f":"Sheet3!B1156","v":0},{"$f":"Sheet3!E1156","v":0},{"$f":"Sheet3!F1156","v":0},{"$f":"Sheet3!G1156","v":0},{"$f":"Sheet3!H1156","v":0},{"$f":"Sheet3!A1156","v":0}]
[null,null,null,null,null,null,null,{"$f":"Sheet3!C1157","v":0},{"$f":"Sheet3!B1157","v":0},{"$f":"Sheet3!E1157","v":0},{"$f":"Sheet3!F1157","v":0},{"$f":"Sheet3!G1157","v":0},{"$f":"Sheet3!H1157","v":0},{"$f":"Sheet3!A1157","v":0}]
[null,null,null,null,null,null,null,{"$f":"Sheet3!C1158","v":0},{"$f":"Sheet3!B1158","v":0},{"$f":"Sheet3!E1158","v":0},{"$f":"Sheet3!F1158","v":0},{"$f":"Sheet3!G1158","v":0},{"$f":"Sheet3!H1158","v":0},{"$f":"Sheet3!A1158","v":0}]
[null,null,null,null,null,null,null,{"$f":"Sheet3!C1159","v":0},{"$f":"Sheet3!B1159","v":0},{"$f":"Sheet3!E1159","v":0},{"$f":"Sheet3!F1159","v":0},{"$f":"Sheet3!G1159","v":0},{"$f":"Sheet3!H1159","v":0},{"$f":"Sheet3!A1159","v":0}]
[null,null,null,null,null,null,null,{"$f":"Sheet3!C1160","v":0},{"$f":"Sheet3!B1160","v":0},{"$f":"Sheet3!E1160","v":0},{"$f":"Sheet3!F1160","v":0},{"$f":"Sheet3!G1160","v":0},{"$f":"Sheet3!H1160","v":0},{"$f":"Sheet3!A1160","v":0}]
[null,null,null,null,null,null,null,{"$f":"Sheet3!C1161","v":0},{"$f":"Sheet3!B1161","v":0},{"$f":"Sheet3!E1161","v":0},{"$f":"Sheet3!F1161","v":0},{"$f":"Sheet3!G1161","v":0},{"$f":"Sheet3!H1161","v":0},{"$f":"Sheet3!A1161","v":0}]
[null,null,null,null,null,null,null,{"$f":"Sheet3!C1162","v":0},{"$f":"Sheet3!B1162","v":0},{"$f":"Sheet3!E1162","v":0},{"$f":"Sheet3!F1162","v":0},{"$f":"Sheet3!G1162","v":0},{"$f":"Sheet3!H1162","v":0},{"$f":"Sheet3!A1162","v":0}]
[null,null,null,null,null,null,null,{"$f":"Sheet3!C1163","v":0},{"$f":"Sheet3!B1163","v":0},{"$f":"Sheet3!E1163","v":0},{"$f":"Sheet3!F1163","v":0},{"$f":"Sheet3!G1163","v":0},{"$f":"Sheet3!H1163","v":0},{"$f":"Sheet3!A1163","v":0}]
[null,null,null,null,null,null,null,{"$f":"Sheet3!C1164","v":0},{"$f":"Sheet3!B1164","v":0},{"$f":"Sheet3!E1164","v":0},{"$f":"Sheet3!F1164","v":0},{"$f":"Sheet3!G1164","v":0},{"$f":"Sheet3!H1164","v":0},{"$f":"Sheet3!A1164","v":0}]
[null,null,null,null,null,null,null,{"$f":"Sheet3!C1165","v":0},{"$f":"Sheet3!B1165","v":0},{"$f":"Sheet3!E1165","v":0},{"$f":"Sheet3!F1165","v":0},{"$f":"Sheet3!G1165","v":0},{"$f":"Sheet3!H1165","v":0},{"$f":"Sheet3!A1165","v":0}]
[null,null,null,null,null,null,null,{"$f":"Sheet3!C1166","v":0},{"$f":"Sheet3!B1166","v":0},{"$f":"Sheet3!E1166","v":0},{"$f":"Sheet3!F1166","v":0},{"$f":"Sheet3!G1166","v":0},{"$f":"Sheet3!H1166","v":0},{"$f":"Sheet3!A1166","v":0}]
[null,null,null,null,null,null,null,{"$f":"Sheet3!C1167","v":0},{"$f":"Sheet3!B1167","v":0},{"$f":"Sheet3!E1167","v":0},{"$f":"Sheet3!F1167","v":0},{"$f":"Sheet3!G1167","v":0},{"$f":"Sheet3!H1167","v":0},{"$f":"Sheet3!A1167","v":0}]
[null,null,null,null,null,null,null,{"$f":"Sheet3!C1168","v":0},{"$f":"Sheet3!B1168","v":0},{"$f":"Sheet3!E1168","v":0},{"$f":"Sheet3!F1168","v":0},{"$f":"Sheet3!G1168","v":0},{"$f":"Sheet3!H1168","v":0},{"$f":"Sheet3!A1168","v":0}]
[null,null,null,null,null,null,null,{"$f":"Sheet3!C1169","v":0},{"$f":"Sheet3!B1169","v":0},{"$f":"Sheet3!E1169","v":0},{"$f":"Sheet3!F1169","v":0},{"$f":"Sheet3!G1169","v":0},{"$f":"Sheet3!H1169","v":0},{"$f":"Sheet3!A1169","v":0}]
[null,null,null,null,null,null,null,{"$f":"Sheet3!C1170","v":0},{"$f":"Sheet3!B1170","v":0},{"$f":"Sheet3!E1170","v":0},{"$f":"Sheet3!F1170","v":0},{"$f":"Sheet3!G1170","v":0},{"$f":"Sheet3!H1170","v":0},{"$f":"Sheet3!A1170","v":0}]
[null,null,null,null,null,null,null,{"$f":"Sheet3!C1171","v":0},{"$f":"Sheet3!B1171","v":0},{"$f":"Sheet3!E1171","v":0},{"$f":"Sheet3!F1171","v":0},{"$f":"Sheet3!G1171","v":0},{"$f":"Sheet3!H1171","v":0},{"$f":"Sheet3!A1171","v":0}]
[null,null,null,null,null,null,null,{"$f":"Sheet3!C1172","v":0},{"$f":"Sheet3!B1172","v":0},{"$f":"Sheet3!E1172","v":0},{"$f":"Sheet3!F1172","v":0},{"$f":"Sheet3!G1172","v":0},{"$f":"Sheet3!H1172","v":0},{"$f":"Sheet3!A1172","v":0}]
[null,null,null,null,null,null,null,{"$f":"Sheet3!C1173","v":0},{"$f":"Sheet3!B1173","v":0},{"$f":"Sheet3!E1173","v":0},{"$f":"Sheet3!F1173","v":0},{"$f":"Sheet3!G1173","v":0},{"$f":"Sheet3!H1173","v":0},{"$f":"Sheet3!A1173","v":0}]
[null,null,null,null,null,null,null,{"$f":"Sheet3!C1174","v":0},{"$f":"Sheet3!B1174","v":0},{"$f":"Sheet3!E1174","v":0},{"$f":"Sheet3!F1174","v":0},{"$f":"Sheet3!G1174","v":0},{"$f":"Sheet3!H1174","v":0},{"$f":"Sheet3!A1174","v":0}]
[null,null,null,null,null,null,null,{"$f":"Sheet3!C1175","v":0},{"$f":"Sheet3!B1175","v":0},{"$f":"Sheet3!E1175","v":0},{"$f":"Sheet3!F1175","v":0},{"$f":"Sheet3!G1175","v":0},{"$f":"Sheet3!H1175","v":0},{"$f":"Sheet3!A1175","v":0}]
[null,null,null,null,null,null,null,{"$f":"Sheet3!C1176","v":0},{"$f":"Sheet3!B1176","v":0},{"$f":"Sheet3!E1176","v":0},{"$f":"Sheet3!F1176","v":0},{"$f":"Sheet3!G1176","v":0},{"$f":"Sheet3!H1176","v":0},{"$f":"Sheet3!A1176","v":0}]
[null,null,null,null,null,null,null,{"$f":"Sheet3!C1177","v":0},{"$f":"Sheet3!B1177","v":0},{"$f":"Sheet3!E1177","v":0},{"$f":"Sheet3!F1177","v":0},{"$f":"Sheet3!G1177","v":0},{"$f":"Sheet3!H1177","v":0},{"$f":"Sheet3!A1177","v":0}]
[null,null,null,null,null,null,null,{"$f":"Sheet3!C1178","v":0},{"$f":"Sheet3!B1178","v":0},{"$f":"Sheet3!E1178","v":0},{"$f":"Sheet3!F1178","v":0},{"$f":"Sheet3!G1178","v":0},{"$f":"Sheet3!H1178","v":0},{"$f":"Sheet3!A1178","v":0}]
[null,null,null,null,null,null,null,{"$f":"Sheet3!C1179","v":0},{"$f":"Sheet3!B1179","v":0},{"$f":"Sheet3!E1179","v":0},{"$f":"Sheet3!F1179","v":0},{"$f":"Sheet3!G1179","v":0},{"$f":"Sheet3!H1179","v":0},{"$f":"Sheet3!A1179","v":0}]
[null,null,null,null,null,null,null,{"$f":"Sheet3!C1180","v":0},{"$f":"Sheet3!B1180","v":0},{"$f":"Sheet3!E1180","v":0},{"$f":"Sheet3!F1180","v":0},{"$f":"Sheet3!G1180","v":0},{"$f":"Sheet3!H1180","v":0},{"$f":"Sheet3!A1180","v":0}]
[null,null,null,null,null,null,null,{"$f":"Sheet3!C1181","v":0},{"$f":"Sheet3!B1181","v":0},{"$f":"Sheet3!E1181","v":0},{"$f":"Sheet3!F1181","v":0},{"$f":"Sheet3!G1181","v":0},{"$f":"Sheet3!H1181","v":0},{"$f":"Sheet3!A1181","v":0}]
[null,null,null,null,null,null,null,{"$f":"Sheet3!C1182","v":0},{"$f":"Sheet3!B1182","v":0},{"$f":"Sheet3!E1182","v":0},{"$f":"Sheet3!F1182","v":0},{"$f":"Sheet3!G1182","v":0},{"$f":"Sheet3!H1182","v":0},{"$f":"Sheet3!A1182","v":0}]
[null,null,null,null,null,null,null,{"$f":"Sheet3!C1183","v":0},{"$f":"Sheet3!B1183","v":0},{"$f":"Sheet3!E1183","v":0},{"$f":"Sheet3!F1183","v":0},{"$f":"Sheet3!G1183","v":0},{"$f":"Sheet3!H1183","v":0},{"$f":"Sheet3!A1183","v":0}]
[null,null,null,null,null,null,null,{"$f":"Sheet3!C1184","v":0},{"$f":"Sheet3!B1184","v":0},{"$f":"Sheet3!E1184","v":0},{"$f":"Sheet3!F1184","v":0},{"$f":"Sheet3!G1184","v":0},{"$f":"Sheet3!H1184","v":0},{"$f":"Sheet3!A1184","v":0}]
[null,null,null,null,null,null,null,{"$f":"Sheet3!C1185","v":0},{"$f":"Sheet3!B1185","v":0},{"$f":"Sheet3!E1185","v":0},{"$f":"Sheet3!F1185","v":0},{"$f":"Sheet3!G1185","v":0},{"$f":"Sheet3!H1185","v":0},{"$f":"Sheet3!A1185","v":0}]
[null,null,null,null,null,null,null,{"$f":"Sheet3!C1186","v":0},{"$f":"Sheet3!B1186","v":0},{"$f":"Sheet3!E1186","v":0},{"$f":"Sheet3!F1186","v":0},{"$f":"Sheet3!G1186","v":0},{"$f":"Sheet3!H1186","v":0},{"$f":"Sheet3!A1186","v":0}]
[null,null,null,null,null,null,null,{"$f":"Sheet3!C1187","v":0},{"$f":"Sheet3!B1187","v":0},{"$f":"Sheet3!E1187","v":0},{"$f":"Sheet3!F1187","v":0},{"$f":"Sheet3!G1187","v":0},{"$f":"Sheet3!H1187","v":0},{"$f":"Sheet3!A1187","v":0}]
[null,null,null,null,null,null,null,{"$f":"Sheet3!C1188","v":0},{"$f":"Sheet3!B1188","v":0},{"$f":"Sheet3!E1188","v":0},{"$f":"Sheet3!F1188","v":0},{"$f":"Sheet3!G1188","v":0},{"$f":"Sheet3!H1188","v":0},{"$f":"Sheet3!A1188","v":0}]
[null,null,null,null,null,null,null,{"$f":"Sheet3!C1189","v":0},{"$f":"Sheet3!B1189","v":0},{"$f":"Sheet3!E1189","v":0},{"$f":"Sheet3!F1189","v":0},{"$f":"Sheet3!G1189","v":0},{"$f":"Sheet3!H1189","v":0},{"$f":"Sheet3!A1189","v":0}]
[null,null,null,null,null,null,null,{"$f":"Sheet3!C1190","v":0},{"$f":"Sheet3!B1190","v":0},{"$f":"Sheet3!E1190","v":0},{"$f":"Sheet3!F1190","v":0},{"$f":"Sheet3!G1190","v":0},{"$f":"Sheet3!H1190","v":0},{"$f":"Sheet3!A1190","v":0}]
[null,null,null,null,null,null,null,{"$f":"Sheet3!C1191","v":0},{"$f":"Sheet3!B1191","v":0},{"$f":"Sheet3!E1191","v":0},{"$f":"Sheet3!F1191","v":0},{"$f":"Sheet3!G1191","v":0},{"$f":"Sheet3!H1191","v":0},{"$f":"Sheet3!A1191","v":0}]
[null,null,null,null,null,null,null,{"$f":"Sheet3!C1192","v":0},{"$f":"Sheet3!B1192","v":0},{"$f":"Sheet3!E1192","v":0},{"$f":"Sheet3!F1192","v":0},{"$f":"Sheet3!G1192","v":0},{"$f":"Sheet3!H1192","v":0},{"$f":"Sheet3!A1192","v":0}]
[null,null,null,null,null,null,null,{"$f":"Sheet3!C1193","v":0},{"$f":"Sheet3!B1193","v":0},{"$f":"Sheet3!E1193","v":0},{"$f":"Sheet3!F1193","v":0},{"$f":"Sheet3!G1193","v":0},{"$f":"Sheet3!H1193","v":0},{"$f":"Sheet3!A1193","v":0}]
[null,null,null,null,null,null,null,{"$f":"Sheet3!C1194","v":0},{"$f":"Sheet3!B1194","v":0},{"$f":"Sheet3!E1194","v":0},{"$f":"Sheet3!F1194","v":0},{"$f":"Sheet3!G1194","v":0},{"$f":"Sheet3!H1194","v":0},{"$f":"Sheet3!A1194","v":0}]
[null,null,null,null,null,null,null,{"$f":"Sheet3!C1195","v":0},{"$f":"Sheet3!B1195","v":0},{"$f":"Sheet3!E1195","v":0},{"$f":"Sheet3!F1195","v":0},{"$f":"Sheet3!G1195","v":0},{"$f":"Sheet3!H1195","v":0},{"$f":"Sheet3!A1195","v":0}]
[null,null,null,null,null,null,null,{"$f":"Sheet3!C1196","v":0},{"$f":"Sheet3!B1196","v":0},{"$f":"Sheet3!E1196","v":0},{"$f":"Sheet3!F1196","v":0},{"$f":"Sheet3!G1196","v":0},{"$f":"Sheet3!H1196","v":0},{"$f":"Sheet3!A1196","v":0}]
[null,null,null,null,null,null,null,{"$f":"Sheet3!C1197","v":0},{"$f":"Sheet3!B1197","v":0},{"$f":"Sheet3!E1197","v":0},{"$f":"Sheet3!F1197","v":0},{"$f":"Sheet3!G1197","v":0},{"$f":"Sheet3!H1197","v":0},{"$f":"Sheet3!A1197","v":0}]
[null,null,null,null,null,null,null,{"$f":"Sheet3!C1198","v":0},{"$f":"Sheet3!B1198","v":0},{"$f":"Sheet3!E1198","v":0},{"$f":"Sheet3!F1198","v":0},{"$f":"Sheet3!G1198","v":0},{"$f":"Sheet3!H1198","v":0},{"$f":"Sheet3!A1198","v":0}]
[null,null,null,null,null,null,null,{"$f":"Sheet3!C1199","v":0},{"$f":"Sheet3!B1199","v":0},{"$f":"Sheet3!E1199","v":0},{"$f":"Sheet3!F1199","v":0},{"$f":"Sheet3!G1199","v":0},{"$f":"Sheet3!H1199","v":0},{"$f":"Sheet3!A1199","v":0}]
[null,null,null,null,null,null,null,{"$f":"Sheet3!C1200","v":0},{"$f":"Sheet3!B1200","v":0},{"$f":"Sheet3!E1200","v":0},{"$f":"Sheet3!F1200","v":0},{"$f":"Sheet3!G1200","v":0},{"$f":"Sheet3!H1200","v":0},{"$f":"Sheet3!A1200","v":0}]
[null,null,null,null,null,null,null,{"$f":"Sheet3!C1201","v":0},{"$f":"Sheet3!B1201","v":0},{"$f":"Sheet3!E1201","v":0},{"$f":"Sheet3!F1201","v":0},{"$f":"Sheet3!G1201","v":0},{"$f":"Sheet3!H1201","v":0},{"$f":"Sheet3!A1201","v":0}]
[null,null,null,null,null,null,null,{"$f":"Sheet3!C1202","v":0},{"$f":"Sheet3!B1202","v":0},{"$f":"Sheet3!E1202","v":0},{"$f":"Sheet3!F1202","v":0},{"$f":"Sheet3!G1202","v":0},{"$f":"Sheet3!H1202","v":0},{"$f":"Sheet3!A1202","v":0}]
[null,null,null,null,null,null,null,{"$f":"Sheet3!C1203","v":0},{"$f":"Sheet3!B1203","v":0},{"$f":"Sheet3!E1203","v":0},{"$f":"Sheet3!F1203","v":0},{"$f":"Sheet3!G1203","v":0},{"$f":"Sheet3!H1203","v":0},{"$f":"Sheet3!A1203","v":0}]
[null,null,null,null,null,null,null,{"$f":"Sheet3!C1204","v":0},{"$f":"Sheet3!B1204","v":0},{"$f":"Sheet3!E1204","v":0},{"$f":"Sheet3!F1204","v":0},{"$f":"Sheet3!G1204","v":0},{"$f":"Sheet3!H1204","v":0},{"$f":"Sheet3!A1204","v":0}]
[null,null,null,null,null,null,null,{"$f":"Sheet3!C1205","v":0},{"$f":"Sheet3!B1205","v":0},{"$f":"Sheet3!E1205","v":0},{"$f":"Sheet3!F1205","v":0},{"$f":"Sheet3!G1205","v":0},{"$f":"Sheet3!H1205","v":0},{"$f":"Sheet3!A1205","v":0}]
[null,null,null,null,null,null,null,{"$f":"Sheet3!C1206","v":0},{"$f":"Sheet3!B1206","v":0},{"$f":"Sheet3!E1206","v":0},{"$f":"Sheet3!F1206","v":0},{"$f":"Sheet3!G1206","v":0},{"$f":"Sheet3!H1206","v":0},{"$f":"Sheet3!A1206","v":0}]
[null,null,null,null,null,null,null,{"$f":"Sheet3!C1207","v":0},{"$f":"Sheet3!B1207","v":0},{"$f":"Sheet3!E1207","v":0},{"$f":"Sheet3!F1207","v":0},{"$f":"Sheet3!G1207","v":0},{"$f":"Sheet3!H1207","v":0},{"$f":"Sheet3!A1207","v":0}]
[null,null,null,null,null,null,null,{"$f":"Sheet3!C1208","v":0},{"$f":"Sheet3!B1208","v":0},{"$f":"Sheet3!E1208","v":0},{"$f":"Sheet3!F1208","v":0},{"$f":"Sheet3!G1208","v":0},{"$f":"Sheet3!H1208","v":0},{"$f":"Sheet3!A1208","v":0}]
[null,null,null,null,null,null,null,{"$f":"Sheet3!C1209","v":0},{"$f":"Sheet3!B1209","v":0},{"$f":"Sheet3!E1209","v":0},{"$f":"Sheet3!F1209","v":0},{"$f":"Sheet3!G1209","v":0},{"$f":"Sheet3!H1209","v":0},{"$f":"Sheet3!A1209","v":0}]
[null,null,null,null,null,null,null,{"$f":"Sheet3!C1210","v":0},{"$f":"Sheet3!B1210","v":0},{"$f":"Sheet3!E1210","v":0},{"$f":"Sheet3!F1210","v":0},{"$f":"Sheet3!G1210","v":0},{"$f":"Sheet3!H1210","v":0},{"$f":"Sheet3!A1210","v":0}]
[null,null,null,null,null,null,null,{"$f":"Sheet3!C1211","v":0},{"$f":"Sheet3!B1211","v":0},{"$f":"Sheet3!E1211","v":0},{"$f":"Sheet3!F1211","v":0},{"$f":"Sheet3!G1211","v":0},{"$f":"Sheet3!H1211","v":0},{"$f":"Sheet3!A1211","v":0}]
[null,null,null,null,null,null,null,{"$f":"Sheet3!C1212","v":0},{"$f":"Sheet3!B1212","v":0},{"$f":"Sheet3!E1212","v":0},{"$f":"Sheet3!F1212","v":0},{"$f":"Sheet3!G1212","v":0},{"$f":"Sheet3!H1212","v":0},{"$f":"Sheet3!A1212","v":0}]
[null,null,null,null,null,null,null,{"$f":"Sheet3!C1213","v":0},{"$f":"Sheet3!B1213","v":0},{"$f":"Sheet3!E1213","v":0},{"$f":"Sheet3!F1213","v":0},{"$f":"Sheet3!G1213","v":0},{"$f":"Sheet3!H1213","v":0},{"$f":"Sheet3!A1213","v":0}]
[null,null,null,null,null,null,null,{"$f":"Sheet3!C1214","v":0},{"$f":"Sheet3!B1214","v":0},{"$f":"Sheet3!E1214","v":0},{"$f":"Sheet3!F1214","v":0},{"$f":"Sheet3!G1214","v":0},{"$f":"Sheet3!H1214","v":0},{"$f":"Sheet3!A1214","v":0}]
[null,null,null,null,null,null,null,{"$f":"Sheet3!C1215","v":0},{"$f":"Sheet3!B1215","v":0},{"$f":"Sheet3!E1215","v":0},{"$f":"Sheet3!F1215","v":0},{"$f":"Sheet3!G1215","v":0},{"$f":"Sheet3!H1215","v":0},{"$f":"Sheet3!A1215","v":0}]
[null,null,null,null,null,null,null,{"$f":"Sheet3!C1216","v":0},{"$f":"Sheet3!B1216","v":0},{"$f":"Sheet3!E1216","v":0},{"$f":"Sheet3!F1216","v":0},{"$f":"Sheet3!G1216","v":0},{"$f":"Sheet3!H1216","v":0},{"$f":"Sheet3!A1216","v":0}]
[null,null,null,null,null,null,null,{"$f":"Sheet3!C1217","v":0},{"$f":"Sheet3!B1217","v":0},{"$f":"Sheet3!E1217","v":0},{"$f":"Sheet3!F1217","v":0},{"$f":"Sheet3!G1217","v":0},{"$f":"Sheet3!H1217","v":0},{"$f":"Sheet3!A1217","v":0}]
[null,null,null,null,null,null,null,{"$f":"Sheet3!C1218","v":0},{"$f":"Sheet3!B1218","v":0},{"$f":"Sheet3!E1218","v":0},{"$f":"Sheet3!F1218","v":0},{"$f":"Sheet3!G1218","v":0},{"$f":"Sheet3!H1218","v":0},{"$f":"Sheet3!A1218","v":0}]
[null,null,null,null,null,null,null,{"$f":"Sheet3!C1219","v":0},{"$f":"Sheet3!B1219","v":0},{"$f":"Sheet3!E1219","v":0},{"$f":"Sheet3!F1219","v":0},{"$f":"Sheet3!G1219","v":0},{"$f":"Sheet3!H1219","v":0},{"$f":"Sheet3!A1219","v":0}]
[null,null,null,null,null,null,null,{"$f":"Sheet3!C1220","v":0},{"$f":"Sheet3!B1220","v":0},{"$f":"Sheet3!E1220","v":0},{"$f":"Sheet3!F1220","v":0},{"$f":"Sheet3!G1220","v":0},{"$f":"Sheet3!H1220","v":0},{"$f":"Sheet3!A1220","v":0}]
[null,null,null,null,null,null,null,{"$f":"Sheet3!C1221","v":0},{"$f":"Sheet3!B1221","v":0},{"$f":"Sheet3!E1221","v":0},{"$f":"Sheet3!F1221","v":0},{"$f":"Sheet3!G1221","v":0},{"$f":"Sheet3!H1221","v":0},{"$f":"Sheet3!A1221","v":0}]
[null,null,null,null,null,null,null,{"$f":"Sheet3!C1222","v":0},{"$f":"Sheet3!B1222","v":0},{"$f":"Sheet3!E1222","v":0},{"$f":"Sheet3!F1222","v":0},{"$f":"Sheet3!G1222","v":0},{"$f":"Sheet3!H1222","v":0},{"$f":"Sheet3!A1222","v":0}]
[null,null,null,null,null,null,null,{"$f":"Sheet3!C1223","v":0},{"$f":"Sheet3!B1223","v":0},{"$f":"Sheet3!E1223","v":0},{"$f":"Sheet3!F1223","v":0},{"$f":"Sheet3!G1223","v":0},{"$f":"Sheet3!H1223","v":0},{"$f":"Sheet3!A1223","v":0}]
[null,null,null,null,null,null,null,{"$f":"Sheet3!C1224","v":0},{"$f":"Sheet3!B1224","v":0},{"$f":"Sheet3!E1224","v":0},{"$f":"Sheet3!F1224","v":0},{"$f":"Sheet3!G1224","v":0},{"$f":"Sheet3!H1224","v":0},{"$f":"Sheet3!A1224","v":0}]
[null,null,null,null,null,null,null,{"$f":"Sheet3!C1225","v":0},{"$f":"Sheet3!B1225","v":0},{"$f":"Sheet3!E1225","v":0},{"$f":"Sheet3!F1225","v":0},{"$f":"Sheet3!G1225","v":0},{"$f":"Sheet3!H1225","v":0},{"$f":"Sheet3!A1225","v":0}]
[null,null,null,null,null,null,null,{"$f":"Sheet3!C1226","v":0},{"$f":"Sheet3!B1226","v":0},{"$f":"Sheet3!E1226","v":0},{"$f":"Sheet3!F1226","v":0},{"$f":"Sheet3!G1226","v":0},{"$f":"Sheet3!H1226","v":0},{"$f":"Sheet3!A1226","v":0}]
[null,null,null,null,null,null,null,{"$f":"Sheet3!C1227","v":0},{"$f":"Sheet3!B1227","v":0},{"$f":"Sheet3!E1227","v":0},{"$f":"Sheet3!F1227","v":0},{"$f":"Sheet3!G1227","v":0},{"$f":"Sheet3!H1227","v":0},{"$f":"Sheet3!A1227","v":0}]
[null,null,null,null,null,null,null,{"$f":"Sheet3!C1228","v":0},{"$f":"Sheet3!B1228","v":0},{"$f":"Sheet3!E1228","v":0},{"$f":"Sheet3!F1228","v":0},{"$f":"Sheet3!G1228","v":0},{"$f":"Sheet3!H1228","v":0},{"$f":"Sheet3!A1228","v":0}]
[null,null,null,null,null,null,null,{"$f":"Sheet3!C1229","v":0},{"$f":"Sheet3!B1229","v":0},{"$f":"Sheet3!E1229","v":0},{"$f":"Sheet3!F1229","v":0},{"$f":"Sheet3!G1229","v":0},{"$f":"Sheet3!H1229","v":0},{"$f":"Sheet3!A1229","v":0}]
[null,null,null,null,null,null,null,{"$f":"Sheet3!C1230","v":0},{"$f":"Sheet3!B1230","v":0},{"$f":"Sheet3!E1230","v":0},{"$f":"Sheet3!F1230","v":0},{"$f":"Sheet3!G1230","v":0},{"$f":"Sheet3!H1230","v":0},{"$f":"Sheet3!A1230","v":0}]
[null,null,null,null,null,null,null,{"$f":"Sheet3!C1231","v":0},{"$f":"Sheet3!B1231","v":0},{"$f":"Sheet3!E1231","v":0},{"$f":"Sheet3!F1231","v":0},{"$f":"Sheet3!G1231","v":0},{"$f":"Sheet3!H1231","v":0},{"$f":"Sheet3!A1231","v":0}]
[null,null,null,null,null,null,null,{"$f":"Sheet3!C1232","v":0},{"$f":"Sheet3!B1232","v":0},{"$f":"Sheet3!E1232","v":0},{"$f":"Sheet3!F1232","v":0},{"$f":"Sheet3!G1232","v":0},{"$f":"Sheet3!H1232","v":0},{"$f":"Sheet3!A1232","v":0}]
[null,null,null,null,null,null,null,{"$f":"Sheet3!C1233","v":0},{"$f":"Sheet3!B1233","v":0},{"$f":"Sheet3!E1233","v":0},{"$f":"Sheet3!F1233","v":0},{"$f":"Sheet3!G1233","v":0},{"$f":"Sheet3!H1233","v":0},{"$f":"Sheet3!A1233","v":0}]
[null,null,null,null,null,null,null,{"$f":"Sheet3!C1234","v":0},{"$f":"Sheet3!B1234","v":0},{"$f":"Sheet3!E1234","v":0},{"$f":"Sheet3!F1234","v":0},{"$f":"Sheet3!G1234","v":0},{"$f":"Sheet3!H1234","v":0},{"$f":"Sheet3!A1234","v":0}]
[null,null,null,null,null,null,null,{"$f":"Sheet3!C1235","v":0},{"$f":"Sheet3!B1235","v":0},{"$f":"Sheet3!E1235","v":0},{"$f":"Sheet3!F1235","v":0},{"$f":"Sheet3!G1235","v":0},{"$f":"Sheet3!H1235","v":0},{"$f":"Sheet3!A1235","v":0}]
[null,null,null,null,null,null,null,{"$f":"Sheet3!C1236","v":0},{"$f":"Sheet3!B1236","v":0},{"$f":"Sheet3!E1236","v":0},{"$f":"Sheet3!F1236","v":0},{"$f":"Sheet3!G1236","v":0},{"$f":"Sheet3!H1236","v":0},{"$f":"Sheet3!A1236","v":0}]
[null,null,null,null,null,null,null,{"$f":"Sheet3!C1237","v":0},{"$f":"Sheet3!B1237","v":0},{"$f":"Sheet3!E1237","v":0},{"$f":"Sheet3!F1237","v":0},{"$f":"Sheet3!G1237","v":0},{"$f":"Sheet3!H1237","v":0},{"$f":"Sheet3!A1237","v":0}]
[null,null,null,null,null,null,null,{"$f":"Sheet3!C1238","v":0},{"$f":"Sheet3!B1238","v":0},{"$f":"Sheet3!E1238","v":0},{"$f":"Sheet3!F1238","v":0},{"$f":"Sheet3!G1238","v":0},{"$f":"Sheet3!H1238","v":0},{"$f":"Sheet3!A1238","v":0}]
[null,null,null,null,null,null,null,{"$f":"Sheet3!C1239","v":0},{"$f":"Sheet3!B1239","v":0},{"$f":"Sheet3!E1239","v":0},{"$f":"Sheet3!F1239","v":0},{"$f":"Sheet3!G1239","v":0},{"$f":"Sheet3!H1239","v":0},{"$f":"Sheet3!A1239","v":0}]
[null,null,null,null,null,null,null,{"$f":"Sheet3!C1240","v":0},{"$f":"Sheet3!B1240","v":0},{"$f":"Sheet3!E1240","v":0},{"$f":"Sheet3!F1240","v":0},{"$f":"Sheet3!G1240","v":0},{"$f":"Sheet3!H1240","v":0},{"$f":"Sheet3!A1240","v":0}]
[null,null,null,null,null,null,null,{"$f":"Sheet3!C1241","v":0},{"$f":"Sheet3!B1241","v":0},{"$f":"Sheet3!E1241","v":0},{"$f":"Sheet3!F1241","v":0},{"$f":"Sheet3!G1241","v":0},{"$f":"Sheet3!H1241","v":0},{"$f":"Sheet3!A1241","v":0}]
[null,null,null,null,null,null,null,{"$f":"Sheet3!C1242","v":0},{"$f":"Sheet3!B1242","v":0},{"$f":"Sheet3!E1242","v":0},{"$f":"Sheet3!F1242","v":0},{"$f":"Sheet3!G1242","v":0},{"$f":"Sheet3!H1242","v":0},{"$f":"Sheet3!A1242","v":0}]
[null,null,null,null,null,null,null,{"$f":"Sheet3!C1243","v":0},{"$f":"Sheet3!B1243","v":0},{"$f":"Sheet3!E1243","v":0},{"$f":"Sheet3!F1243","v":0},{"$f":"Sheet3!G1243","v":0},{"$f":"Sheet3!H1243","v":0},{"$f":"Sheet3!A1243","v":0}]
[null,null,null,null,null,null,null,{"$f":"Sheet3!C1244","v":0},{"$f":"Sheet3!B1244","v":0},{"$f":"Sheet3!E1244","v":0},{"$f":"Sheet3!F1244","v":0},{"$f":"Sheet3!G1244","v":0},{"$f":"Sheet3!H1244","v":0},{"$f":"Sheet3!A1244","v":0}]
[null,null,null,null,null,null,null,{"$f":"Sheet3!C1245","v":0},{"$f":"Sheet3!B1245","v":0},{"$f":"Sheet3!E1245","v":0},{"$f":"Sheet3!F1245","v":0},{"$f":"Sheet3!G1245","v":0},{"$f":"Sheet3!H1245","v":0},{"$f":"Sheet3!A1245","v":0}]
[null,null,null,null,null,null,null,{"$f":"Sheet3!C1246","v":0},{"$f":"Sheet3!B1246","v":0},{"$f":"Sheet3!E1246","v":0},{"$f":"Sheet3!F1246","v":0},{"$f":"Sheet3!G1246","v":0},{"$f":"Sheet3!H1246","v":0},{"$f":"Sheet3!A1246","v":0}]
[null,null,null,null,null,null,null,{"$f":"Sheet3!C1247","v":0},{"$f":"Sheet3!B1247","v":0},{"$f":"Sheet3!E1247","v":0},{"$f":"Sheet3!F1247","v":0},{"$f":"Sheet3!G1247","v":0},{"$f":"Sheet3!H1247","v":0},{"$f":"Sheet3!A1247","v":0}]
[null,null,null,null,null,null,null,{"$f":"Sheet3!C1248","v":0},{"$f":"Sheet3!B1248","v":0},{"$f":"Sheet3!E1248","v":0},{"$f":"Sheet3!F1248","v":0},{"$f":"Sheet3!G1248","v":0},{"$f":"Sheet3!H1248","v":0},{"$f":"Sheet3!A1248","v":0}]
[null,null,null,null,null,null,null,{"$f":"Sheet3!C1249","v":0},{"$f":"Sheet3!B1249","v":0},{"$f":"Sheet3!E1249","v":0},{"$f":"Sheet3!F1249","v":0},{"$f":"Sheet3!G1249","v":0},{"$f":"Sheet3!H1249","v":0},{"$f":"Sheet3!A1249","v":0}]
[null,null,null,null,null,null,null,{"$f":"Sheet3!C1250","v":0},{"$f":"Sheet3!B1250","v":0},{"$f":"Sheet3!E1250","v":0},{"$f":"Sheet3!F1250","v":0},{"$f":"Sheet3!G1250","v":0},{"$f":"Sheet3!H1250","v":0},{"$f":"Sheet3!A1250","v":0}]
[null,null,null,null,null,null,null,{"$f":"Sheet3!C1251","v":0},{"$f":"Sheet3!B1251","v":0},{"$f":"Sheet3!E1251","v":0},{"$f":"Sheet3!F1251","v":0},{"$f":"Sheet3!G1251","v":0},{"$f":"Sheet3!H1251","v":0},{"$f":"Sheet3!A1251","v":0}]
[null,null,null,null,null,null,null,{"$f":"Sheet3!C1252","v":0},{"$f":"Sheet3!B1252","v":0},{"$f":"Sheet3!E1252","v":0},{"$f":"Sheet3!F1252","v":0},{"$f":"Sheet3!G1252","v":0},{"$f":"Sheet3!H1252","v":0},{"$f":"Sheet3!A1252","v":0}]
[null,null,null,null,null,null,null,{"$f":"Sheet3!C1253","v":0},{"$f":"Sheet3!B1253","v":0},{"$f":"Sheet3!E1253","v":0},{"$f":"Sheet3!F1253","v":0},{"$f":"Sheet3!G1253","v":0},{"$f":"Sheet3!H1253","v":0},{"$f":"Sheet3!A1253","v":0}]
[null,null,null,null,null,null,null,{"$f":"Sheet3!C1254","v":0},{"$f":"Sheet3!B1254","v":0},{"$f":"Sheet3!E1254","v":0},{"$f":"Sheet3!F1254","v":0},{"$f":"Sheet3!G1254","v":0},{"$f":"Sheet3!H1254","v":0},{"$f":"Sheet3!A1254","v":0}]
[null,null,null,null,null,null,null,{"$f":"Sheet3!C1255","v":0},{"$f":"Sheet3!B1255","v":0},{"$f":"Sheet3!E1255","v":0},{"$f":"Sheet3!F1255","v":0},{"$f":"Sheet3!G1255","v":0},{"$f":"Sheet3!H1255","v":0}]
[null,null,null,null,null,null,null,{"$f":"Sheet3!C1256","v":0},{"$f":"Sheet3!B1256","v":0},{"$f":"Sheet3!E1256","v":0},{"$f":"Sheet3!F1256","v":0},{"$f":"Sheet3!G1256","v":0},{"$f":"Sheet3!H1256","v":0}]
[null,null,null,null,null,null,null,{"$f":"Sheet3!C1257","v":0},{"$f":"Sheet3!B1257","v":0},{"$f":"Sheet3!E1257","v":0},{"$f":"Sheet3!F1257","v":0},{"$f":"Sheet3!G1257","v":0},{"$f":"Sheet3!H1257","v":0}]
[null,null,null,null,null,null,null,{"$f":"Sheet3!C1258","v":0},{"$f":"Sheet3!B1258","v":0},{"$f":"Sheet3!E1258","v":0},{"$f":"Sheet3!F1258","v":0},{"$f":"Sheet3!G1258","v":0},{"$f":"Sheet3!H1258","v":0}]
[null,null,null,null,null,null,null,{"$f":"Sheet3!C1259","v":0},{"$f":"Sheet3!B1259","v":0},{"$f":"Sheet3!E1259","v":0},{"$f":"Sheet3!F1259","v":0},{"$f":"Sheet3!G1259","v":0},{"$f":"Sheet3!H1259","v":0}]
[null,null,null,null,null,null,null,{"$f":"Sheet3!C1260","v":0},{"$f":"Sheet3!B1260","v":0},{"$f":"Sheet3!E1260","v":0},{"$f":"Sheet3!F1260","v":0},{"$f":"Sheet3!G1260","v":0},{"$f":"Sheet3!H1260","v":0}]
[null,null,null,null,null,null,null,{"$f":"Sheet3!C1261","v":0},{"$f":"Sheet3!B1261","v":0},{"$f":"Sheet3!E1261","v":0},{"$f":"Sheet3!F1261","v":0},{"$f":"Sheet3!G1261","v":0},{"$f":"Sheet3!H1261","v":0}]
[null,null,null,null,null,null,null,{"$f":"Sheet3!C1262","v":0},{"$f":"Sheet3!B1262","v":0},{"$f":"Sheet3!E1262","v":0},{"$f":"Sheet3!F1262","v":0},{"$f":"Sheet3!G1262","v":0},{"$f":"Sheet3!H1262","v":0}]
[null,null,null,null,null,null,null,{"$f":"Sheet3!C1263","v":0},{"$f":"Sheet3!B1263","v":0},{"$f":"Sheet3!E1263","v":0},{"$f":"Sheet3!F1263","v":0},{"$f":"Sheet3!G1263","v":0},{"$f":"Sheet3!H1263","v":0}]
[null,null,null,null,null,null,null,{"$f":"Sheet3!C1264","v":0},{"$f":"Sheet3!B1264","v":0},{"$f":"Sheet3!E1264","v":0},{"$f":"Sheet3!F1264","v":0},{"$f":"Sheet3!G1264","v":0},{"$f":"Sheet3!H1264","v":0}]
[null,null,null,null,null,null,null,{"$f":"Sheet3!C1265","v":0},{"$f":"Sheet3!B1265","v":0},{"$f":"Sheet3!E1265","v":0},{"$f":"Sheet3!F1265","v":0},{"$f":"Sheet3!G1265","v":0},{"$f":"Sheet3!H1265","v":0}]
[null,null,null,null,null,null,null,{"$f":"Sheet3!C1266","v":0},{"$f":"Sheet3!B1266","v":0},{"$f":"Sheet3!E1266","v":0},{"$f":"Sheet3!F1266","v":0},{"$f":"Sheet3!G1266","v":0},{"$f":"Sheet3!H1266","v":0}]
[null,null,null,null,null,null,null,{"$f":"Sheet3!C1267","v":0},{"$f":"Sheet3!B1267","v":0},{"$f":"Sheet3!E1267","v":0},{"$f":"Sheet3!F1267","v":0},{"$f":"Sheet3!G1267","v":0},{"$f":"Sheet3!H1267","v":0}]
[null,null,null,null,null,null,null,{"$f":"Sheet3!C1268","v":0},{"$f":"Sheet3!B1268","v":0},{"$f":"Sheet3!E1268","v":0},{"$f":"Sheet3!F1268","v":0},{"$f":"Sheet3!G1268","v":0},{"$f":"Sheet3!H1268","v":0}]
[null,null,null,null,null,null,null,{"$f":"Sheet3!C1269","v":0},{"$f":"Sheet3!B1269","v":0},{"$f":"Sheet3!E1269","v":0},{"$f":"Sheet3!F1269","v":0},{"$f":"Sheet3!G1269","v":0},{"$f":"Sheet3!H1269","v":0}]
[null,null,null,null,null,null,null,{"$f":"Sheet3!C1270","v":0},{"$f":"Sheet3!B1270","v":0},{"$f":"Sheet3!E1270","v":0},{"$f":"Sheet3!F1270","v":0},{"$f":"Sheet3!G1270","v":0},{"$f":"Sheet3!H1270","v":0}]
[null,null,null,null,null,null,null,{"$f":"Sheet3!C1271","v":0},{"$f":"Sheet3!B1271","v":0},{"$f":"Sheet3!E1271","v":0},{"$f":"Sheet3!F1271","v":0},{"$f":"Sheet3!G1271","v":0},{"$f":"Sheet3!H1271","v":0}]
[null,null,null,null,null,null,null,{"$f":"Sheet3!C1272","v":0},{"$f":"Sheet3!B1272","v":0},{"$f":"Sheet3!E1272","v":0},{"$f":"Sheet3!F1272","v":0},{"$f":"Sheet3!G1272","v":0},{"$f":"Sheet3!H1272","v":0}]
[null,null,null,null,null,null,null,{"$f":"Sheet3!C1273","v":0},{"$f":"Sheet3!B1273","v":0},{"$f":"Sheet3!E1273","v":0},{"$f":"Sheet3!F1273","v":0},{"$f":"Sheet3!G1273","v":0},{"$f":"Sheet3!H1273","v":0}]
[null,null,null,null,null,null,null,{"$f":"Sheet3!C1274","v":0},{"$f":"Sheet3!B1274","v":0},{"$f":"Sheet3!E1274","v":0},{"$f":"Sheet3!F1274","v":0},{"$f":"Sheet3!G1274","v":0},{"$f":"Sheet3!H1274","v":0}]
[null,null,null,null,null,null,null,{"$f":"Sheet3!C1275","v":0},{"$f":"Sheet3!B1275","v":0},{"$f":"Sheet3!E1275","v":0},{"$f":"Sheet3!F1275","v":0},{"$f":"Sheet3!G1275","v":0},{"$f":"Sheet3!H1275","v":0}]
[null,null,null,null,null,null,null,{"$f":"Sheet3!C1276","v":0},{"$f":"Sheet3!B1276","v":0},{"$f":"Sheet3!E1276","v":0},{"$f":"Sheet3!F1276","v":0},{"$f":"Sheet3!G1276","v":0},{"$f":"Sheet3!H1276","v":0}]
[null,null,null,null,null,null,null,{"$f":"Sheet3!C1277","v":0},{"$f":"Sheet3!B1277","v":0},{"$f":"Sheet3!E1277","v":0},{"$f":"Sheet3!F1277","v":0},{"$f":"Sheet3!G1277","v":0},{"$f":"Sheet3!H1277","v":0}]
[null,null,null,null,null,null,null,{"$f":"Sheet3!C1278","v":0},{"$f":"Sheet3!B1278","v":0},{"$f":"Sheet3!E1278","v":0},{"$f":"Sheet3!F1278","v":0},{"$f":"Sheet3!G1278","v":0},{"$f":"Sheet3!H1278","v":0}]
[null,null,null,null,null,null,null,{"$f":"Sheet3!C1279","v":0},{"$f":"Sheet3!B1279","v":0},{"$f":"Sheet3!E1279","v":0},{"$f":"Sheet3!F1279","v":0},{"$f":"Sheet3!G1279","v":0},{"$f":"Sheet3!H1279","v":0}]
[null,null,null,null,null,null,null,{"$f":"Sheet3!C1280","v":0},{"$f":"Sheet3!B1280","v":0},{"$f":"Sheet3!E1280","v":0},{"$f":"Sheet3!F1280","v":0},{"$f":"Sheet3!G1280","v":0},{"$f":"Sheet3!H1280","v":0}]
[null,null,null,null,null,null,null,{"$f":"Sheet3!C1281","v":0},{"$f":"Sheet3!B1281","v":0},{"$f":"Sheet3!E1281","v":0},{"$f":"Sheet3!F1281","v":0},{"$f":"Sheet3!G1281","v":0},{"$f":"Sheet3!H1281","v":0}]
[null,null,null,null,null,null,null,{"$f":"Sheet3!C1282","v":0},{"$f":"Sheet3!B1282","v":0},{"$f":"Sheet3!E1282","v":0},{"$f":"Sheet3!F1282","v":0},{"$f":"Sheet3!G1282","v":0},{"$f":"Sheet3!H1282","v":0}]
[null,null,null,null,null,null,null,{"$f":"Sheet3!C1283","v":0},{"$f":"Sheet3!B1283","v":0},{"$f":"Sheet3!E1283","v":0},{"$f":"Sheet3!F1283","v":0},{"$f":"Sheet3!G1283","v":0},{"$f":"Sheet3!H1283","v":0}]
[null,null,null,null,null,null,null,{"$f":"Sheet3!C1284","v":0},{"$f":"Sheet3!B1284","v":0},{"$f":"Sheet3!E1284","v":0},{"$f":"Sheet3!F1284","v":0},{"$f":"Sheet3!G1284","v":0},{"$f":"Sheet3!H1284","v":0}]
[null,null,null,null,null,null,null,{"$f":"Sheet3!C1285","v":0},{"$f":"Sheet3!B1285","v":0},{"$f":"Sheet3!E1285","v":0},{"$f":"Sheet3!F1285","v":0},{"$f":"Sheet3!G1285","v":0},{"$f":"Sheet3!H1285","v":0}]
[null,null,null,null,null,null,null,{"$f":"Sheet3!C1286","v":0},{"$f":"Sheet3!B1286","v":0},{"$f":"Sheet3!E1286","v":0},{"$f":"Sheet3!F1286","v":0},{"$f":"Sheet3!G1286","v":0},{"$f":"Sheet3!H1286","v":0}]
[null,null,null,null,null,null,null,{"$f":"Sheet3!C1287","v":0},{"$f":"Sheet3!B1287","v":0},{"$f":"Sheet3!E1287","v":0},{"$f":"Sheet3!F1287","v":0},{"$f":"Sheet3!G1287","v":0},{"$f":"Sheet3!H1287","v":0}]
[null,null,null,null,null,null,null,{"$f":"Sheet3!C1288","v":0},{"$f":"Sheet3!B1288","v":0},{"$f":"Sheet3!E1288","v":0},{"$f":"Sheet3!F1288","v":0},{"$f":"Sheet3!G1288","v":0},{"$f":"Sheet3!H1288","v":0}]
[null,null,null,null,null,null,null,{"$f":"Sheet3!C1289","v":0},{"$f":"Sheet3!B1289","v":0},{"$f":"Sheet3!E1289","v":0},{"$f":"Sheet3!F1289","v":0},{"$f":"Sheet3!G1289","v":0},{"$f":"Sheet3!H1289","v":0}]
[null,null,null,null,null,null,null,{"$f":"Sheet3!C1290","v":0},{"$f":"Sheet3!B1290","v":0},{"$f":"Sheet3!E1290","v":0},{"$f":"Sheet3!F1290","v":0},{"$f":"Sheet3!G1290","v":0},{"$f":"Sheet3!H1290","v":0}]
[null,null,null,null,null,null,null,{"$f":"Sheet3!C1291","v":0},{"$f":"Sheet3!B1291","v":0},{"$f":"Sheet3!E1291","v":0},{"$f":"Sheet3!F1291","v":0},{"$f":"Sheet3!G1291","v":0},{"$f":"Sheet3!H1291","v":0}]
[null,null,null,null,null,null,null,{"$f":"Sheet3!C1292","v":0},{"$f":"Sheet3!B1292","v":0},{"$f":"Sheet3!E1292","v":0},{"$f":"Sheet3!F1292","v":0},{"$f":"Sheet3!G1292","v":0},{"$f":"Sheet3!H1292","v":0}]
[null,null,null,null,null,null,null,{"$f":"Sheet3!C1293","v":0},{"$f":"Sheet3!B1293","v":0},{"$f":"Sheet3!E1293","v":0},{"$f":"Sheet3!F1293","v":0},{"$f":"Sheet3!G1293","v":0},{"$f":"Sheet3!H1293","v":0}]
[null,null,null,null,null,null,null,{"$f":"Sheet3!C1294","v":0},{"$f":"Sheet3!B1294","v":0},{"$f":"Sheet3!E1294","v":0},{"$f":"Sheet3!F1294","v":0},{"$f":"Sheet3!G1294","v":0},{"$f":"Sheet3!H1294","v":0}]
[null,null,null,null,null,null,null,{"$f":"Sheet3!C1295","v":0},{"$f":"Sheet3!B1295","v":0},{"$f":"Sheet3!E1295","v":0},{"$f":"Sheet3!F1295","v":0},{"$f":"Sheet3!G1295","v":0},{"$f":"Sheet3!H1295","v":0}]
[null,null,null,null,null,null,null,{"$f":"Sheet3!C1296","v":0},{"$f":"Sheet3!B1296","v":0},{"$f":"Sheet3!E1296","v":0},{"$f":"Sheet3!F1296","v":0},{"$f":"Sheet3!G1296","v":0},{"$f":"Sheet3!H1296","v":0}]
[null,null,null,null,null,null,null,{"$f":"Sheet3!C1297","v":0},{"$f":"Sheet3!B1297","v":0},{"$f":"Sheet3!E1297","v":0},{"$f":"Sheet3!F1297","v":0},{"$f":"Sheet3!G1297","v":0},{"$f":"Sheet3!H1297","v":0}]
[null,null,null,null,null,null,null,{"$f":"Sheet3!C1298","v":0},{"$f":"Sheet3!B1298","v":0},{"$f":"Sheet3!E1298","v":0},{"$f":"Sheet3!F1298","v":0},{"$f":"Sheet3!G1298","v":0},{"$f":"Sheet3!H1298","v":0}]
[null,null,null,null,null,null,null,{"$f":"Sheet3!C1299","v":0},{"$f":"Sheet3!B1299","v":0},{"$f":"Sheet3!E1299","v":0},{"$f":"Sheet3!F1299","v":0},{"$f":"Sheet3!G1299","v":0},{"$f":"Sheet3!H1299","v":0}]
[null,null,null,null,null,null,null,{"$f":"Sheet3!C1300","v":0},{"$f":"Sheet3!B1300","v":0},{"$f":"Sheet3!E1300","v":0},{"$f":"Sheet3!F1300","v":0},{"$f":"Sheet3!G1300","v":0},{"$f":"Sheet3!H1300","v":0}]
[null,null,null,null,null,null,null,{"$f":"Sheet3!C1301","v":0},{"$f":"Sheet3!B1301","v":0},{"$f":"Sheet3!E1301","v":0},{"$f":"Sheet3!F1301","v":0},{"$f":"Sheet3!G1301","v":0},{"$f":"Sheet3!H1301","v":0}]
[null,null,null,null,null,null,null,{"$f":"Sheet3!C1302","v":0},{"$f":"Sheet3!B1302","v":0},{"$f":"Sheet3!E1302","v":0},{"$f":"Sheet3!F1302","v":0},{"$f":"Sheet3!G1302","v":0},{"$f":"Sheet3!H1302","v":0}]
[null,null,null,null,null,null,null,{"$f":"Sheet3!C1303","v":0},{"$f":"Sheet3!B1303","v":0},{"$f":"Sheet3!E1303","v":0},{"$f":"Sheet3!F1303","v":0},{"$f":"Sheet3!G1303","v":0},{"$f":"Sheet3!H1303","v":0}]
[null,null,null,null,null,null,null,{"$f":"Sheet3!C1304","v":0},{"$f":"Sheet3!B1304","v":0},{"$f":"Sheet3!E1304","v":0},{"$f":"Sheet3!F1304","v":0},{"$f":"Sheet3!G1304","v":0},{"$f":"Sheet3!H1304","v":0}]
[null,null,null,null,null,null,null,{"$f":"Sheet3!C1305","v":0},{"$f":"Sheet3!B1305","v":0},{"$f":"Sheet3!E1305","v":0},{"$f":"Sheet3!F1305","v":0},{"$f":"Sheet3!G1305","v":0},{"$f":"Sheet3!H1305","v":0}]
[null,null,null,null,null,null,null,{"$f":"Sheet3!C1306","v":0},{"$f":"Sheet3!B1306","v":0},{"$f":"Sheet3!E1306","v":0},{"$f":"Sheet3!F1306","v":0},{"$f":"Sheet3!G1306","v":0},{"$f":"Sheet3!H1306","v":0}]
[null,null,null,null,null,null,null,{"$f":"Sheet3!C1307","v":0},{"$f":"Sheet3!B1307","v":0},{"$f":"Sheet3!E1307","v":0},{"$f":"Sheet3!F1307","v":0},{"$f":"Sheet3!G1307","v":0},{"$f":"Sheet3!H1307","v":0}]
[null,null,null,null,null,null,null,{"$f":"Sheet3!C1308","v":0},{"$f":"Sheet3!B1308","v":0},{"$f":"Sheet3!E1308","v":0},{"$f":"Sheet3!F1308","v":0},{"$f":"Sheet3!G1308","v":0},{"$f":"Sheet3!H1308","v":0}]
[null,null,null,null,null,null,null,{"$f":"Sheet3!C1309","v":0},{"$f":"Sheet3!B1309","v":0},{"$f":"Sheet3!E1309","v":0},{"$f":"Sheet3!F1309","v":0},{"$f":"Sheet3!G1309","v":0},{"$f":"Sheet3!H1309","v":0}]
[null,null,null,null,null,null,null,{"$f":"Sheet3!C1310","v":0},{"$f":"Sheet3!B1310","v":0},{"$f":"Sheet3!E1310","v":0},{"$f":"Sheet3!F1310","v":0},{"$f":"Sheet3!G1310","v":0},{"$f":"Sheet3!H1310","v":0}]
[null,null,null,null,null,null,null,{"$f":"Sheet3!C1311","v":0},{"$f":"Sheet3!B1311","v":0},{"$f":"Sheet3!E1311","v":0},{"$f":"Sheet3!F1311","v":0},{"$f":"Sheet3!G1311","v":0},{"$f":"Sheet3!H1311","v":0}]
[null,null,null,null,null,null,null,{"$f":"Sheet3!C1312","v":0},{"$f":"Sheet3!B1312","v":0},{"$f":"Sheet3!E1312","v":0},{"$f":"Sheet3!F1312","v":0},{"$f":"Sheet3!G1312","v":0},{"$f":"Sheet3!H1312","v":0}]
[null,null,null,null,null,null,null,{"$f":"Sheet3!C1313","v":0},{"$f":"Sheet3!B1313","v":0},{"$f":"Sheet3!E1313","v":0},{"$f":"Sheet3!F1313","v":0},{"$f":"Sheet3!G1313","v":0},{"$f":"Sheet3!H1313","v":0}]
[null,null,null,null,null,null,null,{"$f":"Sheet3!C1314","v":0},{"$f":"Sheet3!B1314","v":0},{"$f":"Sheet3!E1314","v":0},{"$f":"Sheet3!F1314","v":0},{"$f":"Sheet3!G1314","v":0},{"$f":"Sheet3!H1314","v":0}]
[null,null,null,null,null,null,null,{"$f":"Sheet3!C1315","v":0},{"$f":"Sheet3!B1315","v":0},{"$f":"Sheet3!E1315","v":0},{"$f":"Sheet3!F1315","v":0},{"$f":"Sheet3!G1315","v":0},{"$f":"Sheet3!H1315","v":0}]
[null,null,null,null,null,null,null,{"$f":"Sheet3!C1316","v":0},{"$f":"Sheet3!B1316","v":0},{"$f":"Sheet3!E1316","v":0},{"$f":"Sheet3!F1316","v":0},{"$f":"Sheet3!G1316","v":0},{"$f":"Sheet3!H1316","v":0}]
[null,null,null,null,null,null,null,{"$f":"Sheet3!C1317","v":0},{"$f":"Sheet3!B1317","v":0},{"$f":"Sheet3!E1317","v":0},{"$f":"Sheet3!F1317","v":0},{"$f":"Sheet3!G1317","v":0},{"$f":"Sheet3!H1317","v":0}]
[null,null,null,null,null,null,null,{"$f":"Sheet3!C1318","v":0},{"$f":"Sheet3!B1318","v":0},{"$f":"Sheet3!E1318","v":0},{"$f":"Sheet3!F1318","v":0},{"$f":"Sheet3!G1318","v":0},{"$f":"Sheet3!H1318","v":0}]
[null,null,null,null,null,null,null,{"$f":"Sheet3!C1319","v":0},{"$f":"Sheet3!B1319","v":0},{"$f":"Sheet3!E1319","v":0},{"$f":"Sheet3!F1319","v":0},{"$f":"Sheet3!G1319","v":0},{"$f":"Sheet3!H1319","v":0}]
[null,null,null,null,null,null,null,{"$f":"Sheet3!C1320","v":0},{"$f":"Sheet3!B1320","v":0},{"$f":"Sheet3!E1320","v":0},{"$f":"Sheet3!F1320","v":0},{"$f":"Sheet3!G1320","v":0},{"$f":"Sheet3!H1320","v":0}]
[null,null,null,null,null,null,null,{"$f":"Sheet3!C1321","v":0},{"$f":"Sheet3!B1321","v":0},{"$f":"Sheet3!E1321","v":0},{"$f":"Sheet3!F1321","v":0},{"$f":"Sheet3!G1321","v":0},{"$f":"Sheet3!H1321","v":0}]
[null,null,null,null,null,null,null,{"$f":"Sheet3!C1322","v":0},{"$f":"Sheet3!B1322","v":0},{"$f":"Sheet3!E1322","v":0},{"$f":"Sheet3!F1322","v":0},{"$f":"Sheet3!G1322","v":0},{"$f":"Sheet3!H1322","v":0}]
[null,null,null,null,null,null,null,{"$f":"Sheet3!C1323","v":0},{"$f":"Sheet3!B1323","v":0},{"$f":"Sheet3!E1323","v":0},{"$f":"Sheet3!F1323","v":0},{"$f":"Sheet3!G1323","v":0},{"$f":"Sheet3!H1323","v":0}]
[null,null,null,null,null,null,null,{"$f":"Sheet3!C1324","v":0},{"$f":"Sheet3!B1324","v":0},{"$f":"Sheet3!E1324","v":0},{"$f":"Sheet3!F1324","v":0},{"$f":"Sheet3!G1324","v":0},{"$f":"Sheet3!H1324","v":0}]
[null,null,null,null,null,null,null,{"$f":"Sheet3!C1325","v":0},{"$f":"Sheet3!B1325","v":0},{"$f":"Sheet3!E1325","v":0},{"$f":"Sheet3!F1325","v":0},{"$f":"Sheet3!G1325","v":0},{"$f":"Sheet3!H1325","v":0}]
[null,null,null,null,null,null,null,{"$f":"Sheet3!C1326","v":0},{"$f":"Sheet3!B1326","v":0},{"$f":"Sheet3!E1326","v":0},{"$f":"Sheet3!F1326","v":0},{"$f":"Sheet3!G1326","v":0},{"$f":"Sheet3!H1326","v":0}]
[null,null,null,null,null,null,null,{"$f":"Sheet3!C1327","v":0},{"$f":"Sheet3!B1327","v":0},{"$f":"Sheet3!E1327","v":0},{"$f":"Sheet3!F1327","v":0},{"$f":"Sheet3!G1327","v":0},{"$f":"Sheet3!H1327","v":0}]
[null,null,null,null,null,null,null,{"$f":"Sheet3!C1328","v":0},{"$f":"Sheet3!B1328","v":0},{"$f":"Sheet3!E1328","v":0},{"$f":"Sheet3!F1328","v":0},{"$f":"Sheet3!G1328","v":0},{"$f":"Sheet3!H1328","v":0}]
[null,null,null,null,null,null,null,{"$f":"Sheet3!C1329","v":0},{"$f":"Sheet3!B1329","v":0},{"$f":"Sheet3!E1329","v":0},{"$f":"Sheet3!F1329","v":0},{"$f":"Sheet3!G1329","v":0},{"$f":"Sheet3!H1329","v":0}]
[null,null,null,null,null,null,null,{"$f":"Sheet3!C1330","v":0},{"$f":"Sheet3!B1330","v":0},{"$f":"Sheet3!E1330","v":0},{"$f":"Sheet3!F1330","v":0},{"$f":"Sheet3!G1330","v":0},{"$f":"Sheet3!H1330","v":0}]
[null,null,null,null,null,null,null,{"$f":"Sheet3!C1331","v":0},{"$f":"Sheet3!B1331","v":0},{"$f":"Sheet3!E1331","v":0},{"$f":"Sheet3!F1331","v":0},{"$f":"Sheet3!G1331","v":0},{"$f":"Sheet3!H1331","v":0}]
[null,null,null,null,null,null,null,{"$f":"Sheet3!C1332","v":0},{"$f":"Sheet3!B1332","v":0},{"$f":"Sheet3!E1332","v":0},{"$f":"Sheet3!F1332","v":0},{"$f":"Sheet3!G1332","v":0},{"$f":"Sheet3!H1332","v":0}]
[null,null,null,null,null,null,null,{"$f":"Sheet3!C1333","v":0},{"$f":"Sheet3!B1333","v":0},{"$f":"Sheet3!E1333","v":0},{"$f":"Sheet3!F1333","v":0},{"$f":"Sheet3!G1333","v":0},{"$f":"Sheet3!H1333","v":0}]
[null,null,null,null,null,null,null,{"$f":"Sheet3!C1334","v":0},{"$f":"Sheet3!B1334","v":0},{"$f":"Sheet3!E1334","v":0},{"$f":"Sheet3!F1334","v":0},{"$f":"Sheet3!G1334","v":0},{"$f":"Sheet3!H1334","v":0}]
[null,null,null,null,null,null,null,{"$f":"Sheet3!C1335","v":0},{"$f":"Sheet3!B1335","v":0},{"$f":"Sheet3!E1335","v":0},{"$f":"Sheet3!F1335","v":0},{"$f":"Sheet3!G1335","v":0},{"$f":"Sheet3!H1335","v":0}]
[null,null,null,null,null,null,null,{"$f":"Sheet3!C1336","v":0},{"$f":"Sheet3!B1336","v":0},{"$f":"Sheet3!E1336","v":0},{"$f":"Sheet3!F1336","v":0},{"$f":"Sheet3!G1336","v":0},{"$f":"Sheet3!H1336","v":0}]
[null,null,null,null,null,null,null,{"$f":"Sheet3!C1337","v":0},{"$f":"Sheet3!B1337","v":0},{"$f":"Sheet3!E1337","v":0},{"$f":"Sheet3!F1337","v":0},{"$f":"Sheet3!G1337","v":0},{"$f":"Sheet3!H1337","v":0}]
[null,null,null,null,null,null,null,{"$f":"Sheet3!C1338","v":0},{"$f":"Sheet3!B1338","v":0},{"$f":"Sheet3!E1338","v":0},{"$f":"Sheet3!F1338","v":0},{"$f":"Sheet3!G1338","v":0},{"$f":"Sheet3!H1338","v":0}]
[null,null,null,null,null,null,null,{"$f":"Sheet3!C1339","v":0},{"$f":"Sheet3!B1339","v":0},{"$f":"Sheet3!E1339","v":0},{"$f":"Sheet3!F1339","v":0},{"$f":"Sheet3!G1339","v":0},{"$f":"Sheet3!H1339","v":0}]
[null,null,null,null,null,null,null,{"$f":"Sheet3!C1340","v":0},{"$f":"Sheet3!B1340","v":0},{"$f":"Sheet3!E1340","v":0},{"$f":"Sheet3!F1340","v":0},{"$f":"Sheet3!G1340","v":0},{"$f":"Sheet3!H1340","v":0}]
[null,null,null,null,null,null,null,{"$f":"Sheet3!C1341","v":0},{"$f":"Sheet3!B1341","v":0},{"$f":"Sheet3!E1341","v":0},{"$f":"Sheet3!F1341","v":0},{"$f":"Sheet3!G1341","v":0},{"$f":"Sheet3!H1341","v":0}]
[null,null,null,null,null,null,null,{"$f":"Sheet3!C1342","v":0},{"$f":"Sheet3!B1342","v":0},{"$f":"Sheet3!E1342","v":0},{"$f":"Sheet3!F1342","v":0},{"$f":"Sheet3!G1342","v":0},{"$f":"Sheet3!H1342","v":0}]
[null,null,null,null,null,null,null,{"$f":"Sheet3!C1343","v":0},{"$f":"Sheet3!B1343","v":0},{"$f":"Sheet3!E1343","v":0},{"$f":"Sheet3!F1343","v":0},{"$f":"Sheet3!G1343","v":0},{"$f":"Sheet3!H1343","v":0}]
[null,null,null,null,null,null,null,{"$f":"Sheet3!C1344","v":0},{"$f":"Sheet3!B1344","v":0},{"$f":"Sheet3!E1344","v":0},{"$f":"Sheet3!F1344","v":0},{"$f":"Sheet3!G1344","v":0},{"$f":"Sheet3!H1344","v":0}]
[null,null,null,null,null,null,null,{"$f":"Sheet3!C1345","v":0},{"$f":"Sheet3!B1345","v":0},{"$f":"Sheet3!E1345","v":0},{"$f":"Sheet3!F1345","v":0},{"$f":"Sheet3!G1345","v":0},{"$f":"Sheet3!H1345","v":0}]
[null,null,null,null,null,null,null,{"$f":"Sheet3!C1346","v":0},{"$f":"Sheet3!B1346","v":0},{"$f":"Sheet3!E1346","v":0},{"$f":"Sheet3!F1346","v":0},{"$f":"Sheet3!G1346","v":0},{"$f":"Sheet3!H1346","v":0}]
[null,null,null,null,null,null,null,{"$f":"Sheet3!C1347","v":0},{"$f":"Sheet3!B1347","v":0},{"$f":"Sheet3!E1347","v":0},{"$f":"Sheet3!F1347","v":0},{"$f":"Sheet3!G1347","v":0},{"$f":"Sheet3!H1347","v":0}]
[null,null,null,null,null,null,null,{"$f":"Sheet3!C1348","v":0},{"$f":"Sheet3!B1348","v":0},{"$f":"Sheet3!E1348","v":0},{"$f":"Sheet3!F1348","v":0},{"$f":"Sheet3!G1348","v":0},{"$f":"Sheet3!H1348","v":0}]
[null,null,null,null,null,null,null,{"$f":"Sheet3!C1349","v":0},{"$f":"Sheet3!B1349","v":0},{"$f":"Sheet3!E1349","v":0},{"$f":"Sheet3!F1349","v":0},{"$f":"Sheet3!G1349","v":0},{"$f":"Sheet3!H1349","v":0}]
[null,null,null,null,null,null,null,{"$f":"Sheet3!C1350","v":0},{"$f":"Sheet3!B1350","v":0},{"$f":"Sheet3!E1350","v":0},{"$f":"Sheet3!F1350","v":0},{"$f":"Sheet3!G1350","v":0},{"$f":"Sheet3!H1350","v":0}]
[null,null,null,null,null,null,null,{"$f":"Sheet3!C1351","v":0},{"$f":"Sheet3!B1351","v":0},{"$f":"Sheet3!E1351","v":0},{"$f":"Sheet3!F1351","v":0},{"$f":"Sheet3!G1351","v":0},{"$f":"Sheet3!H1351","v":0}]
[null,null,null,null,null,null,null,{"$f":"Sheet3!C1352","v":0},{"$f":"Sheet3!B1352","v":0},{"$f":"Sheet3!E1352","v":0},{"$f":"Sheet3!F1352","v":0},{"$f":"Sheet3!G1352","v":0},{"$f":"Sheet3!H1352","v":0}]
[null,null,null,null,null,null,null,{"$f":"Sheet3!C1353","v":0},{"$f":"Sheet3!B1353","v":0},{"$f":"Sheet3!E1353","v":0},{"$f":"Sheet3!F1353","v":0},{"$f":"Sheet3!G1353","v":0},{"$f":"Sheet3!H1353","v":0}]
[null,null,null,null,null,null,null,{"$f":"Sheet3!C1354","v":0},{"$f":"Sheet3!B1354","v":0},{"$f":"Sheet3!E1354","v":0},{"$f":"Sheet3!F1354","v":0},{"$f":"Sheet3!G1354","v":0},{"$f":"Sheet3!H1354","v":0}]
[null,null,null,null,null,null,null,{"$f":"Sheet3!C1355","v":0},{"$f":"Sheet3!B1355","v":0},{"$f":"Sheet3!E1355","v":0},{"$f":"Sheet3!F1355","v":0},{"$f":"Sheet3!G1355","v":0},{"$f":"Sheet3!H1355","v":0}]
[null,null,null,null,null,null,null,{"$f":"Sheet3!C1356","v":0},{"$f":"Sheet3!B1356","v":0},{"$f":"Sheet3!E1356","v":0},{"$f":"Sheet3!F1356","v":0},{"$f":"Sheet3!G1356","v":0},{"$f":"Sheet3!H1356","v":0}]
[null,null,null,null,null,null,null,{"$f":"Sheet3!C1357","v":0},{"$f":"Sheet3!B1357","v":0},{"$f":"Sheet3!E1357","v":0},{"$f":"Sheet3!F1357","v":0},{"$f":"Sheet3!G1357","v":0},{"$f":"Sheet3!H1357","v":0}]
[null,null,null,null,null,null,null,{"$f":"Sheet3!C1358","v":0},{"$f":"Sheet3!B1358","v":0},{"$f":"Sheet3!E1358","v":0},{"$f":"Sheet3!F1358","v":0},{"$f":"Sheet3!G1358","v":0},{"$f":"Sheet3!H1358","v":0}]
[null,null,null,null,null,null,null,{"$f":"Sheet3!C1359","v":0},{"$f":"Sheet3!B1359","v":0},{"$f":"Sheet3!E1359","v":0},{"$f":"Sheet3!F1359","v":0},{"$f":"Sheet3!G1359","v":0},{"$f":"Sheet3!H1359","v":0}]
[null,null,null,null,null,null,null,{"$f":"Sheet3!C1360","v":0},{"$f":"Sheet3!B1360","v":0},{"$f":"Sheet3!E1360","v":0},{"$f":"Sheet3!F1360","v":0},{"$f":"Sheet3!G1360","v":0},{"$f":"Sheet3!H1360","v":0}]
[null,null,null,null,null,null,null,{"$f":"Sheet3!C1361","v":0},{"$f":"Sheet3!B1361","v":0},{"$f":"Sheet3!E1361","v":0},{"$f":"Sheet3!F1361","v":0},{"$f":"Sheet3!G1361","v":0},{"$f":"Sheet3!H1361","v":0}]
[null,null,null,null,null,null,null,{"$f":"Sheet3!C1362","v":0},{"$f":"Sheet3!B1362","v":0},{"$f":"Sheet3!E1362","v":0},{"$f":"Sheet3!F1362","v":0},{"$f":"Sheet3!G1362","v":0},{"$f":"Sheet3!H1362","v":0}]
[null,null,null,null,null,null,null,{"$f":"Sheet3!C1363","v":0},{"$f":"Sheet3!B1363","v":0},{"$f":"Sheet3!E1363","v":0},{"$f":"Sheet3!F1363","v":0},{"$f":"Sheet3!G1363","v":0},{"$f":"Sheet3!H1363","v":0}]
[null,null,null,null,null,null,null,{"$f":"Sheet3!C1364","v":0},{"$f":"Sheet3!B1364","v":0},{"$f":"Sheet3!E1364","v":0},{"$f":"Sheet3!F1364","v":0},{"$f":"Sheet3!G1364","v":0},{"$f":"Sheet3!H1364","v":0}]
[null,null,null,null,null,null,null,{"$f":"Sheet3!C1365","v":0},{"$f":"Sheet3!B1365","v":0},{"$f":"Sheet3!E1365","v":0},{"$f":"Sheet3!F1365","v":0},{"$f":"Sheet3!G1365","v":0},{"$f":"Sheet3!H1365","v":0}]
[null,null,null,null,null,null,null,{"$f":"Sheet3!C1366","v":0},{"$f":"Sheet3!B1366","v":0},{"$f":"Sheet3!E1366","v":0},{"$f":"Sheet3!F1366","v":0},{"$f":"Sheet3!G1366","v":0},{"$f":"Sheet3!H1366","v":0}]
[null,null,null,null,null,null,null,{"$f":"Sheet3!C1367","v":0},{"$f":"Sheet3!B1367","v":0},{"$f":"Sheet3!E1367","v":0},{"$f":"Sheet3!F1367","v":0},{"$f":"Sheet3!G1367","v":0},{"$f":"Sheet3!H1367","v":0}]
[null,null,null,null,null,null,null,{"$f":"Sheet3!C1368","v":0},{"$f":"Sheet3!B1368","v":0},{"$f":"Sheet3!E1368","v":0},{"$f":"Sheet3!F1368","v":0},{"$f":"Sheet3!G1368","v":0},{"$f":"Sheet3!H1368","v":0}]
[null,null,null,null,null,null,null,{"$f":"Sheet3!C1369","v":0},{"$f":"Sheet3!B1369","v":0},{"$f":"Sheet3!E1369","v":0},{"$f":"Sheet3!F1369","v":0},{"$f":"Sheet3!G1369","v":0},{"$f":"Sheet3!H1369","v":0}]
[null,null,null,null,null,null,null,{"$f":"Sheet3!C1370","v":0},{"$f":"Sheet3!B1370","v":0},{"$f":"Sheet3!E1370","v":0},{"$f":"Sheet3!F1370","v":0},{"$f":"Sheet3!G1370","v":0},{"$f":"Sheet3!H1370","v":0}]
[null,null,null,null,null,null,null,{"$f":"Sheet3!C1371","v":0},{"$f":"Sheet3!B1371","v":0},{"$f":"Sheet3!E1371","v":0},{"$f":"Sheet3!F1371","v":0},{"$f":"Sheet3!G1371","v":0},{"$f":"Sheet3!H1371","v":0}]
[null,null,null,null,null,null,null,{"$f":"Sheet3!C1372","v":0},{"$f":"Sheet3!B1372","v":0},{"$f":"Sheet3!E1372","v":0},{"$f":"Sheet3!F1372","v":0},{"$f":"Sheet3!G1372","v":0},{"$f":"Sheet3!H1372","v":0}]
[null,null,null,null,null,null,null,{"$f":"Sheet3!C1373","v":0},{"$f":"Sheet3!B1373","v":0},{"$f":"Sheet3!E1373","v":0},{"$f":"Sheet3!F1373","v":0},{"$f":"Sheet3!G1373","v":0},{"$f":"Sheet3!H1373","v":0}]
[null,null,null,null,null,null,null,{"$f":"Sheet3!C1374","v":0},{"$f":"Sheet3!B1374","v":0},{"$f":"Sheet3!E1374","v":0},{"$f":"Sheet3!F1374","v":0},{"$f":"Sheet3!G1374","v":0},{"$f":"Sheet3!H1374","v":0}]
[null,null,null,null,null,null,null,{"$f":"Sheet3!C1375","v":0},{"$f":"Sheet3!B1375","v":0},{"$f":"Sheet3!E1375","v":0},{"$f":"Sheet3!F1375","v":0},{"$f":"Sheet3!G1375","v":0},{"$f":"Sheet3!H1375","v":0}]
[null,null,null,null,null,null,null,{"$f":"Sheet3!C1376","v":0},{"$f":"Sheet3!B1376","v":0},{"$f":"Sheet3!E1376","v":0},{"$f":"Sheet3!F1376","v":0},{"$f":"Sheet3!G1376","v":0},{"$f":"Sheet3!H1376","v":0}]
[null,null,null,null,null,null,null,{"$f":"Sheet3!C1377","v":0},{"$f":"Sheet3!B1377","v":0},{"$f":"Sheet3!E1377","v":0},{"$f":"Sheet3!F1377","v":0},{"$f":"Sheet3!G1377","v":0},{"$f":"Sheet3!H1377","v":0}]
[null,null,null,null,null,null,null,{"$f":"Sheet3!C1378","v":0},{"$f":"Sheet3!B1378","v":0},{"$f":"Sheet3!E1378","v":0},{"$f":"Sheet3!F1378","v":0},{"$f":"Sheet3!G1378","v":0},{"$f":"Sheet3!H1378","v":0}]
[null,null,null,null,null,null,null,{"$f":"Sheet3!C1379","v":0},{"$f":"Sheet3!B1379","v":0},{"$f":"Sheet3!E1379","v":0},{"$f":"Sheet3!F1379","v":0},{"$f":"Sheet3!G1379","v":0},{"$f":"Sheet3!H1379","v":0}]
[null,null,null,null,null,null,null,{"$f":"Sheet3!C1380","v":0},{"$f":"Sheet3!B1380","v":0},{"$f":"Sheet3!E1380","v":0},{"$f":"Sheet3!F1380","v":0},{"$f":"Sheet3!G1380","v":0},{"$f":"Sheet3!H1380","v":0}]
[null,null,null,null,null,null,null,{"$f":"Sheet3!C1381","v":0},{"$f":"Sheet3!B1381","v":0},{"$f":"Sheet3!E1381","v":0},{"$f":"Sheet3!F1381","v":0},{"$f":"Sheet3!G1381","v":0},{"$f":"Sheet3!H1381","v":0}]
[null,null,null,null,null,null,null,{"$f":"Sheet3!C1382","v":0},{"$f":"Sheet3!B1382","v":0},{"$f":"Sheet3!E1382","v":0},{"$f":"Sheet3!F1382","v":0},{"$f":"Sheet3!G1382","v":0},{"$f":"Sheet3!H1382","v":0}]
[null,null,null,null,null,null,null,{"$f":"Sheet3!C1383","v":0},{"$f":"Sheet3!B1383","v":0},{"$f":"Sheet3!E1383","v":0},{"$f":"Sheet3!F1383","v":0},{"$f":"Sheet3!G1383","v":0},{"$f":"Sheet3!H1383","v":0}]

{"sheet":"Sheet3","index":2,"n_rows":436,"n_cols":8,"rows_kept":436,"cut":false,"hidden":true,"merged":[]}
[null,{"$f":"Vstup!C6","v":330000000},{"$f":"Vstup!D6","v":0.06},{"$f":"Vstup!E6","v":20},{"$f":"Vstup!F6","v":"2022-01-01"},{"$f":"Vstup!E15","v":2364222.4929779437}]
[null,null,{"$f":"C3+D1","v":2042},{"$f":"IF(D3>1,C3+D1,C3+D1-1)","v":2041}]
[null,{"$f":"E1","v":"2022-01-01"},{"$f":"YEAR(B3)","v":2022},{"$f":"MONTH(B3)","v":1},{"$f":"DAY(B3)","v":1}]
[null,"MESIC","ROK","SPLATKA","ZBYVA0","UMOR","UROK","ZBYVA1"]
[{"$f":"IF(B5=$D$3,1,IF(B5>$D$3,2,0))","v":1},1,{"$f":"C3","v":2022},{"$f":"IF(B5>=$D$3,$F$1,0)","v":2364222.4929779437},{"$f":"IF(A5>0,IF(A5=1,$B$1,H4),0)","v":330000000},{"$f":"IF(A5>0,D5-G5,0)","v":714222.49297794374},{"$f":"IF(A5>0,E5*$C$1/12,0)","v":1650000},{"$f":"E5-F5","v":329285777.50702208}]
[{"$f":"IF(B6=$D$3,1,IF(B6>$D$3,2,0))","v":2},2,{"$f":"C5","v":2022},{"$f":"IF(B6>=$D$3,$F$1,0)","v":2364222.4929779437},329285777.50702208,717793.60544283339,1646428.8875351103,328567983.90157926]
[2,3,{"$f":"C6","v":2022},2364222.4929779437,328567983.90157926,721382.57347004744,1642839.9195078963,327846601.3281092]
[2,4,2022,2364222.4929779437,327846601.3281092,724989.48633739771,1639233.006640546,327121611.84177178]
[2,5,2022,2364222.4929779437,327121611.84177178,728614.43376908498,1635608.0592088588,326392997.40800267]
[2,6,2022,2364222.4929779437,326392997.40800267,732257.50593793043,1631964.9870400133,325660739.90206474]
[2,7,2022,2364222.4929779437,325660739.90206474,735918.79346762015,1628303.6995103236,324924821.1085971]
[2,8,2022,2364222.4929779437,324924821.1085971,739598.38743495825,1624624.1055429855,324185222.72116214]
[2,9,2022,2364222.4929779437,324185222.72116214,743296.37937213317,1620926.1136058106,323441926.34179002]
[2,10,2022,2364222.4929779437,323441926.34179002,747012.8612689937,1617209.63170895,322694913.48052102]
[2,11,2022,2364222.4929779437,322694913.48052102,750747.92557533877,1613474.567402605,321944165.55494571]
[2,12,2022,2364222.4929779437,321944165.55494571,754501.66520321532,1609720.8277747284,321189663.88974249]
[{"$f":"IF(C17<=$C$2,IF(C17=$C$2,IF(B17<($D$3-1),2,IF(B17=($D$3-1),3,4)),2),4)","v":2},1,{"$f":"C16+1","v":2023},{"$f":"IF(C17<=$C$2,IF(C17=$C$2,IF(B17<$D$3,$F$1,0),$F$1),0)","v":2364222.4929779437},321189663.88974249,758274.17352923146,1605948.3194487123,320431389.71621329]
[2,2,{"$f":"C17","v":2023},{"$f":"IF(C18<=$C$2,IF(C18=$C$2,IF(B18<$D$3,$F$1,0),$F$1),0)","v":2364222.4929779437},320431389.71621329,762065.54439687752,1602156.9485810662,319669324.17181641]
[2,3,{"$f":"C18","v":2023},{"$f":"IF(C19<=$C$2,IF(C19=$C$2,IF(B19<$D$3,$F$1,0),$F$1),0)","v":2364222.4929779437},319669324.17181641,765875.87211886188,1598346.6208590819,318903448.29969752]
[2,4,2023,{"$f":"IF(C20<=$C$2,IF(C20=$C$2,IF(B20<$D$3,$F$1,0),$F$1),0)","v":2364222.4929779437},318903448.29969752,769705.25147945643,1594517.2414984873,318133743.04821807]
[2,5,2023,{"$f":"IF(C21<=$C$2,IF(C21=$C$2,IF(B21<$D$3,$F$1,0),$F$1),0)","v":2364222.4929779437},318133743.04821807,773553.77773685334,1590668.7152410904,317360189.27048123]
[2,6,2023,{"$f":"IF(C22<=$C$2,IF(C22=$C$2,IF(B22<$D$3,$F$1,0),$F$1),0)","v":2364222.4929779437},{"$f":"IF(A22>0,IF(A22=1,$B$1,H21),0)","v":317360189.27048123},{"$f":"IF(A22>0,D22-G22,0)","v":777421.54662553756},{"$f":"IF(A22>0,E22*$C$1/12,0)","v":1586800.9463524062},{"$f":"E22-F22","v":316582767.72385567}]
[2,7,2023,2364222.4929779437,316582767.72385567,781308.65435866523,1582913.8386192785,315801459.06949699]
[2,8,2023,2364222.4929779437,315801459.06949699,785215.19763045898,1579007.2953474848,315016243.87186652]
[2,9,2023,2364222.4929779437,315016243.87186652,789141.27361861104,1575081.2193593327,314227102.59824789]
[2,10,2023,2364222.4929779437,314227102.59824789,793086.97998670442,1571135.5129912393,313434015.61826116]
[2,11,2023,2364222.4929779437,313434015.61826116,797052.41488663806,1567170.0780913057,312636963.20337451]
[2,12,2023,2364222.4929779437,312636963.20337451,801037.67696107132,1563184.8160168724,311835925.52641344]
[2,1,{"$f":"C28+1","v":2024},2364222.4929779437,311835925.52641344,805042.86534587643,1559179.6276320673,311030882.66106755]
[2,2,{"$f":"C29","v":2024},2364222.4929779437,311030882.66106755,809068.0796726062,1555154.4133053375,310221814.58139491]
[2,3,{"$f":"C30","v":2024},2364222.4929779437,310221814.58139491,813113.42007096927,1551109.0729069745,309408701.16132396]
[2,4,2024,2364222.4929779437,309408701.16132396,817178.9871713242,1547043.5058066195,308591522.17415261]
[2,5,2024,2364222.4929779437,308591522.17415261,821264.88210718078,1542957.610870763,307770257.29204541]
[2,6,2024,2364222.4929779437,307770257.29204541,825371.20651771664,1538851.2864602271,306944886.08552772]
[2,7,2024,2364222.4929779437,306944886.08552772,829498.06255030516,1534724.4304276386,306115388.02297741]
[2,8,2024,2364222.4929779437,306115388.02297741,833645.55286305654,1530576.9401148872,305281742.47011435]
[2,9,2024,2364222.4929779437,305281742.47011435,837813.78062737198,1526408.7123505718,304443928.68948698]
[2,10,2024,2364222.4929779437,304443928.68948698,842002.84953050897,1522219.6434474348,303601925.83995646]
[2,11,2024,2364222.4929779437,303601925.83995646,846212.86377816135,1518009.6291997824,302755712.97617829]
[2,12,2024,2364222.4929779437,302755712.97617829,850443.92809705227,1513778.5648808915,301905269.04808122]
[2,1,{"$f":"C40+1","v":2025},2364222.4929779437,301905269.04808122,854696.14773753774,1509526.345240406,301050572.90034366]
[2,2,{"$f":"C41","v":2025},2364222.4929779437,301050572.90034366,858969.62847622554,1505252.8645017182,300191603.27186745]
[2,3,{"$f":"C42","v":2025},2364222.4929779437,300191603.27186745,863264.47661860636,1500958.0163593374,299328338.79524887]
[2,4,2025,2364222.4929779437,299328338.79524887,867580.79900169955,1496641.6939762442,298460757.99624717]
[2,5,2025,2364222.4929779437,298460757.99624717,871918.70299670799,1492303.7899812358,297588839.29325044]
[2,6,2025,2364222.4929779437,297588839.29325044,876278.29651169153,1487944.1964662522,296712560.99673873]
[2,7,2025,2364222.4929779437,296712560.99673873,880659.68799425033,1483562.8049836934,295831901.30874449]
[2,8,2025,2364222.4929779437,295831901.30874449,885062.9864342215,1479159.5065437222,294946838.32231027]
[2,9,2025,2364222.4929779437,294946838.32231027,889488.30136639229,1474734.1916115514,294057350.02094388]
[2,10,2025,2364222.4929779437,294057350.02094388,893935.7428732242,1470286.7501047195,293163414.27807063]
[2,11,2025,2364222.4929779437,293163414.27807063,898405.42158759059,1465817.0713903531,292265008.85648304]
[2,12,2025,2364222.4929779437,292265008.85648304,902897.44869552855,1461325.0442824152,291362111.4077875]
[2,1,{"$f":"C52+1","v":2026},2364222.4929779437,291362111.4077875,907411.93593900627,1456810.5570389375,290454699.47184849]
[2,2,{"$f":"C53","v":2026},2364222.4929779437,290454699.47184849,911948.99561870145,1452273.4973592423,289542750.47622979]
[2,3,{"$f":"C54","v":2026},2364222.4929779437,289542750.47622979,916508.74059679499,1447713.7523811487,288626241.73563302]
[2,4,2026,2364222.4929779437,288626241.73563302,921091.28429977852,1443131.2086781652,287705150.45133322]
[2,5,2026,2364222.4929779437,287705150.45133322,925696.74072127766,1438525.7522566661,286779453.71061194]
[2,6,2026,2364222.4929779437,286779453.71061194,930325.22442488419,1433897.2685530595,285849128.48618704]
[2,7,2026,2364222.4929779437,285849128.48618704,934976.85054700868,1429245.6424309351,284914151.63564003]
[2,8,2026,2364222.4929779437,284914151.63564003,939651.73479974386,1424570.7581781999,283974499.90084028]
[2,9,2026,2364222.4929779437,283974499.90084028,944349.99347374239,1419872.4995042013,283030149.90736651]
[2,10,2026,2364222.4929779437,283030149.90736651,949071.74344111118,1415150.7495368326,282081078.16392541]
[2,11,2026,2364222.4929779437,282081078.16392541,953817.10215831688,1410405.3908196269,281127261.0617671]
[2,12,2026,2364222.4929779437,281127261.0617671,958586.18766910816,1405636.3053088356,280168674.874098]
[2,1,{"$f":"C64+1","v":2027},2364222.4929779437,280168674.874098,963379.11860745377,1400843.37437049,279205295.75549054]
[2,2,{"$f":"C65","v":2027},2364222.4929779437,279205295.75549054,968196.01420049113,1396026.4787774526,278237099.74129003]
[2,3,{"$f":"C66","v":2027},2364222.4929779437,278237099.74129003,973036.99427149375,1391185.49870645,277264062.74701852]
[2,4,2027,2364222.4929779437,277264062.74701852,977902.17924285121,1386320.3137350925,276286160.56777567]
[2,5,2027,2364222.4929779437,276286160.56777567,982791.6901390655,1381430.8028388782,275303368.87763661]
[2,6,2027,2364222.4929779437,275303368.87763661,987705.64858976076,1376516.844388183,274315663.22904682]
[2,7,2027,2364222.4929779437,274315663.22904682,992644.17683270969,1371578.316145234,273323019.05221409]
[2,8,2027,2364222.4929779437,273323019.05221409,997607.39771687333,1366615.0952610704,272325411.65449721]
[2,9,2027,2364222.4929779437,272325411.65449721,1002595.4347054579,1361627.0582724859,271322816.21979177]
[2,10,2027,2364222.4929779437,271322816.21979177,1007608.4118789849,1356614.0810989588,270315207.80791277]
[2,11,2027,2364222.4929779437,270315207.80791277,1012646.4539383799,1351576.0390395639,269302561.3539744]
[2,12,2027,2364222.4929779437,269302561.3539744,1017709.6862080719,1346512.8067698719,268284851.66776633]
[2,1,{"$f":"C76+1","v":2028},2364222.4929779437,268284851.66776633,1022798.2346391121,1341424.2583388316,267262053.43312722]
[2,2,{"$f":"C77","v":2028},2364222.4929779437,267262053.43312722,1027912.2258123078,1336310.2671656359,266234141.20731491]
[2,3,{"$f":"C78","v":2028},2364222.4929779437,266234141.20731491,1033051.7869413693,1331170.7060365744,265201089.42037353]
[2,4,2028,2364222.4929779437,265201089.42037353,1038217.0458760762,1326005.4471018675,264162872.37449744]
[{"$f":"IF(C81<=$C$2,IF(C81=$C$2,IF(B81<($D$3-1),2,IF(B81=($D$3-1),3,4)),2),4)","v":2},5,2028,2364222.4929779437,264162872.37449744,1043408.1311054565,1320814.3618724872,263119464.24339199]
[2,6,2028,2364222.4929779437,263119464.24339199,1048625.1717609838,1315597.32121696,262070839.07163101]
[2,7,2028,2364222.4929779437,262070839.07163101,1053868.2976197887,1310354.1953581551,261016970.77401122]
[2,8,2028,2364222.4929779437,261016970.77401122,1059137.6391078876,1305084.8538700561,259957833.13490334]
[2,9,2028,2364222.4929779437,259957833.13490334,1064433.327303427,1299789.1656745167,258893399.8075999]
[2,10,2028,{"$f":"IF(C86<=$C$2,IF(C86=$C$2,IF(B86<$D$3,$F$1,0),$F$1),0)","v":2364222.4929779437},{"$f":"IF(A86>0,IF(A86=1,$B$1,H85),0)","v":258893399.8075999},{"$f":"IF(A86>0,D86-G86,0)","v":1069755.4939399443},{"$f":"IF(A86>0,E86*$C$1/12,0)","v":1294466.9990379994},{"$f":"E86-F86","v":257823644.31365997}]
[2,11,2028,2364222.4929779437,257823644.31365997,1075104.271409644,1289118.2215682997,256748540.04225034]
[2,12,2028,2364222.4929779437,256748540.04225034,1080479.7927666921,1283742.7002112516,255668060.24948364]
[2,1,{"$f":"C88+1","v":2029},2364222.4929779437,255668060.24948364,1085882.1917305256,1278340.3012474182,254582178.05775312]
[2,2,{"$f":"C89","v":2029},2364222.4929779437,254582178.05775312,1091311.6026891782,1272910.8902887655,253490866.45506394]
[2,3,{"$f":"C90","v":2029},2364222.4929779437,253490866.45506394,1096768.1607026241,1267454.3322753196,252394098.29436132]
[2,4,2029,2364222.4929779437,252394098.29436132,1102252.0015061372,1261970.4914718065,251291846.29285517]
[2,5,2029,2364222.4929779437,251291846.29285517,1107763.2615136679,1256459.2314642759,250184083.03134149]
[2,6,2029,2364222.4929779437,250184083.03134149,1113302.0778212363,1250920.4151567074,249070780.95352027]
[2,7,2029,2364222.4929779437,249070780.95352027,1118868.5882103425,1245353.9047676013,247951912.36530992]
[2,8,2029,2364222.4929779437,247951912.36530992,1124462.931151394,1239759.5618265497,246827449.43415853]
[2,9,2029,2364222.4929779437,246827449.43415853,1130085.2458071511,1234137.2471707927,245697364.18835139]
[2,10,2029,2364222.4929779437,245697364.18835139,1135735.6720361868,1228486.8209417569,244561628.51631519]
[2,11,2029,2364222.4929779437,244561628.51631519,1141414.350396368,1222808.1425815758,243420214.16591883]
[2,12,2029,2364222.4929779437,243420214.16591883,1147121.4221483497,1217101.070829594,242273092.74377048]
[2,1,{"$f":"C100+1","v":2030},2364222.4929779437,242273092.74377048,1152857.0292590915,1211365.4637188523,241120235.71451139]
[2,2,{"$f":"C101","v":2030},2364222.4929779437,241120235.71451139,1158621.3144053868,1205601.1785725569,239961614.40010601]
[2,3,{"$f":"C102","v":2030},2364222.4929779437,239961614.40010601,1164414.4209774137,1199808.0720005301,238797199.9791286]
[2,4,2030,2364222.4929779437,238797199.9791286,1170236.4930823008,1193985.999895643,237626963.48604628]
[2,5,2030,2364222.4929779437,237626963.48604628,1176087.6755477122,1188134.8174302315,236450875.81049857]
[2,6,2030,2364222.4929779437,236450875.81049857,1181968.1139254509,1182254.3790524928,235268907.69657311]
[2,7,2030,2364222.4929779437,235268907.69657311,1187877.9544950782,1176344.5384828656,234081029.74207804]
[2,8,2030,2364222.4929779437,234081029.74207804,1193817.3442675536,1170405.1487103901,232887212.39781049]
[2,9,2030,2364222.4929779437,232887212.39781049,1199786.4309888913,1164436.0619890525,231687425.96682161]
[2,10,2030,2364222.4929779437,231687425.96682161,1205785.3631438357,1158437.1298341081,230481640.60367778]
[2,11,2030,2364222.4929779437,230481640.60367778,1211814.2899595548,1152408.2030183889,229269826.31371823]
[2,12,2030,2364222.4929779437,229269826.31371823,1217873.3614093526,1146349.1315685911,228051952.95230886]
[2,1,{"$f":"C112+1","v":2031},2364222.4929779437,228051952.95230886,1223962.7282163994,1140259.7647615443,226827990.22409245]
[2,2,{"$f":"C113","v":2031},2364222.4929779437,226827990.22409245,1230082.5418574815,1134139.9511204623,225597907.68223497]
[2,3,{"$f":"C114","v":2031},2364222.4929779437,225597907.68223497,1236232.9545667691,1127989.5384111747,224361674.7276682]
[2,4,2031,2364222.4929779437,224361674.7276682,1242414.1193396028,1121808.373638341,223119260.60832858]
[2,5,2031,2364222.4929779437,223119260.60832858,1248626.189936301,1115596.3030416428,221870634.41839227]
[2,6,2031,2364222.4929779437,221870634.41839227,1254869.3208859824,1109353.1720919614,220615765.09750628]
[2,7,2031,2364222.4929779437,220615765.09750628,1261143.6674904122,1103078.8254875315,219354621.43001586]
[2,8,2031,2364222.4929779437,219354621.43001586,1267449.3858278645,1096773.1071500792,218087172.04418799]
[2,9,2031,2364222.4929779437,218087172.04418799,1273786.6327570039,1090435.8602209399,216813385.41143098]
[2,10,2031,2364222.4929779437,216813385.41143098,1280155.5659207888,1084066.9270571549,215533229.84551018]
[2,11,2031,2364222.4929779437,215533229.84551018,1286556.3437503928,1077666.149227551,214246673.5017598]
[2,12,2031,2364222.4929779437,214246673.5017598,1292989.1254691447,1071233.3675087991,212953684.37629065]
[2,1,{"$f":"C124+1","v":2032},2364222.4929779437,212953684.37629065,1299454.0710964906,1064768.4218814531,211654230.30519417]
[2,2,{"$f":"C125","v":2032},2364222.4929779437,211654230.30519417,1305951.341451973,1058271.1515259708,210348278.9637422]
[2,3,{"$f":"C126","v":2032},2364222.4929779437,210348278.9637422,1312481.0981592329,1051741.3948187109,209035797.86558297]
[2,4,2032,2364222.4929779437,209035797.86558297,1319043.5036500287,1045178.9893279149,207716754.36193293]
[2,5,2032,2364222.4929779437,207716754.36193293,1325638.7211682792,1038583.7718096646,206391115.64076465]
[2,6,2032,2364222.4929779437,206391115.64076465,1332266.9147741203,1031955.5782038233,205058848.72599053]
[2,7,2032,2364222.4929779437,205058848.72599053,1338928.2493479913,1025294.2436299525,203719920.47664255]
[2,8,2032,2364222.4929779437,203719920.47664255,1345622.8905947311,1018599.6023832127,202374297.58604783]
[2,9,2032,2364222.4929779437,202374297.58604783,1352351.0050477046,1011871.4879302392,201021946.58100012]
[2,10,2032,2364222.4929779437,201021946.58100012,1359112.7600729433,1005109.7329050006,199662833.82092717]
[2,11,2032,2364222.4929779437,199662833.82092717,1365908.323873308,998314.16910463583,198296925.49705386]
[2,12,2032,2364222.4929779437,198296925.49705386,1372737.8654926745,991484.62748526921,196924187.63156119]
[2,1,{"$f":"C136+1","v":2033},2364222.4929779437,196924187.63156119,1379601.554820138,984620.93815780582,195544586.07674104]
[2,2,{"$f":"C137","v":2033},2364222.4929779437,195544586.07674104,1386499.5625942387,977722.93038370518,194158086.5141468]
[2,3,{"$f":"C138","v":2033},2364222.4929779437,194158086.5141468,1393432.0604072097,970790.43257073406,192764654.45373958]
[2,4,2033,2364222.4929779437,192764654.45373958,1400399.2207092457,963823.27226869797,191364255.23303035]
[2,5,2033,2364222.4929779437,191364255.23303035,1407401.2168127922,956821.27616515162,189956854.01621756]
[2,6,2033,2364222.4929779437,189956854.01621756,1414438.2228968558,949784.27008108783,188542415.79332072]
[2,7,2033,2364222.4929779437,188542415.79332072,1421510.4140113401,942712.07896660361,187120905.37930939]
[2,8,2033,2364222.4929779437,187120905.37930939,1428617.9660813967,935604.52689654694,185692287.41322798]
[{"$f":"IF(C145<=$C$2,IF(C145=$C$2,IF(B145<($D$3-1),2,IF(B145=($D$3-1),3,4)),2),4)","v":2},9,2033,2364222.4929779437,185692287.41322798,1435761.0559118041,928461.43706613977,184256526.35731617]
[2,10,2033,2364222.4929779437,184256526.35731617,1442939.8611913631,921282.63178658078,182813586.4961248]
[2,11,2033,2364222.4929779437,182813586.4961248,1450154.5604973198,914067.93248062395,181363431.93562749]
[2,12,2033,2364222.4929779437,181363431.93562749,1457405.3332998063,906817.1596781374,179906026.60232767]
[2,1,{"$f":"C148+1","v":2034},2364222.4929779437,179906026.60232767,1464692.3599663056,899530.1330116383,178441334.24236137]
[2,2,{"$f":"C149","v":2034},{"$f":"IF(C150<=$C$2,IF(C150=$C$2,IF(B150<$D$3,$F$1,0),$F$1),0)","v":2364222.4929779437},{"$f":"IF(A150>0,IF(A150=1,$B$1,H149),0)","v":178441334.24236137},{"$f":"IF(A150>0,D150-G150,0)","v":1472015.8217661371},{"$f":"IF(A150>0,E150*$C$1/12,0)","v":892206.67121180671},{"$f":"E150-F150","v":176969318.42059523}]
[2,3,{"$f":"C150","v":2034},2364222.4929779437,176969318.42059523,1479375.9008749677,884846.59210297605,175489942.51972026]
[2,4,2034,2364222.4929779437,175489942.51972026,1486772.7803793424,877449.71259860124,174003169.7393409]
[2,5,2034,2364222.4929779437,174003169.7393409,1494206.6442812392,870015.84869670449,172508963.09505966]
[2,6,2034,2364222.4929779437,172508963.09505966,1501677.6775026456,862544.81547529821,171007285.41755703]
[2,7,2034,2364222.4929779437,171007285.41755703,1509186.0658901585,855036.42708778509,169498099.35166687]
[2,8,2034,2364222.4929779437,169498099.35166687,1516731.9962196094,847490.49675833434,167981367.35544726]
[2,9,2034,2364222.4929779437,167981367.35544726,1524315.6562007074,839906.83677723631,166457051.69924656]
[2,10,2034,2364222.4929779437,166457051.69924656,1531937.2344817109,832285.2584962328,164925114.46476483]
[2,11,2034,2364222.4929779437,164925114.46476483,1539596.9206541195,824625.57232382416,163385517.54411072]
[2,12,2034,2364222.4929779437,163385517.54411072,1547294.9052573903,816927.58772055351,161838222.63885331]
[2,1,{"$f":"C160+1","v":2035},2364222.4929779437,161838222.63885331,1555031.3797836774,809191.11319426645,160283191.25906962]
[2,2,{"$f":"C161","v":2035},2364222.4929779437,160283191.25906962,1562806.5366825955,801415.95629534812,158720384.72238702]
[2,3,{"$f":"C162","v":2035},2364222.4929779437,158720384.72238702,1570620.5693660085,793601.92361193511,157149764.15302101]
[2,4,2035,2364222.4929779437,157149764.15302101,1578473.6722128387,785748.82076510508,155571290.48080817]
[2,5,2035,2364222.4929779437,155571290.48080817,1586366.0405739029,777856.45240404084,153984924.44023427]
[2,6,2035,2364222.4929779437,153984924.44023427,1594297.8707767725,769924.62220117135,152390626.5694575]
[2,7,2035,2364222.4929779437,152390626.5694575,1602269.360130656,761953.13284728758,150788357.20932683]
[2,8,2035,2364222.4929779437,150788357.20932683,1610280.7069313098,753941.78604663408,149178076.50239551]
[2,9,2035,2364222.4929779437,149178076.50239551,1618332.1104659662,745890.38251197757,147559744.39192954]
[2,10,2035,2364222.4929779437,147559744.39192954,1626423.771018296,737798.72195964772,145933320.62091124]
[2,11,2035,2364222.4929779437,145933320.62091124,1634555.8898733878,729666.6031045561,144298764.73103786]
[2,12,2035,2364222.4929779437,144298764.73103786,1642728.6693227543,721493.82365518936,142656036.0617151]
[2,1,{"$f":"C172+1","v":2036},2364222.4929779437,142656036.0617151,1650942.3126693685,713280.18030857539,141005093.74904573]
[2,2,{"$f":"C173","v":2036},2364222.4929779437,141005093.74904573,1659197.0242327149,705025.46874522872,139345896.72481301]
[2,3,{"$f":"C174","v":2036},2364222.4929779437,139345896.72481301,1667493.0093538787,696729.48362406506,137678403.71545914]
[2,4,2036,2364222.4929779437,137678403.71545914,1675830.4744006479,688392.0185772957,136002573.2410585]
[2,5,2036,2364222.4929779437,136002573.2410585,1684209.6267726514,680012.8662052924,134318363.61428586]
[2,6,2036,2364222.4929779437,134318363.61428586,1692630.6749065146,671591.81807142927,132625732.93937933]
[2,7,2036,2364222.4929779437,132625732.93937933,1701093.8282810471,663128.66469689668,130924639.11109829]
[2,8,2036,2364222.4929779437,130924639.11109829,1709599.2974224524,654623.19555549149,129215039.81367584]
[2,9,2036,2364222.4929779437,129215039.81367584,1718147.2939095646,646075.19906837912,127496892.51976627]
[2,10,2036,2364222.4929779437,127496892.51976627,1726738.0303791123,637484.46259883128,125770154.48938715]
[2,11,2036,2364222.4929779437,125770154.48938715,1735371.720531008,628850.77244693576,124034782.76885615]
[2,12,2036,2364222.4929779437,124034782.76885615,1744048.5791336629,620173.91384428076,122290734.18972249]
[2,1,{"$f":"C184+1","v":2037},2364222.4929779437,122290734.18972249,1752768.8220293312,611453.67094861239,120537965.36769316]
[2,2,{"$f":"C185","v":2037},2364222.4929779437,120537965.36769316,1761532.6661394779,602689.82683846576,118776432.70155367]
[2,3,{"$f":"C186","v":2037},2364222.4929779437,118776432.70155367,1770340.3294701753,593882.1635077683,117006092.3720835]
[2,4,2037,2364222.4929779437,117006092.3720835,1779192.0311175263,585030.4618604175,115226900.34096597]
[2,5,2037,2364222.4929779437,115226900.34096597,1788087.991273114,576134.50170482986,113438812.34969285]
[2,6,2037,2364222.4929779437,113438812.34969285,1797028.4312294796,567194.06174846424,111641783.91846338]
[2,7,2037,2364222.4929779437,111641783.91846338,1806013.573385627,558208.91959231684,109835770.34507775]
[2,8,2037,2364222.4929779437,109835770.34507775,1815043.641252555,549178.85172538867,108020726.70382521]
[2,9,2037,2364222.4929779437,108020726.70382521,1824118.8594588176,540103.63351912599,106196607.84436639]
[2,10,2037,2364222.4929779437,106196607.84436639,1833239.4537561117,530983.03922183195,104363368.39061028]
[2,11,2037,2364222.4929779437,104363368.39061028,1842405.6510248925,521816.84195305133,102520962.73958538]
[2,12,2037,2364222.4929779437,102520962.73958538,1851617.6792800168,512604.81369792693,100669345.06030537]
[2,1,{"$f":"C196+1","v":2038},2364222.4929779437,100669345.06030537,1860875.7676764168,503346.72530152689,98808469.292628959]
[2,2,{"$f":"C197","v":2038},2364222.4929779437,98808469.292628959,1870180.146514799,494042.34646314476,96938289.146114156]
[2,3,{"$f":"C198","v":2038},2364222.4929779437,96938289.146114156,1879531.047247373,484691.44573057076,95058758.098866776]
[2,4,2038,2364222.4929779437,95058758.098866776,1888928.7024836098,475293.79049433389,93169829.396383166]
[2,5,2038,2364222.4929779437,93169829.396383166,1898373.3459960278,465849.14698191587,91271456.050387144]
[2,6,2038,2364222.4929779437,91271456.050387144,1907865.2127260081,456357.28025193565,89363590.837661132]
[2,7,2038,2364222.4929779437,89363590.837661132,1917404.5387896381,446817.95418830565,87446186.298871487]
[2,8,2038,2364222.4929779437,87446186.298871487,1926991.5614835862,437230.93149435747,85519194.737387896]
[2,9,2038,2364222.4929779437,85519194.737387896,1936626.5192910042,427595.97368693951,83582568.218096897]
[2,10,2038,2364222.4929779437,83582568.218096897,1946309.6518874592,417912.84109048446,81636258.566209435]
[2,11,2038,2364222.4929779437,81636258.566209435,1956041.2001468965,408181.29283104715,79680217.366062537]
[2,12,2038,2364222.4929779437,79680217.366062537,1965821.4061476311,398401.08683031268,77714395.959914908]
[{"$f":"IF(C209<=$C$2,IF(C209=$C$2,IF(B209<($D$3-1),2,IF(B209=($D$3-1),3,4)),2),4)","v":2},1,{"$f":"C208+1","v":2039},2364222.4929779437,77714395.959914908,1975650.5131783693,388571.97979957453,75738745.446736544]
[2,2,{"$f":"C209","v":2039},2364222.4929779437,75738745.446736544,1985528.765744261,378693.7272336827,73753216.68099229]
[2,3,{"$f":"C210","v":2039},2364222.4929779437,73753216.68099229,1995456.4095729822,368766.08340496145,71757760.271419302]
[2,4,2039,2364222.4929779437,71757760.271419302,2005433.6916208472,358788.80135709653,69752326.57979846]
[2,5,2039,2364222.4929779437,69752326.57979846,2015460.8600789513,348761.63289899228,67736865.719719514]
[2,6,2039,{"$f":"IF(C214<=$C$2,IF(C214=$C$2,IF(B214<$D$3,$F$1,0),$F$1),0)","v":2364222.4929779437},{"$f":"IF(A214>0,IF(A214=1,$B$1,H213),0)","v":67736865.719719514},{"$f":"IF(A214>0,D214-G214,0)","v":2025538.1643793462},{"$f":"IF(A214>0,E214*$C$1/12,0)","v":338684.32859859755},{"$f":"E214-F214","v":65711327.555340171}]
[2,7,2039,2364222.4929779437,65711327.555340171,2035665.855201243,328556.63777670084,63675661.700138927]
[2,8,2039,2364222.4929779437,63675661.700138927,2045844.1844772492,318378.30850069463,61629817.515661679]
[2,9,2039,2364222.4929779437,61629817.515661679,2056073.4053996354,308149.08757830836,59573744.110262044]
[2,10,2039,2364222.4929779437,59573744.110262044,2066353.7724266336,297868.72055131022,57507390.337835409]
[2,11,2039,2364222.4929779437,57507390.337835409,2076685.5412887668,287536.95168917702,55430704.796546645]
[2,12,2039,2364222.4929779437,55430704.796546645,2087068.9689952105,277153.5239827332,53343635.827551432]
[2,1,{"$f":"C220+1","v":2040},2364222.4929779437,53343635.827551432,2097504.3138401867,266718.17913775716,51246131.513711244]
[2,2,{"$f":"C221","v":2040},2364222.4929779437,51246131.513711244,2107991.8354093875,256230.65756855623,49138139.678301856]
[2,3,{"$f":"C222","v":2040},2364222.4929779437,49138139.678301856,2118531.7945864345,245690.69839150927,47019607.883715421]
[2,4,2040,2364222.4929779437,47019607.883715421,2129124.4535593665,235098.0394185771,44890483.430156052]
[2,5,2040,2364222.4929779437,44890483.430156052,2139770.0758271636,224452.41715078024,42750713.354328886]
[2,6,2040,2364222.4929779437,42750713.354328886,2150468.9262062991,213753.56677164443,40600244.428122588]
[2,7,2040,2364222.4929779437,40600244.428122588,2161221.2708373307,203001.22214061292,38439023.157285258]
[2,8,2040,2364222.4929779437,38439023.157285258,2172027.3771915175,192195.11578642626,36266995.780093744]
[2,9,2040,2364222.4929779437,36266995.780093744,2182887.5140774748,181334.9789004687,34084108.266016267]
[2,10,2040,2364222.4929779437,34084108.266016267,2193801.9516478623,170420.54133008132,31890306.314368404]
[2,11,2040,2364222.4929779437,31890306.314368404,2204770.9614061019,159451.531571842,29685535.352962304]
[2,12,2040,2364222.4929779437,29685535.352962304,2215794.8162131323,148427.67676481151,27469740.536749173]
[2,1,{"$f":"C232+1","v":2041},2364222.4929779437,27469740.536749173,2226873.7902941979,137348.70268374585,25242866.746454976]
[2,2,{"$f":"C233","v":2041},2364222.4929779437,25242866.746454976,2238008.1592456689,126214.33373227488,23004858.587209307]
[2,3,{"$f":"C234","v":2041},2364222.4929779437,23004858.587209307,2249198.2000418971,115024.29293604654,20755660.387167409]
[2,4,2041,2364222.4929779437,20755660.387167409,2260444.1910421066,103778.30193583704,18495216.196125302]
[2,5,2041,2364222.4929779437,18495216.196125302,2271746.4119973173,92476.080980626517,16223469.784127984]
[2,6,2041,2364222.4929779437,16223469.784127984,2283105.1440573037,81117.34892063991,13940364.640070681]
[2,7,2041,2364222.4929779437,13940364.640070681,2294520.6697775903,69701.823200353407,11645843.97029309]
[2,8,2041,2364222.4929779437,11645843.97029309,2305993.2731264783,58229.219851465452,9339850.6971666105]
[2,9,2041,2364222.4929779437,9339850.6971666105,2317523.2394921109,46699.253485833055,7022327.4576744996]
[2,10,2041,2364222.4929779437,7022327.4576744996,2329110.8556895712,35111.637288372498,4693216.6019849284]
[2,11,2041,2364222.4929779437,4693216.6019849284,2340756.409968019,23466.083009924641,2352460.1920169094]
[2,12,2041,2364222.4929779437,2352460.1920169094,2352460.1920178593,11762.300960084547,-9.4994902610778809E-7]
[4,1,{"$f":"C244+1","v":2042},0,-9.4994902610778809E-7,4.7497451305389401E-9,-4.7497451305389401E-9,-9.5469877123832694E-7]
[4,2,{"$f":"C245","v":2042},0,-9.5469877123832694E-7,4.7734938561916349E-9,-4.7734938561916349E-9,-9.5947226509451867E-7]
[4,3,{"$f":"C246","v":2042},0,-9.5947226509451867E-7,4.7973613254725936E-9,-4.7973613254725936E-9,-9.6426962641999129E-7]
[4,4,2042,0,-9.6426962641999129E-7,4.8213481320999562E-9,-4.8213481320999562E-9,-9.6909097455209125E-7]
[4,5,2042,0,-9.6909097455209125E-7,4.845454872760456E-9,-4.845454872760456E-9,-9.7393642942485162E-7]
[4,6,2042,0,-9.7393642942485162E-7,4.8696821471242582E-9,-4.8696821471242582E-9,-9.7880611157197582E-7]
[4,7,2042,0,-9.7880611157197582E-7,4.8940305578598789E-9,-4.8940305578598789E-9,-9.8370014212983563E-7]
[4,8,2042,0,-9.8370014212983563E-7,4.9185007106491775E-9,-4.9185007106491775E-9,-9.8861864284048477E-7]
[4,9,2042,0,-9.8861864284048477E-7,4.9430932142024239E-9,-4.9430932142024239E-9,-9.9356173605468721E-7]
[4,10,2042,0,-9.9356173605468721E-7,4.9678086802734361E-9,-4.9678086802734361E-9,-9.9852954473496061E-7]
[4,11,2042,0,-9.9852954473496061E-7,4.9926477236748023E-9,-4.9926477236748023E-9,-1.0035221924586353E-6]
[4,12,2042,0,-1.0035221924586353E-6,5.0176109622931768E-9,-5.0176109622931768E-9,-1.0085398034209286E-6]
[4,1,{"$f":"C256+1","v":2043},0,-1.0085398034209286E-6,5.0426990171046426E-9,-5.0426990171046426E-9,-1.0135825024380333E-6]
[4,2,{"$f":"C257","v":2043},0,-1.0135825024380333E-6,5.0679125121901662E-9,-5.0679125121901662E-9,-1.0186504149502236E-6]
[4,3,{"$f":"C258","v":2043},0,-1.0186504149502236E-6,5.0932520747511173E-9,-5.0932520747511173E-9,-1.0237436670249747E-6]
[4,4,2043,0,-1.0237436670249747E-6,5.1187183351248737E-9,-5.1187183351248737E-9,-1.0288623853600996E-6]
[4,5,2043,0,-1.0288623853600996E-6,5.1443119268004978E-9,-5.1443119268004978E-9,-1.0340066972869E-6]
[4,6,2043,0,-1.0340066972869E-6,5.1700334864345002E-9,-5.1700334864345002E-9,-1.0391767307733345E-6]
[4,7,2043,0,-1.0391767307733345E-6,5.1958836538666723E-9,-5.1958836538666723E-9,-1.0443726144272012E-6]
[4,8,2043,0,-1.0443726144272012E-6,5.2218630721360064E-9,-5.2218630721360064E-9,-1.0495944774993372E-6]
[4,9,2043,0,-1.0495944774993372E-6,5.2479723874966857E-9,-5.2479723874966857E-9,-1.0548424498868339E-6]
[4,10,2043,0,-1.0548424498868339E-6,5.2742122494341692E-9,-5.2742122494341692E-9,-1.060116662136268E-6]
[4,11,2043,0,-1.060116662136268E-6,5.3005833106813404E-9,-5.3005833106813404E-9,-1.0654172454469494E-6]
[4,12,2043,0,-1.0654172454469494E-6,5.3270862272347468E-9,-5.3270862272347468E-9,-1.0707443316741842E-6]
[4,1,{"$f":"C268+1","v":2044},0,-1.0707443316741842E-6,5.3537216583709207E-9,-5.3537216583709207E-9,-1.0760980533325551E-6]
[4,2,{"$f":"C269","v":2044},0,-1.0760980533325551E-6,5.3804902666627759E-9,-5.3804902666627759E-9,-1.0814785435992179E-6]
[4,3,{"$f":"C270","v":2044},0,-1.0814785435992179E-6,5.4073927179960896E-9,-5.4073927179960896E-9,-1.086885936317214E-6]
[4,4,2044,0,-1.086885936317214E-6,5.4344296815860701E-9,-5.4344296815860701E-9,-1.0923203659988001E-6]
[{"$f":"IF(C273<=$C$2,IF(C273=$C$2,IF(B273<($D$3-1),2,IF(B273=($D$3-1),3,4)),2),4)","v":4},5,2044,0,-1.0923203659988001E-6,5.461601829994E-9,-5.461601829994E-9,-1.097781967828794E-6]
[4,6,2044,0,-1.097781967828794E-6,5.4889098391439706E-9,-5.4889098391439706E-9,-1.103270877667938E-6]
[4,7,2044,0,-1.103270877667938E-6,5.5163543883396899E-9,-5.5163543883396899E-9,-1.1087872320562776E-6]
[4,8,2044,0,-1.1087872320562776E-6,5.5439361602813879E-9,-5.5439361602813879E-9,-1.1143311682165591E-6]
[4,9,2044,0,-1.1143311682165591E-6,5.5716558410827958E-9,-5.5716558410827958E-9,-1.1199028240576418E-6]
[4,10,2044,{"$f":"IF(C278<=$C$2,IF(C278=$C$2,IF(B278<$D$3,$F$1,0),$F$1),0)","v":0},{"$f":"IF(A278>0,IF(A278=1,$B$1,H277),0)","v":-1.1199028240576418E-6},{"$f":"IF(A278>0,D278-G278,0)","v":5.5995141202882087E-9},{"$f":"IF(A278>0,E278*$C$1/12,0)","v":-5.5995141202882087E-9},{"$f":"E278-F278","v":-1.1255023381779299E-6}]
[4,11,2044,0,-1.1255023381779299E-6,5.6275116908896493E-9,-5.6275116908896493E-9,-1.1311298498688195E-6]
[4,12,2044,0,-1.1311298498688195E-6,5.6556492493440972E-9,-5.6556492493440972E-9,-1.1367854991181635E-6]
[4,1,{"$f":"C280+1","v":2045},0,-1.1367854991181635E-6,5.6839274955908178E-9,-5.6839274955908178E-9,-1.1424694266137543E-6]
[4,2,{"$f":"C281","v":2045},0,-1.1424694266137543E-6,5.7123471330687709E-9,-5.7123471330687709E-9,-1.1481817737468229E-6]
[4,3,{"$f":"C282","v":2045},0,-1.1481817737468229E-6,5.7409088687341145E-9,-5.7409088687341145E-9,-1.153922682615557E-6]
[4,4,2045,0,-1.153922682615557E-6,5.7696134130777848E-9,-5.7696134130777848E-9,-1.1596922960286349E-6]
[4,5,2045,0,-1.1596922960286349E-6,5.7984614801431744E-9,-5.7984614801431744E-9,-1.1654907575087781E-6]
[4,6,2045,0,-1.1654907575087781E-6,5.8274537875438906E-9,-5.8274537875438906E-9,-1.171318211296322E-6]
[4,7,2045,0,-1.171318211296322E-6,5.8565910564816097E-9,-5.8565910564816097E-9,-1.1771748023528036E-6]
[4,8,2045,0,-1.1771748023528036E-6,5.885874011764018E-9,-5.885874011764018E-9,-1.1830606763645677E-6]
[4,9,2045,0,-1.1830606763645677E-6,5.9153033818228387E-9,-5.9153033818228387E-9,-1.1889759797463906E-6]
[4,10,2045,0,-1.1889759797463906E-6,5.944879898731953E-9,-5.944879898731953E-9,-1.1949208596451225E-6]
[4,11,2045,0,-1.1949208596451225E-6,5.9746042982256117E-9,-5.9746042982256117E-9,-1.2008954639433482E-6]
[4,12,2045,0,-1.2008954639433482E-6,6.0044773197167403E-9,-6.0044773197167403E-9,-1.2068999412630649E-6]
[4,1,{"$f":"C292+1","v":2046},0,-1.2068999412630649E-6,6.0344997063153239E-9,-6.0344997063153239E-9,-1.2129344409693801E-6]
[4,2,{"$f":"C293","v":2046},0,-1.2129344409693801E-6,6.064672204846901E-9,-6.064672204846901E-9,-1.218999113174227E-6]
[4,3,{"$f":"C294","v":2046},0,-1.218999113174227E-6,6.0949955658711347E-9,-6.0949955658711347E-9,-1.2250941087400982E-6]
[4,4,2046,0,-1.2250941087400982E-6,6.1254705437004908E-9,-6.1254705437004908E-9,-1.2312195792837985E-6]
[4,5,2046,0,-1.2312195792837985E-6,6.1560978964189925E-9,-6.1560978964189925E-9,-1.2373756771802175E-6]
[4,6,2046,0,-1.2373756771802175E-6,6.1868783859010865E-9,-6.1868783859010865E-9,-1.2435625555661186E-6]
[4,7,2046,0,-1.2435625555661186E-6,6.2178127778305923E-9,-6.2178127778305923E-9,-1.2497803683439492E-6]
[4,8,2046,0,-1.2497803683439492E-6,6.2489018417197454E-9,-6.2489018417197454E-9,-1.256029270185669E-6]
[4,9,2046,0,-1.256029270185669E-6,6.280146350928345E-9,-6.280146350928345E-9,-1.2623094165365973E-6]
[4,10,2046,0,-1.2623094165365973E-6,6.3115470826829864E-9,-6.3115470826829864E-9,-1.2686209636192803E-6]
[4,11,2046,0,-1.2686209636192803E-6,6.3431048180964019E-9,-6.3431048180964019E-9,-1.2749640684373766E-6]
[4,12,2046,0,-1.2749640684373766E-6,6.3748203421868827E-9,-6.3748203421868827E-9,-1.2813388887795635E-6]
[4,1,{"$f":"C304+1","v":2047},0,-1.2813388887795635E-6,6.4066944438978176E-9,-6.4066944438978176E-9,-1.2877455832234613E-6]
[4,2,{"$f":"C305","v":2047},0,-1.2877455832234613E-6,6.4387279161173064E-9,-6.4387279161173064E-9,-1.2941843111395785E-6]
[4,3,{"$f":"C306","v":2047},0,-1.2941843111395785E-6,6.4709215556978917E-9,-6.4709215556978917E-9,-1.3006552326952763E-6]
[4,4,2047,0,-1.3006552326952763E-6,6.503276163476381E-9,-6.503276163476381E-9,-1.3071585088587527E-6]
[4,5,2047,0,-1.3071585088587527E-6,6.535792544293763E-9,-6.535792544293763E-9,-1.3136943014030464E-6]
[4,6,2047,0,-1.3136943014030464E-6,6.5684715070152322E-9,-6.5684715070152322E-9,-1.3202627729100617E-6]
[4,7,2047,0,-1.3202627729100617E-6,6.6013138645503078E-9,-6.6013138645503078E-9,-1.326864086774612E-6]
[4,8,2047,0,-1.326864086774612E-6,6.6343204338730598E-9,-6.6343204338730598E-9,-1.3334984072084849E-6]
[4,9,2047,0,-1.3334984072084849E-6,6.6674920360424239E-9,-6.6674920360424239E-9,-1.3401658992445274E-6]
[4,10,2047,0,-1.3401658992445274E-6,6.7008294962226361E-9,-6.7008294962226361E-9,-1.34686672874075E-6]
[4,11,2047,0,-1.34686672874075E-6,6.7343336437037499E-9,-6.7343336437037499E-9,-1.3536010623844537E-6]
[4,12,2047,0,-1.3536010623844537E-6,6.7680053119222681E-9,-6.7680053119222681E-9,-1.3603690676963759E-6]
[4,1,{"$f":"C316+1","v":2048},0,-1.3603690676963759E-6,6.8018453384818795E-9,-6.8018453384818795E-9,-1.3671709130348578E-6]
[4,2,{"$f":"C317","v":2048},0,-1.3671709130348578E-6,6.8358545651742891E-9,-6.8358545651742891E-9,-1.3740067676000322E-6]
[4,3,{"$f":"C318","v":2048},0,-1.3740067676000322E-6,6.8700338380001608E-9,-6.8700338380001608E-9,-1.3808768014380323E-6]
[4,4,2048,0,-1.3808768014380323E-6,6.9043840071901617E-9,-6.9043840071901617E-9,-1.3877811854452224E-6]
[4,5,2048,0,-1.3877811854452224E-6,6.9389059272261121E-9,-6.9389059272261121E-9,-1.3947200913724485E-6]
[4,6,2048,0,-1.3947200913724485E-6,6.9736004568622425E-9,-6.9736004568622425E-9,-1.4016936918293108E-6]
[4,7,2048,0,-1.4016936918293108E-6,7.008468459146554E-9,-7.008468459146554E-9,-1.4087021602884574E-6]
[4,8,2048,0,-1.4087021602884574E-6,7.0435108014422875E-9,-7.0435108014422875E-9,-1.4157456710898997E-6]
[4,9,2048,0,-1.4157456710898997E-6,7.0787283554494976E-9,-7.0787283554494976E-9,-1.4228243994453492E-6]
[4,10,2048,0,-1.4228243994453492E-6,7.1141219972267464E-9,-7.1141219972267464E-9,-1.4299385214425759E-6]
[4,11,2048,0,-1.4299385214425759E-6,7.1496926072128792E-9,-7.1496926072128792E-9,-1.4370882140497888E-6]
[4,12,2048,0,-1.4370882140497888E-6,7.1854410702489441E-9,-7.1854410702489441E-9,-1.4442736551200378E-6]
[4,1,{"$f":"C328+1","v":2049},0,-1.4442736551200378E-6,7.2213682756001891E-9,-7.2213682756001891E-9,-1.4514950233956379E-6]
[4,2,{"$f":"C329","v":2049},0,-1.4514950233956379E-6,7.2574751169781899E-9,-7.2574751169781899E-9,-1.458752498512616E-6]
[4,3,{"$f":"C330","v":2049},0,-1.458752498512616E-6,7.2937624925630807E-9,-7.2937624925630807E-9,-1.4660462610051792E-6]
[4,4,2049,0,-1.4660462610051792E-6,7.3302313050258959E-9,-7.3302313050258959E-9,-1.4733764923102051E-6]
[4,5,2049,0,-1.4733764923102051E-6,7.3668824615510243E-9,-7.3668824615510243E-9,-1.4807433747717561E-6]
[4,6,2049,0,-1.4807433747717561E-6,7.4037168738587811E-9,-7.4037168738587811E-9,-1.4881470916456149E-6]
[4,7,2049,0,-1.4881470916456149E-6,7.4407354582280742E-9,-7.4407354582280742E-9,-1.495587827103843E-6]
[4,8,2049,0,-1.495587827103843E-6,7.4779391355192146E-9,-7.4779391355192146E-9,-1.5030657662393622E-6]
[{"$f":"IF(C337<=$C$2,IF(C337=$C$2,IF(B337<($D$3-1),2,IF(B337=($D$3-1),3,4)),2),4)","v":4},9,2049,0,-1.5030657662393622E-6,7.5153288311968111E-9,-7.5153288311968111E-9,-1.510581095070559E-6]
[4,10,2049,0,-1.510581095070559E-6,7.5529054753527949E-9,-7.5529054753527949E-9,-1.5181340005459119E-6]
[4,11,2049,0,-1.5181340005459119E-6,7.5906700027295593E-9,-7.5906700027295593E-9,-1.5257246705486414E-6]
[4,12,2049,0,-1.5257246705486414E-6,7.6286233527432071E-9,-7.6286233527432071E-9,-1.5333532939013846E-6]
[4,1,{"$f":"C340+1","v":2050},0,-1.5333532939013846E-6,7.6667664695069232E-9,-7.6667664695069232E-9,-1.5410200603708915E-6]
[4,2,{"$f":"C341","v":2050},{"$f":"IF(C342<=$C$2,IF(C342=$C$2,IF(B342<$D$3,$F$1,0),$F$1),0)","v":0},{"$f":"IF(A342>0,IF(A342=1,$B$1,H341),0)","v":-1.5410200603708915E-6},{"$f":"IF(A342>0,D342-G342,0)","v":7.7051003018544569E-9},{"$f":"IF(A342>0,E342*$C$1/12,0)","v":-7.7051003018544569E-9},{"$f":"E342-F342","v":-1.5487251606727459E-6}]
[4,3,{"$f":"C342","v":2050},0,-1.5487251606727459E-6,7.7436258033637295E-9,-7.7436258033637295E-9,-1.5564687864761095E-6]
[4,4,2050,0,-1.5564687864761095E-6,7.7823439323805478E-9,-7.7823439323805478E-9,-1.5642511304084901E-6]
[4,5,2050,0,-1.5642511304084901E-6,7.8212556520424502E-9,-7.8212556520424502E-9,-1.5720723860605325E-6]
[4,6,2050,0,-1.5720723860605325E-6,7.8603619303026617E-9,-7.8603619303026617E-9,-1.5799327479908352E-6]
[4,7,2050,0,-1.5799327479908352E-6,7.8996637399541768E-9,-7.8996637399541768E-9,-1.5878324117307893E-6]
[4,8,2050,0,-1.5878324117307893E-6,7.9391620586539474E-9,-7.9391620586539474E-9,-1.5957715737894433E-6]
[4,9,2050,0,-1.5957715737894433E-6,7.9788578689472155E-9,-7.9788578689472155E-9,-1.6037504316583905E-6]
[4,10,2050,0,-1.6037504316583905E-6,8.0187521582919514E-9,-8.0187521582919514E-9,-1.6117691838166826E-6]
[4,11,2050,0,-1.6117691838166826E-6,8.0588459190834125E-9,-8.0588459190834125E-9,-1.6198280297357659E-6]
[4,12,2050,0,-1.6198280297357659E-6,8.0991401486788282E-9,-8.0991401486788282E-9,-1.6279271698844448E-6]
[4,1,{"$f":"C352+1","v":2051},0,-1.6279271698844448E-6,8.1396358494222236E-9,-8.1396358494222236E-9,-1.6360668057338671E-6]
[4,2,{"$f":"C353","v":2051},0,-1.6360668057338671E-6,8.1803340286693356E-9,-8.1803340286693356E-9,-1.6442471397625364E-6]
[4,3,{"$f":"C354","v":2051},0,-1.6442471397625364E-6,8.2212356988126818E-9,-8.2212356988126818E-9,-1.652468375461349E-6]
[4,4,2051,0,-1.652468375461349E-6,8.2623418773067445E-9,-8.2623418773067445E-9,-1.6607307173386558E-6]
[4,5,2051,0,-1.6607307173386558E-6,8.3036535866932777E-9,-8.3036535866932777E-9,-1.6690343709253492E-6]
[4,6,2051,0,-1.6690343709253492E-6,8.3451718546267461E-9,-8.3451718546267461E-9,-1.6773795427799758E-6]
[4,7,2051,0,-1.6773795427799758E-6,8.3868977138998782E-9,-8.3868977138998782E-9,-1.6857664404938757E-6]
[4,8,2051,0,-1.6857664404938757E-6,8.428832202469379E-9,-8.428832202469379E-9,-1.6941952726963452E-6]
[4,9,2051,0,-1.6941952726963452E-6,8.4709763634817256E-9,-8.4709763634817256E-9,-1.7026662490598269E-6]
[4,10,2051,0,-1.7026662490598269E-6,8.513331245299133E-9,-8.513331245299133E-9,-1.7111795803051261E-6]
[4,11,2051,0,-1.7111795803051261E-6,8.5558979015256299E-9,-8.5558979015256299E-9,-1.7197354782066517E-6]
[4,12,2051,0,-1.7197354782066517E-6,8.5986773910332574E-9,-8.5986773910332574E-9,-1.7283341555976848E-6]
[4,1,{"$f":"C364+1","v":2052},0,-1.7283341555976848E-6,8.6416707779884243E-9,-8.6416707779884243E-9,-1.7369758263756733E-6]
[4,2,{"$f":"C365","v":2052},0,-1.7369758263756733E-6,8.6848791318783654E-9,-8.6848791318783654E-9,-1.7456607055075516E-6]
[4,3,{"$f":"C366","v":2052},0,-1.7456607055075516E-6,8.7283035275377571E-9,-8.7283035275377571E-9,-1.7543890090350893E-6]
[4,4,2052,0,-1.7543890090350893E-6,8.7719450451754465E-9,-8.7719450451754465E-9,-1.7631609540802648E-6]
[4,5,2052,0,-1.7631609540802648E-6,8.8158047704013237E-9,-8.8158047704013237E-9,-1.7719767588506662E-6]
[4,6,2052,0,-1.7719767588506662E-6,8.8598837942533304E-9,-8.8598837942533304E-9,-1.7808366426449196E-6]
[4,7,2052,0,-1.7808366426449196E-6,8.9041832132245984E-9,-8.9041832132245984E-9,-1.7897408258581441E-6]
[4,8,2052,0,-1.7897408258581441E-6,8.9487041292907198E-9,-8.9487041292907198E-9,-1.7986895299874349E-6]
[4,9,2052,0,-1.7986895299874349E-6,8.9934476499371734E-9,-8.9934476499371734E-9,-1.807682977637372E-6]
[4,10,2052,0,-1.807682977637372E-6,9.0384148881868595E-9,-9.0384148881868595E-9,-1.816721392525559E-6]
[4,11,2052,0,-1.816721392525559E-6,9.0836069626277939E-9,-9.0836069626277939E-9,-1.8258049994881868E-6]
[4,12,2052,0,-1.8258049994881868E-6,9.1290249974409331E-9,-9.1290249974409331E-9,-1.8349340244856277E-6]
[4,1,{"$f":"C376+1","v":2053},0,-1.8349340244856277E-6,9.1746701224281372E-9,-9.1746701224281372E-9,-1.8441086946080558E-6]
[4,2,{"$f":"C377","v":2053},0,-1.8441086946080558E-6,9.2205434730402784E-9,-9.2205434730402784E-9,-1.8533292380810961E-6]
[4,3,{"$f":"C378","v":2053},0,-1.8533292380810961E-6,9.26664619040548E-9,-9.26664619040548E-9,-1.8625958842715017E-6]
[4,4,2053,0,-1.8625958842715017E-6,9.3129794213575077E-9,-9.3129794213575077E-9,-1.8719088636928591E-6]
[4,5,2053,0,-1.8719088636928591E-6,9.3595443184642953E-9,-9.3595443184642953E-9,-1.8812684080113234E-6]
[4,6,2053,0,-1.8812684080113234E-6,9.4063420400566164E-9,-9.4063420400566164E-9,-1.89067475005138E-6]
[4,7,2053,0,-1.89067475005138E-6,9.4533737502568987E-9,-9.4533737502568987E-9,-1.9001281238016369E-6]
[4,8,2053,0,-1.9001281238016369E-6,9.5006406190081834E-9,-9.5006406190081834E-9,-1.9096287644206451E-6]
[4,9,2053,0,-1.9096287644206451E-6,9.5481438221032255E-9,-9.5481438221032255E-9,-1.9191769082427485E-6]
[4,10,2053,0,-1.9191769082427485E-6,9.5958845412137429E-9,-9.5958845412137429E-9,-1.9287727927839621E-6]
[4,11,2053,0,-1.9287727927839621E-6,9.6438639639198093E-9,-9.6438639639198093E-9,-1.938416656747882E-6]
[4,12,2053,0,-1.938416656747882E-6,9.6920832837394094E-9,-9.6920832837394094E-9,-1.9481087400316214E-6]
[4,1,{"$f":"C388+1","v":2054},0,-1.9481087400316214E-6,9.7405437001581068E-9,-9.7405437001581068E-9,-1.9578492837317796E-6]
[4,2,{"$f":"C389","v":2054},0,-1.9578492837317796E-6,9.7892464186588983E-9,-9.7892464186588983E-9,-1.9676385301504384E-6]
[4,3,{"$f":"C390","v":2054},0,-1.9676385301504384E-6,9.8381926507521912E-9,-9.8381926507521912E-9,-1.9774767228011904E-6]
[4,4,2054,0,-1.9774767228011904E-6,9.8873836140059521E-9,-9.8873836140059521E-9,-1.9873641064151963E-6]
[4,5,2054,0,-1.9873641064151963E-6,9.9368205320759819E-9,-9.9368205320759819E-9,-1.9973009269472722E-6]
[4,6,2054,0,-1.9973009269472722E-6,9.9865046347363592E-9,-9.9865046347363592E-9,-2.0072874315820087E-6]
[4,7,2054,0,-2.0072874315820087E-6,1.0036437157910043E-8,-1.0036437157910043E-8,-2.0173238687399188E-6]
[4,8,2054,0,-2.0173238687399188E-6,1.0086619343699595E-8,-1.0086619343699595E-8,-2.0274104880836184E-6]
[4,9,2054,0,-2.0274104880836184E-6,1.0137052440418091E-8,-1.0137052440418091E-8,-2.0375475405240365E-6]
[4,10,2054,0,-2.0375475405240365E-6,1.0187737702620181E-8,-1.0187737702620181E-8,-2.0477352782266564E-6]
[4,11,2054,0,-2.0477352782266564E-6,1.0238676391133283E-8,-1.0238676391133283E-8,-2.0579739546177896E-6]
[4,12,2054,0,-2.0579739546177896E-6,1.0289869773088947E-8,-1.0289869773088947E-8,-2.0682638243908784E-6]
[{"$f":"IF(C401<=$C$2,IF(C401=$C$2,IF(B401<($D$3-1),2,IF(B401=($D$3-1),3,4)),2),4)","v":4},1,{"$f":"C400+1","v":2055},0,-2.0682638243908784E-6,1.0341319121954391E-8,-1.0341319121954391E-8,-2.0786051435128327E-6]
[4,2,{"$f":"C401","v":2055},0,-2.0786051435128327E-6,1.0393025717564164E-8,-1.0393025717564164E-8,-2.088998169230397E-6]
[4,3,{"$f":"C402","v":2055},0,-2.088998169230397E-6,1.0444990846151984E-8,-1.0444990846151984E-8,-2.0994431600765489E-6]
[4,4,2055,0,-2.0994431600765489E-6,1.0497215800382744E-8,-1.0497215800382744E-8,-2.1099403758769319E-6]
[4,5,2055,0,-2.1099403758769319E-6,1.054970187938466E-8,-1.054970187938466E-8,-2.1204900777563167E-6]
[4,6,2055,{"$f":"IF(C406<=$C$2,IF(C406=$C$2,IF(B406<$D$3,$F$1,0),$F$1),0)","v":0},{"$f":"IF(A406>0,IF(A406=1,$B$1,H405),0)","v":-2.1204900777563167E-6},{"$f":"IF(A406>0,D406-G406,0)","v":1.0602450388781582E-8},{"$f":"IF(A406>0,E406*$C$1/12,0)","v":-1.0602450388781582E-8},{"$f":"E406-F406","v":-2.1310925281450982E-6}]
[4,7,2055,0,-2.1310925281450982E-6,1.0655462640725492E-8,-1.0655462640725492E-8,-2.1417479907858238E-6]
[4,8,2055,0,-2.1417479907858238E-6,1.0708739953929119E-8,-1.0708739953929119E-8,-2.1524567307397529E-6]
[4,9,2055,0,-2.1524567307397529E-6,1.0762283653698764E-8,-1.0762283653698764E-8,-2.1632190143934515E-6]
[4,10,2055,0,-2.1632190143934515E-6,1.0816095071967257E-8,-1.0816095071967257E-8,-2.1740351094654188E-6]
[4,11,2055,0,-2.1740351094654188E-6,1.0870175547327093E-8,-1.0870175547327093E-8,-2.1849052850127458E-6]
[4,12,2055,0,-2.1849052850127458E-6,1.0924526425063728E-8,-1.0924526425063728E-8,-2.1958298114378094E-6]
[4,1,{"$f":"C412+1","v":2056},0,-2.1958298114378094E-6,1.0979149057189046E-8,-1.0979149057189046E-8,-2.2068089604949985E-6]
[4,2,{"$f":"C413","v":2056},0,-2.2068089604949985E-6,1.1034044802474991E-8,-1.1034044802474991E-8,-2.2178430052974735E-6]
[4,3,{"$f":"C414","v":2056},0,-2.2178430052974735E-6,1.1089215026487367E-8,-1.1089215026487367E-8,-2.2289322203239608E-6]
[4,4,2056,0,-2.2289322203239608E-6,1.1144661101619804E-8,-1.1144661101619804E-8,-2.2400768814255805E-6]
[4,5,2056,0,-2.2400768814255805E-6,1.1200384407127901E-8,-1.1200384407127901E-8,-2.2512772658327083E-6]
[4,6,2056,0,-2.2512772658327083E-6,1.1256386329163542E-8,-1.1256386329163542E-8,-2.2625336521618718E-6]
[4,7,2056,0,-2.2625336521618718E-6,1.1312668260809357E-8,-1.1312668260809357E-8,-2.2738463204226813E-6]
[4,8,2056,0,-2.2738463204226813E-6,1.1369231602113407E-8,-1.1369231602113407E-8,-2.2852155520247946E-6]
[4,9,2056,0,-2.2852155520247946E-6,1.1426077760123973E-8,-1.1426077760123973E-8,-2.2966416297849186E-6]
[4,10,2056,0,-2.2966416297849186E-6,1.1483208148924591E-8,-1.1483208148924591E-8,-2.3081248379338434E-6]
[4,11,2056,0,-2.3081248379338434E-6,1.1540624189669217E-8,-1.1540624189669217E-8,-2.3196654621235125E-6]
[4,12,2056,0,-2.3196654621235125E-6,1.1598327310617562E-8,-1.1598327310617562E-8,-2.3312637894341301E-6]
[4,1,{"$f":"C424","v":2056},{"$f":"IF(C425<=$C$2,IF(C425=$C$2,IF(B425<$D$3,$F$1,0),$F$1),0)","v":0},{"$f":"IF(A425>0,IF(A425=1,$B$1,H424),0)","v":-2.3312637894341301E-6},{"$f":"IF(A425>0,D425-G425,0)","v":1.165631894717065E-8},{"$f":"IF(A425>0,E425*$C$1/12,0)","v":-1.165631894717065E-8},{"$f":"E425-F425","v":-2.3429201083813009E-6}]
[4,2,2056,0,-2.3429201083813009E-6,1.1714600541906503E-8,-1.1714600541906503E-8,-2.3546347089232075E-6]
[4,3,2056,0,-2.3546347089232075E-6,1.1773173544616036E-8,-1.1773173544616036E-8,-2.3664078824678234E-6]
[4,4,2056,0,-2.3664078824678234E-6,1.1832039412339117E-8,-1.1832039412339117E-8,-2.3782399218801623E-6]
[4,5,2056,0,-2.3782399218801623E-6,1.1891199609400811E-8,-1.1891199609400811E-8,-2.3901311214895634E-6]
[4,6,2056,0,-2.3901311214895634E-6,1.1950655607447817E-8,-1.1950655607447817E-8,-2.4020817770970112E-6]
[4,7,2056,0,-2.4020817770970112E-6,1.2010408885485056E-8,-1.2010408885485056E-8,-2.4140921859824962E-6]
[4,8,2056,0,-2.4140921859824962E-6,1.2070460929912482E-8,-1.2070460929912482E-8,-2.4261626469124086E-6]
[4,9,2056,0,-2.4261626469124086E-6,1.2130813234562044E-8,-1.2130813234562044E-8,-2.4382934601469708E-6]
[4,10,2056,0,-2.4382934601469708E-6,1.2191467300734854E-8,-1.2191467300734854E-8,-2.4504849274477058E-6]
[4,11,2056,0,-2.4504849274477058E-6,1.2252424637238529E-8,-1.2252424637238529E-8,-2.4627373520849444E-6]
[4,12,2056,0,-2.4627373520849444E-6,1.2313686760424721E-8,-1.2313686760424721E-8,-2.4750510388453692E-6]