Workbook

Sheet kodovana_data
A1: 1. Pohlaví | B1: 2. Ročník | C1: 3. Finanční výdaje | D1: 4. Připravenost dist. Výuky | E1: 5. Technologie | F1: 6. Komunikační prostředky | G1: 7. Webová kamera žáci | H1: 8. Webová kamera učitelé | I1: 9. Problémy v komunikaci | J1: 10. Prostředky ke komunikaci s učitelem | K1: 11. Prostředky ke komunikaci se spolužáky | L1: 11j. Prostředky ke komunikaci | M1: 12. Interaktivní aplikace | N1: 13. Interaktivní akplikace příklady | O1: 14. Četnost využití aplikací | P1: 15. Interaktivní aplikace - mladí učitelé | Q1: 16. Způsob předávání nové látky | R1: 16,7. Způsob předávání nové látky | S1: 17. Dotazy | T1: 18. Stíhaly jste úkoly? | U1: 19. Srozumitelnost komunikace | V1: 20. Info. o výuce včas | W1: 21. Čas věnovaný studiu | X1: 22. Popis testování | Y1: 23. Organizovanost výuky | Z1: 23a. Změny ve výuce | AA1: 24. Dostatečný čas na pauzu | AB1: 25. Klasické, či online vzdělávání? | AC1: 26. Co vám scházelo při výuce | AD1: 27. Kvalita vzdělání | AE1: 28. Doučování | AF1: 29. Příčina doučování | AG1: 30. Negativa distanční výuky | AH1: 31. Pozitiva distanční výuky | AI1: 32. Klasicá výuka vs. Hybridní
A2: 2 | B2: 2 | C2: 4 | D2: 2 | E2: 2,3,4 | F2: 1 | G2: 4 | H2: 3 | I2: 3 | J2: 1 | K2: 1.6 | M2: 2 | N2: Kahoot! | O2: 4 | P2: 3 | Q2: 1,2,3,5 | S2: 2 | T2: 2 | U2: 2 | V2: 2 | W2: 1 | X2: ústní zkoušení, interaktivní testy (Forms) | Y2: 1 | AA2: 2 | AB2: 3 | AC2: Osobní kontakt se spolužáky | AD2: 4 | AE2: 2 | AG2: Větší stres, nezvyklá situace, učitelé nevěděli jak k distanční výuce přistoupit. | AH2: Zlepšení dovedností s IT technikou | AI2: 1
A3: 2 | B3: 2 | C3: 1 | D3: 2 | E3: 3.4 | F3: 1 | G3: 4 | H3: 3 | I3: 2 | J3: 1 | K3: 1.6 | M3: 2 | N3: Kahoot! | O3: 4 | P3: 2 | Q3: 1,2,6 | S3: 1 | T3: 1 | U3: 1 | V3: 3 | W3: 1 | X3: ústní zkoušení, interaktivní testy | Y3: 2 | AA3: 3 | AB3: 3 | AC3: Přátelé | AD3: 5 | AE3: 2 | AG3: žádný pohyb, každý den probýhal stejně bez přátelské interakce, mnohem více úkolů, úzkost | AH3: Žádné dojíždění, čas si můžeme sami rozvrhnout | AI3: 1
A4: 2 | B4: 2 | C4: 4 | D4: 2 | E4: 1,2,3 | F4: 1 | G4: 4 | H4: 3 | I4: 3 | J4: 1 | K4: 1.6 | M4: 2 | N4: Kahoot! | O4: 3 | P4: 2 | Q4: 1,2,3,5 | S4: 1 | T4: 1 | U4: 1 | V4: 2 | W4: 4 | X4: testy (Forms), ústní zkoušení | Y4: 1 | AA4: 4 | AB4: 1 | AC4: prostředí školy, strach z testů - do školy jsem se vždy naučila, ale v online výce ne | AD4: 5 | AE4: 2 | AG4: bolest očí a zad (celý den sedět a koukat na PC), nedostatek pohybu, učili jsme s podle mého názoru méně věcí | AH4: žádná pozitiva | AI4: 1
A5: 2 | B5: 2 | C5: 3 | D5: 2 | E5: 1,2,3 | F5: 1 | G5: 3 | H5: 3 | I5: 3 | J5: 1 | K5: 6 | M5: 2 | N5: Kahoot! | O5: 3 | P5: 5 | Q5: 1.2 | S5: 2 | T5: 3 | U5: 2 | V5: 3 | W5: 1 | X5: ústní zkoušení, testy | Y5: 1 | AA5: 4 | AB5: 1 | AC5: přímý kontakt s kamarády | AD5: 5 | AE5: 1 | AF5: 1 | AG5: učitelé chtěli příliš mnoho úkolů za krátký čas, chyběly mi kamarádky | AH5: mohla jsem se v klidu najíst, nemusela jsem chvátat, dodržování pravidelného režimu stravování, dobrý spánek, mohla jsem si kdykoliv dojít na WC, absence brzkého vstávání (dojíždění), mení stres. | AI5: 2
A6: 2 | B6: 2 | C6: 4 | D6: 2 | E6: 1,2,3 | F6: 1 | G6: 3 | H6: 3 | I6: 3 | J6: 1 | K6: 1.6 | M6: 1 | N6: Kahoot! | O6: 3 | P6: 4 | Q6: 1.2 | S6: 2 | T6: 1 | U6: 2 | V6: 2 | W6: 1 | X6: ústní zkoušení, testy | Y6: 1 | AA6: 3 | AB6: 1 | AC6: kontakt se spolužáky | AD6: 4 | AE6: 1 | AF6: 1 | AG6: moc úkolů na volný čas | AH6: snídaně a jídlo obecně v hodinách | AI6: 1
A7: 2 | B7: 2 | C7: 2 | D7: 2 | E7: 1 | F7: 1 | G7: 3 | H7: 4 | I7: 3 | J7: 1 | K7: 5.6 | M7: 1 | N7: Kahoot!, Quizlet | O7: 3 | P7: 2 | Q7: 1.2 | S7: 3 | T7: 1 | U7: 2 | V7: 4 | W7: 1 | X7: testy, ústní zkoušení | Y7: 1 | AA7: 4 | AB7: 1 | AC7: přímý kontakt s učitely/spolužáky | AD7: 4 | AE7: 2 | AG7: složitejší komunikace, přetahování času ve výuce | AH7: nemusela jsem brzo vstávat | AI7: 1
A8: 2 | B8: 2 | C8: 4 | D8: 2 | E8: 2.3 | F8: 1 | G8: 3 | H8: 3 | I8: 4 | J8: 1 | K8: 5.6 | M8: 2 | N8: Kahoot!, Quizlet | O8: 3 | P8: 2 | Q8: 2.5 | S8: 2 | T8: 2 | U8: 2 | V8: 3 | W8: 2 | X8: ústní zkoušení, interaktivní testy | Y8: 1 | AA8: 3 | AB8: 1 | AC8: přímý kontakt s učitely | AD8: 2 | AE8: 1 | AF8: 4 | AG8: přetahování 45 minutové vyučovací hodiny | AH8: nemusela jsem dojíždět | AI8: 1
A9: 2 | B9: 2 | C9: 3 | D9: 2 | E9: 2 | F9: 1 | G9: 4 | H9: 3 | I9: 4 | J9: 1 | K9: 5.6 | M9: 2 | N9: Kahoot!, Quizlet | O9: 3 | P9: 3 | Q9: 1.2 | S9: 2 | T9: 2 | U9: 2 | V9: 3 | W9: 2 | X9: interaktivní testy, ústní zkoušení | Y9: 1 | AA9: 3 | AB9: 1 | AC9: přímý kontakt | AD9: 2 | AE9: 1 | AF9: 4 | AG9: zhoršená a zdlouhavější komunikace | AH9: žádná pozitiva | AI9: 1
A10: 2 | B10: 2 | C10: 3 | D10: 1 | E10: 2 | F10: 1 | G10: 3 | H10: 3 | I10: 3 | J10: 1 | K10: 6 | M10: 2 | N10: Kahoot! | O10: 3 | P10: 5 | Q10: 1.2 | S10: 1 | T10: 2 | U10: 2 | V10: 3 | W10: 1 | X10: testy, ústní zkoušení | Y10: 1 | AA10: 3 | AB10: 1 | AC10: přímý kontakt s kamarády | AD10: 5 | AE10: 2 | AG10: učitelé požadovali mnoho úkolů, které jsme museli plnit ve volném čase | AH10: Mohla jsem vstávat později | AI10: 1
A11: 1 | B11: 2 | C11: 4 | D11: 2 | E11: 1,2,3 | F11: 1 | G11: 3 | H11: 2 | I11: 3 | J11: 1.5 | K11: 1.9 | M11: 3 | P11: 2 | Q11: 1,2,3 | S11: 2 | T11: 3 | U11: 2 | V11: 2 | W11: 2 | X11: zkoušení přes videohovor, testy v MS Forms | Y11: 1 | AA11: 4 | AB11: 2 | AC11: přednes učitelů | AD11: 5 | AE11: 2 | AG11: v podstatě nic jsem se nenaučil | AH11: mohl jsem vstávat déle a mohl jsem jíst v hodině | AI11: 2
A12: 2 | B12: 2 | C12: 4 | D12: 3 | E12: 2.3 | F12: 1 | G12: 3 | H12: 2 | I12: 3 | J12: 1 | K12: 1.6 | M12: 1 | N12: Kahoot! | O12: 3 | P12: 3 | Q12: 2.5 | S12: 1 | T12: 3 | U12: 3 | V12: 2 | W12: 1 | X12: testy - Forms, zkoušení s kamerou | Y12: 2 | AA12: 4 | AB12: 3 | AC12: pořádné vysvětlení látky | AD12: 4 | AE12: 2 | AG12: mnoho úkolů | AH12: byla jsem doma | AI12: 2
A13: 2 | B13: 2 | C13: 2 | D13: 3 | E13: 2.3 | F13: 1 | G13: 1 | H13: 2 | I13: 1 | J13: 1 | K13: 1 | M13: 2 | N13: Kahoot! | O13: 4 | P13: 3 | Q13: 2 | S13: 3 | T13: 4 | U13: 4 | V13: 4 | W13: 1 | X13: Testy | Y13: 4 | Z13: Ne všechny hodiny byly online | AA13: 2 | AB13: 2 | AC13: nic | AD13: 4 | AE13: 2 | AG13: Špatné připojení - nenaučili jsme se látku pořádně | AH13: Nemuseli jsme vstávat brzo, větší komfort | AI13: 2
A14: 2 | B14: 2 | C14: 4 | D14: 3 | E14: 2.3 | F14: 1 | G14: 3 | H14: 2 | I14: 3 | J14: 1 | K14: 1,6,9 | M14: 2 | N14: Kahoot! | O14: 3 | P14: 3 | Q14: 2.5 | S14: 2 | T14: 3 | U14: 2 | V14: 2 | W14: 2 | X14: ústní zkoušení, online testy | Y14: 2 | AA14: 3 | AB14: 2 | AC14: pořádné vysvětlení látky, kontakt se spolužáky | AD14: 4 | AE14: 2 | AG14: těžší pochopení látky, příliš mnoho úkolů | AH14: mohli jsme si více čas rozvrhnout | AI14: 2
A15: 2 | B15: 2 | C15: 4 | D15: 1 | E15: 1.3 | F15: 1 | G15: 4 | H15: 3 | I15: 3 | J15: 1 | K15: 1.6 | M15: 2 | N15: Kahoot! | O15: 3 | P15: 2 | Q15: 1,2,3 | S15: 1 | T15: 2 | U15: 2 | V15: 2 | W15: 2 | X15: interaktivní testy, zkoušení se zapnutou webkamerou, testy ve Forms | Y15: 2 | AA15: 1 | AB15: 3 | AC15: nic mi nescházelo | AD15: 4 | AE15: 1 | AF15: 3 | AG15: nadměrné množství úkolů a zadání | AH15: více volného času, možnost se najíst ve 12 hodin doma | AI15: 2
A16: 1 | B16: 2 | C16: 3 | D16: 2 | E16: 1.3 | F16: 1 | G16: 4 | H16: 3 | I16: 4 | J16: 1 | K16: 1,5,6 | M16: 1 | N16: Kahoot! | O16: 3 | P16: 4 | Q16: 5 | S16: 1 | T16: 2 | U16: 2 | V16: 2 | W16: 1 | X16: ústní zkoušení, testy online (Forms) | Y16: 1 | AA16: 2 | AB16: 1 | AC16: kontakt se spolužáky a patřičný pohyb (většinu dne jsme strávili výukou a řešením úkolů u PC) | AD16: 3 | AE16: 1 | AF16: 2 | AG16: někdy se můžu potýkat s technickými problémy | AH16: žádná pozitiva | AI16: 1
A17: 2 | B17: 2 | C17: 4 | D17: 2 | E17: 2.3 | F17: 1 | G17: 4 | H17: 3 | I17: 3 | J17: 1 | K17: 1.6 | M17: 2 | N17: Kahoot! | O17: 3 | P17: 3 | Q17: 1,2,3 | S17: 1 | T17: 2 | U17: 2 | V17: 1 | W17: 2 | X17: ústní zkoušení, online testy | Y17: 2 | AA17: 2 | AB17: 3 | AC17: kontakt se spolužáky | AD17: 4 | AE17: 2 | AG17: žádná negativa | AH17: žádná pozitiva | AI17: 2
A18: 2 | B18: 2 | C18: 1 | D18: 2 | E18: 2.3 | F18: 1 | G18: 4 | H18: 2 | I18: 3 | J18: 1 | K18: 1,6,9 | M18: 2 | N18: Kahoot!, Quizlet | O18: 3 | P18: 2 | Q18: 1,2,3,5,6 | S18: 2 | T18: 3 | U18: 2 | V18: 2 | W18: 2 | X18: zkoušení s kamerou, testy ve Forms, vyjímečně do sešitu písemky | Y18: 1 | AA18: 3 | AB18: 3 | AC18: Přímý kontakt s učitely a spolužáky | AD18: 4 | AE18: 1 | AF18: 3 | AG18: Nechuť cokoliv dělat, když sedím doma | AH18: Měla jsem čas na snídani | AI18: 3
A19: 2 | B19: 2 | C19: 3 | D19: 3 | E19: 2.3 | F19: 1 | G19: 3 | H19: 4 | I19: 2 | J19: 1 | K19: 1,6,9 | M19: 2 | N19: Kahoot!, Quizlet | O19: 2 | P19: 4 | Q19: 1,2,3,5,6 | S19: 2 | T19: 2 | U19: 2 | V19: 2 | W19: 3 | X19: Testy v online školním prostředí, ústní zkoušení | Y19: 1 | AA19: 3 | AB19: 2 | AC19: Kontakt se všemi | AD19: 3 | AE19: 2 | AG19: Málo času na online testy. Malá tolerance při nefungování internetu, nebo při pomalém internetu - velký problém | AH19: Více času na rodinu a osobní život. Přehlednost úkolů a testů (kdy a co píšeme) | AI19: 2
A20: 2 | B20: 2 | C20: 3 | D20: 3 | E20: 1.2 | F20: 1 | G20: 4 | H20: 2 | I20: 2 | J20: 1.5 | K20: 1.6 | M20: 1 | N20: Kahoot!, Quizlet | O20: 2 | P20: 4 | Q20: 1,2,3,6 | S20: 2 | T20: 3 | U20: 2 | V20: 3 | W20: 2 | X20: testy, ústní zkoušení | Y20: 2 | AA20: 3 | AB20: 1 | AC20: kontakt se spolužáky, pohyb | AD20: 5 | AE20: 1 | AF20: 1 | AG20: moc úkolů, které se nedaly stíhat, nesrozumitelnost látky | AH20: prostředí domova - nenervovala jsem se | AI20: 2
A21: 2 | B21: 2 | C21: 2 | D21: 3 | E21: 2.3 | F21: 1 | G21: 4 | H21: 2 | I21: 3 | J21: 1.5 | K21: 1.6 | M21: 1 | N21: Kahoot!, Quizlet | O21: 2 | P21: 2 | Q21: 1,2,3,6 | S21: 1 | T21: 3 | U21: 2 | V21: 3 | W21: 3 | X21: ústní zkoušení, testy | Y21: 2 | AA21: 4 | AB21: 3 | AC21: Pohyb | AD21: 5 | AE21: 2 | AG21: Technické problémy, málo pohybu, moc úkolů | AH21: možnost plánování a time management podle sebe | AI21: 2
A22: 1 | B22: 2 | C22: 2 | D22: 1 | E22: 1.3 | F22: 1 | G22: 4 | H22: 4 | I22: 2 | J22: 1 | K22: 1.6 | M22: 2 | N22: Kahoot! | O22: 3 | P22: 4 | Q22: 1,2,3,5,6 | S22: 2 | T22: 2 | U22: 2 | V22: 2 | W22: 3 | X22: Testy v Formsech, ústní s webkou | Y22: 2 | AA22: 3 | AB22: 1 | AC22: prostředí školy | AD22: 4 | AE22: 2 | AG22: Větší prostor pro podvody, menší motivace | AH22: Nemusel jsem dojíždět, úspora času | AI22: 1
A23: 2 | B23: 2 | C23: 1 | D23: 1 | E23: 2.3 | F23: 1 | G23: 3 | H23: 2 | I23: 2 | J23: 1 | K23: 1,4,5,9 | M23: 2 | N23: Kahoot! | O23: 3 | P23: 4 | Q23: 1,2,3,5 | S23: 1 | T23: 1 | U23: 2 | V23: 1 | W23: 1 | X23: Zkoušení přes MS Teams přes soukromý hovor s kamerou nebo max někde ve třech, testy byly na omezený čas také na Teams formou Forms | Y23: 1 | AA23: 3 | AB23: 2 | AC23: lehce jsem ztrácela pozornost nebo usínala | AD23: 4 | AE23: 2 | AG23: podvody studentů | AH23: mohla jsem si rozvrhnout lépe svůj čas a nemusela jsem být jen doma | AI23: 2
A24: 1 | B24: 2 | C24: 1 | D24: 1 | E24: 2.3 | F24: 1 | G24: 3 | H24: 3 | I24: 4 | J24: 1 | K24: 1,2,6,9 | M24: 2 | N24: Kahoot! | O24: 3 | P24: 4 | Q24: 1,2,3,5,6 | S24: 1 | T24: 2 | U24: 1 | V24: 2 | W24: 1 | X24: Přes soukromý hovor s učitelem se zapnutou kamerou nebo přes Forms | Y24: 2 | AA24: 2 | AB24: 1 | AC24: Přímý kontakt, spolužáci, rutina | AD24: 5 | AE24: 1 | AF24: 5 | AG24: omezený kontakt s učiteli | AH24: pohodlnost | AI24: 2
A25: 2 | B25: 2 | C25: 4 | D25: 2 | E25: 2.3 | F25: 1 | G25: 4 | H25: 2 | I25: 3 | J25: 1 | K25: 1,5,6 | M25: 2 | N25: Kahoot! | O25: 3 | P25: 2 | Q25: 1,2,5 | S25: 2 | T25: 3 | U25: 2 | V25: 2 | W25: 3 | X25: ústní zkoušení, testy v online školním prostředí - Forms | Y25: 2 | AA25: 3 | AB25: 1 | AC25: spolužáci, jakási disciplána ve stávání | AD25: 5 | AE25: 2 | AG25: žádný pohyb, nevídala jsem spolužáky, plno předmětů jsem se hůře učila za notebookem | AH25: žádná pozitiva | AI25: 2
A26: 2 | B26: 2 | C26: 4 | D26: 2 | E26: 2.3 | F26: 1 | G26: 3 | H26: 3 | I26: 3 | J26: 1,5,7 | K26: 1,6,9 | M26: 2 | N26: Kahoot! | O26: 3 | P26: 4 | Q26: 1,2,3,5,6 | S26: 2 | T26: 2 | U26: 2 | V26: 2 | W26: 3 | X26: testy ve forms hlavně, ústní zkoušení s webkamerou | Y26: 2 | AA26: 4 | AB26: 1 | AC26: kontakt s lidmi | AD26: 4 | AE26: 2 | AG26: neustálé koukání do počítače | AH26: žádná pozitiva | AI26: 2
A27: 1 | B27: 2 | C27: 3 | D27: 2 | E27: 1.3 | F27: 1 | G27: 4 | H27: 2 | I27: 3 | J27: 1 | K27: 1,4,6 | M27: 2 | N27: Kahoot! | O27: 3 | P27: 2 | Q27: 1.2 | S27: 2 | T27: 2 | U27: 2 | V27: 1 | W27: 3 | X27: ústní zkoušení | Y27: 1 | AA27: 2 | AB27: 2 | AC27: přímý kontakt | AD27: 2 | AE27: 2 | AG27: občas horší komunikace | AH27: občasná větší volnost, dobré prostředí | AI27: 2
A28: 2 | B28: 2 | C28: 4 | D28: 1 | E28: 2.3 | F28: 1 | G28: 4 | H28: 3 | I28: 3 | J28: 1 | K28: 1,6,9 | M28: 1 | O28: 3 | P28: 2 | Q28: 2 | S28: 2 | T28: 2 | U28: 2 | V28: 2 | W28: 2 | X28: testy na omezený čas, zkoušení přes kameru | Y28: 1 | AA28: 4 | AB28: 2 | AC28: přímý kontakt se spolužáky, menší volnost (úkoly) | AD28: 1 | AE28: 2 | AG28: žádná negativa | AH28: měla jsem čas na vše podle sebe, nemusela jsem dojíždět | AI28: 2
A29: 1 | B29: 2 | C29: 3 | D29: 2 | E29: 2.3 | F29: 1 | G29: 4 | H29: 2 | I29: 4 | J29: 1 | K29: 1,4,6 | M29: 2 | N29: Kahoot! | O29: 3 | P29: 2 | Q29: 2 | S29: 2 | T29: 3 | U29: 2 | V29: 2 | W29: 1 | X29: neuvedeno | Y29: 2 | AA29: 3 | AB29: 3 | AC29: prostředí, příliš mnoho úkolů | AD29: 5 | AE29: 2 | AG29: žádná negativa | AH29: méně hodin, uspořádat si práci, úkoly na odpoledně | AI29: 2
A30: 1 | B30: 2 | C30: 4 | D30: 2 | E30: 1 | F30: 1 | G30: 3 | H30: 2 | I30: 3 | J30: 1 | K30: 4 | M30: 1 | N30: Kahoot! | O30: 3 | P30: 3 | Q30: 2.3 | S30: 1 | T30: 2 | U30: 2 | V30: 1 | W30: 3 | X30: interaktivní testy, ústní zkoušení | Y30: 2 | AA30: 3 | AB30: 1 | AC30: přímý kontakt s učiteli | AD30: 4 | AE30: 2 | AG30: nedokázal jsem se plně soustředit | AH30: rozvržení času podle nás | AI30: 3
A31: 2 | B31: 2 | C31: 4 | D31: 1 | E31: 2 | F31: 1 | G31: 3 | H31: 2 | I31: 2 | J31: 1 | K31: 6 | M31: 3 | O31: 4 | P31: 4 | Q31: 1,2,6 | S31: 2 | T31: 3 | U31: 3 | V31: 3 | W31: 3 | X31: neuvedeno | Y31: 2 | AA31: 2 | AB31: 1 | AC31: nic | AD31: 5 | AE31: 2 | AG31: žádná negativa | AH31: žádná pozitiva | AI31: 2
A32: 2 | B32: 2 | C32: 4 | D32: 2 | E32: 2.3 | F32: 1 | G32: 4 | H32: 2 | I32: 3 | J32: 1.5 | K32: 1,6,9 | M32: 1 | N32: Kahoot! | O32: 4 | P32: 3 | Q32: 1.2 | S32: 1 | T32: 2 | U32: 2 | V32: 1 | W32: 1 | X32: interaktivní testy a ústní zkoušení | Y32: 1 | AA32: 3 | AB32: 1 | AC32: kontakt se spolužáky | AD32: 4 | AE32: 2 | AG32: Trávení více času škoulou, zádné vídání spolužáků | AH32: Nemusela jsem dojíždět | AI32: 1
A33: 1 | B33: 2 | C33: 1 | D33: 2 | E33: 2.3 | F33: 1 | G33: 3 | H33: 2 | I33: 2 | J33: 1 | K33: 1.6 | M33: 2 | N33: Kahoot! | O33: 3 | P33: 2 | Q33: 1,2,3,5 | S33: 2 | T33: 3 | U33: 3 | V33: 3 | W33: 2 | X33: testy Forms | Y33: 2 | AA33: 2 | AB33: 3 | AC33: kontakt | AD33: 4 | AE33: 1 | AF33: 1 | AG33: málo individuální přístup, nepřehledné úkoly, stres | AH33: plánování času, pozdější vstávání | AI33: 2
A34: 1 | B34: 2 | C34: 4 | D34: 1 | E34: 2.3 | F34: 1 | G34: 4 | H34: 2 | I34: 2 | J34: 1 | K34: 1.6 | M34: 1 | N34: Kahoot! | O34: 3 | P34: 2 | Q34: 1,2,3 | S34: 2 | T34: 2 | U34: 2 | V34: 2 | W34: 3 | X34: neuvedeno | Y34: 2 | AA34: 1 | AB34: 1 | AC34: přímý kontakt se spolužáky | AD34: 5 | AE34: 1 | AF34: 4 | AG34: nižší soustředěnost na výklad učitele | AH34: více volného času | AI34: 1
A35: 2 | B35: 2 | C35: 4 | D35: 1 | E35: 2.3 | F35: 1 | G35: 3 | H35: 4 | I35: 3 | J35: 1.5 | K35: 1,6,9,j | L35: instagram, snapchat | M35: 2 | N35: Kahoot! | O35: 3 | P35: 2 | Q35: 1,2,3 | S35: 3 | T35: 1 | U35: 2 | V35: 2 | W35: 1 | X35: ústní zkoušení jen v 1 předmětu, jinak byly testy v online prostředí | Y35: 2 | AA35: 3 | AB35: 1 | AC35: pocit odnést si něco v hlavě z učivo po hodinách (doučovala jsem se spíše ze zápisu z hodin, ne přímo v té hodině) | AD35: 4 | AE35: 1 | AF35: 2 | AG35: málo času na vypracování testu, neochota dovysvětlit látku některých učitelů, Teams nám zůstaly v této "normální" době a zadávají sem stále úkoly, i když chodíme do školy, krátké hodiny u některých učitelů (10 - 15 min., namísto 45 minut) | AH35: učitelé se naučili více pracovat v online prostředí | AI35: 1
A36: 2 | B36: 2 | C36: 1 | D36: 2 | E36: 2.3 | F36: 1 | G36: 4 | H36: 3 | I36: 2 | J36: 1 | K36: 1,5,6,9 | M36: 1 | N36: Kahoot!, E-twinning, Quizlet | O36: 3 | P36: 1 | Q36: 1,2,3,5,6 | S36: 2 | T36: 3 | U36: 2 | V36: 2 | W36: 2 | X36: testy zadávali učitelé přes Teams, ústní zkoušení probíhalo pouze u 1 předmětu | Y36: 1 | AA36: 2 | AB36: 2 | AC36: kontakt se spolužáky, řešení problémů s učitelem někdy bylo trochu obtížnější přes PC | AD36: 4 | AE36: 2 | AG36: horší komunikace s učiteli | AH36: úkoly jsem mohla dělat kdy jsem chtěla, lépe rozvržený čas | AI36: 1
A37: 2 | B37: 2 | C37: 3 | D37: 3 | E37: 2.3 | F37: 1 | G37: 4 | H37: 3 | I37: 2 | J37: 1 | K37: 1,5,6 | M37: 2 | N37: Kahoot! | O37: 3 | P37: 4 | Q37: 1,2,6 | S37: 2 | T37: 3 | U37: 2 | V37: 3 | W37: 2 | X37: Formou testu ve Forms | Y37: 2 | AA37: 4 | AB37: 2 | AC37: kontakt s kamarády | AD37: 4 | AE37: 2 | AG37: žádná negativa | AH37: rozvrhnutí učiva během dne | AI37: 2
A38: 1 | B38: 2 | C38: 4 | D38: 2 | E38: 1.3 | F38: 1 | G38: 3 | H38: 2 | I38: 2 | J38: 1 | K38: 1,4,6 | M38: 2 | O38: 3 | P38: 3 | Q38: 1,2,3,6 | S38: 2 | T38: 3 | U38: 2 | V38: 2 | W38: 1 | X38: Testy online | Y38: 2 | AA38: 2 | AB38: 1 | AC38: nic | AD38: 4 | AE38: 2 | AG38: žádná negativa | AH38: žádná pozitiva | AI38: 2
A39: 2 | B39: 2 | C39: 3 | D39: 2 | E39: 1,2,3 | F39: 1 | G39: 4 | H39: 2 | I39: 3 | J39: 1 | K39: 1,6,9 | M39: 1 | N39: Kahoot! | O39: 3 | P39: 3 | Q39: 1,2,3 | S39: 2 | T39: 3 | U39: 2 | V39: 2 | W39: 1 | X39: testy ve Forms, ústní zkoušení | Y39: 1 | AA39: 2 | AB39: 1 | AC39: obědy | AD39: 5 | AE39: 2 | AG39: bylo to nezáživné a nedokázala jsem se plně soustředit, takže jsem se toho moc nenaučila | AH39: jelikož dojíždím, tak mi distanční výuka ušetřila spoustu času a vyhla jsem se nepříjemným lidem ve škole | AI39: 1
A40: 2 | B40: 2 | C40: 4 | D40: 2 | E40: 2.3 | F40: 1 | G40: 3 | H40: 3 | I40: 3 | J40: 1 | K40: 1.6 | M40: 1 | N40: Kahoot!, Google | O40: 3 | P40: 2 | Q40: 1,2,3 | S40: 2 | T40: 3 | U40: 2 | V40: 2 | W40: 1 | X40: Testy ve Forms | Y40: 2 | AA40: 2 | AB40: 1 | AC40: Přímý kontakt se splužáky, živý výklad od učitele | AD40: 5 | AE40: 2 | AG40: úkol, který byl místo online hodiny, my často zabral víc než 45 minut, často učitelé měli problém s technickými znalostmi nebo byl problém s připojením | AH40: nebylo třeba dojíždět, úkoly jsme si mohli rozvrhnout časově podle sebe | AI40: 2
A41: 2 | B41: 2 | C41: 2 | D41: 2 | E41: 1.3 | F41: 1 | G41: 3 | H41: 2 | I41: 3 | J41: 1 | K41: 1.6 | M41: 2 | N41: Kahoot!, Quizlet, Google | O41: 3 | P41: 3 | Q41: 1.2 | S41: 2 | T41: 3 | U41: 2 | V41: 3 | W41: 2 | X41: ústní zkoušení se zaplou kamerou, testy na počítači (Forms) | Y41: 1 | AA41: 3 | AB41: 2 | AC41: obědy | AD41: 4 | AE41: 2 | AG41: malé přestávky, moc práce s počítačem, zhoršení zraku, špatná soustředěnost | AH41: nemuseli jsme dojíždět, práce na počítači, rozvržení úkolů podle naší potřeby, nemuseli jsme se socialozovat. | AI41: 2
A42: 2 | B42: 2 | C42: 4 | D42: 2 | E42: 1.2 | F42: 1 | G42: 4 | H42: 2 | I42: 2 | J42: 1 | K42: 1,6,9 | M42: 1 | N42: Kahoot!, Quizlet | O42: 3 | P42: 3 | Q42: 1,2,3,5 | S42: 1 | T42: 2 | U42: 2 | V42: 2 | W42: 1 | X42: interaktivní testy a někdy také ústní zkoušení | Y42: 2 | AA42: 3 | AB42: 1 | AC42: přímý kontakt se spolužáky | AD42: 4 | AE42: 2 | AG42: Na distanční výuce se učivo hůře chápe, trávila jsem nad učením mnohem více času než když jsme chodili do školy. | AH42: Naučila jsem se více pracovat s interaktivními aplikacemi | AI42: 1
A43: 2 | B43: 2 | C43: 4 | D43: 2 | E43: 2.3 | F43: 1 | G43: 3 | H43: 3 | I43: 2 | J43: 1 | K43: 1,6,9 | M43: 1 | N43: Kahoot! | O43: 3 | P43: 2 | Q43: 1,2,3,5 | S43: 1 | T43: 2 | U43: 2 | V43: 2 | W43: 2 | X43: interaktivní test, ústní zkoušení | Y43: 1 | AA43: 2 | AB43: 1 | AC43: přímý kontakt | AD43: 5 | AE43: 1 | AF43: 2 | AG43: nedostatek kontaktu se spolužáky | AH43: žádná pozitiva | AI43: 1
A44: 2 | B44: 2 | C44: 1 | D44: 3 | E44: 2.3 | F44: 1 | G44: 4 | H44: 4 | I44: 2 | J44: 1.5 | K44: 1,6,9,j | L44: instagram | M44: 2 | N44: Kahoot!, E-twinning, Quizlet | O44: 3 | P44: 1 | Q44: 1,2,3,5,6 | S44: 2 | T44: 3 | U44: 2 | V44: 2 | W44: 2 | X44: Testy přes MS Forms nebo Word, ústní zkoušení | Y44: 1 | AA44: 3 | AB44: 3 | AC44: učitelé kontakt s ostatními a přímý výklad osobně ve škole | AD44: 5 | AE44: 2 | AG44: horší kontakt a komunikace s učiteli a spolužáky, škola zabrala mnohem více času, naučili jsme se méně než ve škole | AH44: Nebyli jsme tak vystresovaní, jak jsme byli v domácím prostředí, byla větší možnost individuálně probírat učivo s učiteli | AI44: 2
A45: 1 | B45: 2 | C45: 4 | D45: 2 | E45: 1 | F45: 1 | G45: 3 | H45: 4 | I45: 3 | J45: 1 | K45: 1 | M45: 2 | N45: Kahoot! | O45: 3 | P45: 2 | Q45: 1,2,3 | S45: 3 | T45: 2 | U45: 2 | V45: 2 | W45: 4 | X45: Testy v Teams, ústní zkoušení | Y45: 2 | AA45: 2 | AB45: 2 | AC45: nic | AD45: 2 | AE45: 2 | AG45: žádná negativa | AH45: žádná pozitiva | AI45: 2
A46: 2 | B46: 2 | C46: 3 | D46: 2 | E46: 2 | F46: 1 | G46: 3 | H46: 3 | I46: 2 | J46: 1 | K46: 1,6,9 | M46: 2 | O46: 3 | P46: 2 | Q46: 1,2,3,5 | S46: 1 | T46: 2 | U46: 2 | V46: 2 | W46: 3 | X46: interaktivní testy, ústní zkoušení | Y46: 2 | AA46: 2 | AB46: 3 | AC46: přímý kontakt se spolužáky | AD46: 4 | AE46: 1 | AF46: 2 | AG46: nedostatečný kontakt se spolužáky a učiteli | AH46: více osobního času | AI46: 2
A47: 2 | B47: 2 | C47: 1 | D47: 1 | E47: 2.3 | F47: 1 | G47: 4 | H47: 2 | I47: 3 | J47: 1 | K47: 1,6,9 | M47: 1 | N47: Kahoot! | O47: 4 | P47: 2 | Q47: 1,2,6 | S47: 2 | T47: 2 | U47: 2 | V47: 2 | W47: 3 | X47: testy online | Y47: 1 | AA47: 2 | AB47: 2 | AC47: spolužáci | AD47: 4 | AE47: 2 | AG47: méně jsem dával pozor | AH47: pozdější vstávání, více času na úkoly | AI47: 2
A48: 2 | B48: 2 | C48: 2 | D48: 3 | E48: 1.3 | F48: 1 | G48: 3 | H48: 3 | I48: 2 | J48: 1 | K48: 1.6 | M48: 2 | N48: Kahoot!, Google Classroom | O48: 3 | P48: 2 | Q48: 1,2,3,5,6 | S48: 1 | T48: 3 | U48: 2 | V48: 2 | W48: 2 | X48: interaktivní testy, test na papír, který jsme následně vyfotili a poslali | Y48: 3 | Z48: některé úkoly byly zadány na delší dobu nebo trvaly udělat déle než 1 vyučovací hodnu | AA48: 2 | AB48: 1 | AC48: přímý kontakt se spolužáky | AD48: 3 | AE48: 1 | AF48: 2 | AG48: žádná negativa | AH48: pohodlí domova | AI48: 2
A49: 2 | B49: 2 | C49: 2 | D49: 2 | E49: 2.3 | F49: 1 | G49: 4 | H49: 2 | I49: 1 | J49: 1.5 | K49: 1,5,6 | M49: 1 | N49: Kahoot! | O49: 3 | P49: 2 | Q49: 1,2,3,5,6 | S49: 1 | T49: 3 | U49: 2 | V49: 2 | W49: 1 | X49: interaktivní testy | Y49: 3 | Z49: Občas jsme neměli hodiny | AA49: 3 | AB49: 2 | AC49: přímý kontakt se spolužáky | AD49: 5 | AE49: 2 | AG49: Žádný kontakt se spolužáky a vše jsme si museli tisknout | AH49: Více času na vše a nemusela jsem sojíždět domů a vstávat brzo | AI49: 2
A50: 2 | B50: 2 | C50: 3 | D50: 2 | E50: 2.3 | F50: 1 | G50: 3 | H50: 3 | I50: 2 | J50: 1.5 | K50: 1 | M50: 2 | N50: Kahoot! | O50: 3 | P50: 2 | Q50: 1 | S50: 2 | T50: 3 | U50: 2 | V50: 3 | W50: 1 | X50: testy a ústní zkoušení | Y50: 4 | Z50: některé hodiny byly přesunuty a úkoly byly nadmíru | AA50: 3 | AB50: 1 | AC50: přímý kontakt se spolužáky | AD50: 5 | AE50: 2 | AG50: přehnaně moc učiva, samovýuka | AH50: pohodlnost domova | AI50: 2
A51: 2 | B51: 2 | C51: 3 | D51: 3 | E51: 2.3 | F51: 1 | G51: 3 | H51: 3 | I51: 2 | J51: 1 | K51: 1.6 | M51: 1 | N51: Kahoot! | O51: 3 | P51: 2 | Q51: 2.3 | S51: 2 | T51: 3 | U51: 3 | V51: 3 | W51: 2 | X51: testy a ústní zkoušení | Y51: 3 | Z51: bylo více úkolů - jejich vyhotovení přesahovalo 45 minut často jsme museli pracovat do večera | AA51: 3 | AB51: 1 | AC51: přímý kontakt se spolužáky | AD51: 5 | AE51: 1 | AF51: 1 | AG51: mnoho učiva, samovýuka, nezajímavé způsoby výuky učitelů - demotivace ke studiu | AH51: pohodlnost domova | AI51: 2
A52: 2 | B52: 2 | C52: 4 | D52: 2 | E52: 2.3 | F52: 1 | G52: 4 | H52: 3 | I52: 3 | J52: 1.5 | K52: 1.6 | M52: 2 | N52: Kahoot! | O52: 4 | P52: 1 | Q52: 1,2,3,5,6 | S52: 2 | T52: 2 | U52: 2 | V52: 1 | W52: 1 | X52: klasické testy s otázkami | Y52: 1 | AA52: 3 | AB52: 1 | AC52: školní prostředí, kontakt se spolužáky, učiteli | AD52: 4 | AE52: 2 | AG52: Chybí přímý kontakt s učtelem a spolužáky, složitější dorozumívání s učeteli, spolužáky, menší produktivita než ve škole | AH52: Nemusím dojíždět do školy, výuka z pohodlí domova | AI52: 2
A53: 2 | B53: 2 | C53: 3 | D53: 4 | E53: 2.3 | F53: 1 | G53: 3 | H53: 2 | I53: 3 | J53: 1 | K53: 1,6,9 | M53: 4 | P53: 2 | Q53: 1,2,5,6 | S53: 1 | T53: 3 | U53: 3 | V53: 2 | W53: 1 | X53: online testy, nebo vytvořené word testy od konkrétního učitele, které jsme museli vyplnit | Y53: 2 | AA53: 4 | AB53: 1 | AC53: sociální život a dostatečné předání učiva | AD53: 5 | AE53: 2 | AG53: musela jsem přestoupit a dobrovolně si na nové škole zopakovat 3. ročník, nevěděla jsem absolutně nic | AH53: mohla jsem se vyspat jak dlouho jsem "chtěla" | AI53: 3
A54: 2 | B54: 2 | C54: 4 | D54: 3 | E54: 2.3 | F54: 1 | G54: 4 | H54: 3 | I54: 2 | J54: 1.5 | K54: 1,5,6 | M54: 2 | N54: Kahoot! | O54: 3 | P54: 4 | Q54: 1,2,6 | S54: 2 | T54: 3 | U54: 2 | V54: 3 | W54: 2 | X54: Formou testu ve Forms | Y54: 2 | AA54: 4 | AB54: 3 | AC54: přímý kontakt, lepší komunikace a domluva | AD54: 4 | AE54: 2 | AG54: špatná domluva, vypadávání spojení (internet), málo času na věci školní a na DÚ | AH54: občas více času sám na svoje věci, nemusíme dojíždět daleko | AI54: 2
A55: 1 | B55: 2 | C55: 3 | D55: 2 | E55: 1.3 | F55: 1 | G55: 4 | H55: 3 | I55: 3 | J55: 1 | K55: 1,4,6 | M55: 1 | N55: Kahoot! | O55: 2 | P55: 4 | Q55: 1,2,3 | S55: 2 | T55: 3 | U55: 2 | V55: 1 | W55: 1 | X55: Interaktivní testy, psát na papír, vyfotit, odevzdat fotku testu | Y55: 2 | AA55: 3 | AB55: 1 | AC55: Přímý kontakt s učiteli | AD55: 2 | AE55: 2 | AG55: Špatná kvalita audia/videa | AH55: žádná pozitiva | AI55: 1
A56: 1 | B56: 2 | C56: 1 | D56: 2 | E56: 1 | F56: 1 | G56: 3 | H56: 3 | I56: 3 | J56: 1 | K56: 4,6,j | L56: instagram | M56: 1 | N56: Kahoot! | O56: 3 | P56: 5 | Q56: 1,2,3 | S56: 2 | T56: 4 | U56: 2 | V56: 3 | W56: 1 | X56: zkoušení, testy v Teams Forms | Y56: 1 | AA56: 3 | AB56: 3 | AC56: spolužáci | AD56: 4 | AE56: 2 | AG56: mnoho úkolů, dlouho hodiny sezení | AH56: vstávání, nemusíme do školy ve španém počasí | AI56: 3
A57: 2 | B57: 2 | C57: 4 | D57: 2 | E57: 2.3 | F57: 1 | G57: 3 | H57: 3 | I57: 4 | J57: 1 | K57: 1.6 | M57: 2 | N57: Kahoot! | O57: 3 | P57: 2 | Q57: 1,2,3,6 | S57: 1 | T57: 2 | U57: 1 | V57: 1 | W57: 3 | X57: Krátké ústní zkoušení, testy přes Teams, Forms | Y57: 1 | AA57: 3 | AB57: 2 | AC57: kontakt s kamarádkou | AD57: 3 | AE57: 2 | AG57: žádná negativa | AH57: dostatek času doma, nemuset dojíždět, nemuset vstávat brzy ráno | AI57: 2
A58: 1 | B58: 2 | C58: 3 | D58: 2 | E58: 2.3 | F58: 1 | G58: 3 | H58: 2 | I58: 2 | J58: 1 | K58: 1,4,6 | M58: 1 | N58: Kahoot! | O58: 3 | P58: 1 | Q58: 1,2,3,5 | S58: 2 | T58: 2 | U58: 2 | V58: 2 | W58: 2 | X58: testy v online školním prostředí | Y58: 4 | Z58: změna pořadí a počtu hodin | AA58: 3 | AB58: 3 | AC58: motivace | AD58: 3 | AE58: 2 | AG58: neschopnost používat a využívat internetové prostředí starými učiteli | AH58: lepší soustředení na testy, látku, zkoušení, žádné dojíždění | AI58: 2
A59: 2 | B59: 2 | C59: 4 | D59: 2 | E59: 2.3 | F59: 1 | G59: 3 | H59: 3 | I59: 3 | J59: 1.5 | K59: 6.9 | M59: 1 | N59: Kahoot! | O59: 3 | P59: 3 | Q59: 1,2,3,5 | S59: 2 | T59: 3 | U59: 2 | V59: 1 | W59: 4 | X59: interaktivní testy, ústní zkoušení | Y59: 2 | AA59: 1 | AB59: 3 | AC59: nic | AD59: 1 | AE59: 2 | AG59: špatná komunikace s některými učiteli | AH59: více času na sebe, snaha naučit se mnoho věcí samostatně (pokud učitel nebyl schopen látku pořádně vysvětlit) | AI59: 2
A60: 2 | B60: 1 | C60: 2 | D60: 3 | E60: 1,2,3 | F60: 1 | G60: 3 | H60: 4 | I60: 2 | J60: 1.5 | K60: 1,6,j | L60: instagram | M60: 1 | N60: Forms | O60: 2 | P60: 3 | Q60: 1,2,3 | S60: 2 | T60: 3 | U60: 3 | V60: 3 | W60: 1 | X60: ústní zkoušení, testy v programu, přes úkoly | Y60: 3 | Z60: úkoly byly dávány pozdě v odpoledních hodinách, nebo v jiných hodinách obsah byl dlouhý, čas na odpovědi krátký | AA60: 3 | AB60: 2 | AC60: dostatek spánku | AD60: 3 | AE60: 1 | AF60: 3 | AG60: krátký čas na testy, vysoké nároky | AH60: dostatek spánku | AI60: 2
A61: 2 | B61: 1 | C61: 4 | D61: 1 | E61: 2.3 | F61: 1 | G61: 3 | H61: 3 | I61: 3 | J61: 1 | K61: 1,6,7 | M61: 4 | P61: 3 | Q61: 1,2,3,5 | S61: 2 | T61: 3 | U61: 3 | V61: 2 | W61: 1 | X61: testy ve forms ústní zkoušení | Y61: 1 | AA61: 3 | AB61: 1 | AC61: spolužáci, volný čas | AD61: 4 | AE61: 2 | AG61: krátký čas na testy, hodně úkolů, sezení celý den u PC | AH61: delší spánek | AI61: 1
A62: 2 | B62: 1 | C62: 3 | D62: 3 | E62: 2.3 | F62: 1 | G62: 3 | H62: 3 | I62: 2 | J62: 1 | K62: 1,6,9 | M62: 4 | P62: 2 | Q62: 1,2,3 | S62: 3 | T62: 3 | U62: 2 | V62: 2 | W62: 1 | X62: zkoušení, online testy | Y62: 2 | AA62: 4 | AB62: 1 | AC62: přímý kontakt se spolužáky | AD62: 3 | AE62: 2 | AG62: přestávky krátké | AH62: žádná pozitiva | AI62: 1
A63: 2 | B63: 1 | C63: 1 | D63: 2 | E63: 2.3 | F63: 1 | G63: 3 | H63: 3 | I63: 2 | J63: 1,5,6 | K63: 5,6,9 | M63: 3 | P63: 2 | Q63: 1.2 | S63: 2 | T63: 3 | U63: 2 | V63: 3 | W63: 1 | X63: neuvedeno | Y63: 1 | AA63: 2 | AB63: 2 | AC63: přímý kontakt s kamarády | AD63: 4 | AE63: 2 | AG63: žádná negativa | AH63: žádná pozitiva | AI63: 2
A64: 2 | B64: 1 | C64: 4 | D64: 2 | E64: 2.3 | F64: 1 | G64: 3 | H64: 3 | I64: 3 | J64: 1 | K64: 1,6,9 | M64: 1 | N64: Kahoot! | O64: 4 | P64: 1 | Q64: 1,2,6 | S64: 3 | T64: 3 | U64: 3 | V64: 4 | W64: 2 | X64: zkoušení, testy | Y64: 1 | AA64: 4 | AB64: 2 | AC64: spolužáci | AD64: 2 | AE64: 2 | AG64: žádná negativa | AH64: více času na vlastní aktivity | AI64: 2
A65: 2 | B65: 1 | C65: 3 | D65: 2 | E65: 2.3 | F65: 1 | G65: 3 | H65: 3 | I65: 3 | J65: 1 | K65: 1,6,7 | M65: 4 | P65: 3 | Q65: 1,2,3,5 | S65: 2 | T65: 4 | U65: 3 | V65: 2 | W65: 1 | X65: testy ve Forms a ústní zkoušení | Y65: 2 | AA65: 4 | AB65: 3 | AC65: volný čas | AD65: 4 | AE65: 2 | AG65: nepřiměřeně moc úkolů, celý den strávený u počítače a učení | AH65: delší spánek, nemusela jsem moc komunikovat osobně | AI65: 3
A66: 1 | B66: 1 | C66: 2 | D66: 2 | E66: 3 | F66: 1 | G66: 3 | H66: 2 | I66: 3 | J66: 1 | K66: 4.6 | M66: 3 | P66: 2 | Q66: 1,2,3,6 | S66: 2 | T66: 2 | U66: 2 | V66: 2 | W66: 2 | X66: interaktivní testy, ústní zkoušení | Y66: 2 | AA66: 2 | AB66: 3 | AC66: nic | AD66: 5 | AE66: 2 | AG66: žádná negativa | AH66: žádná pozitiva | AI66: 3
A67: 1 | B67: 1 | C67: 1 | D67: 1 | E67: 2,3,4 | F67: 1 | G67: 4 | H67: 2 | I67: 4 | J67: 1.5 | K67: 1,6,9 | M67: 2 | N67: Kahoot! | O67: 4 | P67: 5 | Q67: 1,5,6 | S67: 2 | T67: 1 | U67: 1 | V67: 2 | W67: 1 | X67: MS Forms, zadání v Teamsech | Y67: 2 | AA67: 2 | AB67: 1 | AC67: Přímý kontakt s učiteli/spolužáky | AD67: 4 | AE67: 2 | AG67: žádný přímý kontakt s učiteli | AH67: žádná pozitiva | AI67: 1
A68: 1 | B68: 1 | C68: 3 | D68: 1 | E68: 1 | F68: 1 | G68: 4 | H68: 4 | I68: 4 | J68: 1 | K68: 6 | M68: 4 | P68: 2 | Q68: 2,3,6 | S68: 2 | T68: 3 | U68: 2 | V68: 2 | W68: 1 | X68: MS Forms, zadání v MS Teams | Y68: 2 | AA68: 4 | AB68: 3 | AC68: přímý kontakt s učiteli/spolužáky | AD68: 2 | AE68: 2 | AG68: žádná negativa | AH68: žádná pozitiva | AI68: 2
A69: 2 | B69: 1 | C69: 4 | D69: 2 | E69: 2.3 | F69: 1 | G69: 3 | H69: 2 | I69: 3 | J69: 1 | K69: 1.6 | M69: 4 | P69: 2 | Q69: 1,2,3 | S69: 1 | T69: 2 | U69: 2 | V69: 2 | W69: 3 | X69: ústní zkoušení, testy ve Forms | Y69: 2 | AA69: 1 | AB69: 2 | AC69: nic | AD69: 3 | AE69: 2 | AG69: žádná negativa | AH69: nemusím vstávat tak brzy, stihnu toho více, protože nemusím nikam dojíždět | AI69: 2
A70: 2 | B70: 1 | C70: 3 | D70: 2 | E70: 2 | F70: 1 | G70: 3 | H70: 3 | I70: 3 | J70: 1 | K70: 1 | M70: 4 | P70: 3 | Q70: 1,2,6 | S70: 2 | T70: 3 | U70: 2 | V70: 2 | W70: 2 | X70: ústní zkoušení, testy ve Forms | Y70: 2 | AA70: 3 | AB70: 1 | AC70: přímý kontakt se spolužáky | AD70: 4 | AE70: 2 | AG70: žádná negativa | AH70: nemuseli jsme brzy ráno vstávat a dojíždět do školy | AI70: 1
A71: 2 | B71: 1 | C71: 3 | D71: 2 | E71: 2.3 | F71: 1 | G71: 3 | H71: 3 | I71: 3 | J71: 1 | K71: 1.6 | M71: 4 | P71: 3 | Q71: 1,2,6 | S71: 2 | T71: 3 | U71: 2 | V71: 1 | W71: 1 | X71: ústní zkoušení, testy ve Forms | Y71: 2 | AA71: 3 | AB71: 1 | AC71: přímý kontakt s učiteli a spolužáky | AD71: 4 | AE71: 2 | AG71: žádná negativa | AH71: pozdější vstávání | AI71: 1
A72: 2 | B72: 1 | C72: 4 | D72: 2 | E72: 1.3 | F72: 1 | G72: 4 | H72: 2 | I72: 4 | J72: 1 | K72: 1,6,7,j | L72: instagram | M72: 4 | P72: 3 | Q72: 1,2,5,6 | S72: 1 | T72: 2 | U72: 1 | V72: 2 | W72: 2 | X72: ústní zkoušení v ČJ a D ve dvojcích, při zapnuté kameře vyplňování online testů nebo ofocení výsledků a zaslání učiteli. | Y72: 3 | Z72: Občas bylo něco vyjmuto | AA72: 2 | AB72: 3 | AC72: kontakt se spolužáky, poznání se | AD72: 3 | AE72: 1 | AF72: 5 | AG72: občas mi dělalo problém se pořádně soustředit na hodinu a ne na dělání jiných věcí | AH72: nemusela jsem denně dojíždět do školy. Byla jsem v pohodlí domova | AI72: 2
A73: 2 | B73: 1 | C73: 1 | D73: 2 | E73: 3.4 | F73: 1 | G73: 3 | H73: 3 | I73: 2 | J73: 1 | K73: 1,6,j | L73: instagram | M73: 4 | P73: 1 | Q73: 1,2,3,5,6 | S73: 2 | T73: 4 | U73: 2 | V73: 2 | W73: 1 | X73: testy ve Formsech nebo na Teamsech, ústní zkoušení | Y73: 1 | AA73: 2 | AB73: 3 | AC73: kontakt s kamaráda a učiteli | AD73: 5 | AE73: 2 | AG73: moc jsem se neučila, málo času na testy a na úkoly, občas nefungovala wi-fi | AH73: pozdější vstávání, líbí se mi doma víc než ve škole | AI73: 2
A74: 2 | B74: 1 | C74: 2 | D74: 3 | E74: 2.3 | F74: 1 | G74: 3 | H74: 3 | I74: 2 | J74: 1.5 | K74: 1,6,7,9 | M74: 2 | N74: Forms | O74: 3 | P74: 4 | Q74: 1,2,4 | S74: 1 | T74: 2 | U74: 2 | V74: 2 | W74: 3 | X74: testy vonline prostředí, ústní zkoušení | Y74: 2 | AA74: 2 | AB74: 2 | AC74: přímý kontakt se spolužáky | AD74: 2 | AE74: 2 | AG74: žádná negativa | AH74: nemusela jsem dojíždět, výuka v pohodlí domova | AI74: 2
A75: 2 | B75: 1 | C75: 3 | D75: 2 | E75: 1.2 | F75: 1 | G75: 3 | H75: 3 | I75: 2 | J75: 1.5 | K75: 1,7,9 | M75: 2 | N75: Forms | O75: 2 | P75: 4 | Q75: 1,2,5,6 | S75: 2 | T75: 2 | U75: 2 | V75: 2 | W75: 2 | X75: interaktivní testy ve Forms, ústní zkoušení | Y75: 2 | AA75: 3 | AB75: 2 | AC75: přímý kontakt, možnost rychlého dotazování | AD75: 3 | AE75: 2 | AG75: žádná negativa | AH75: žádná pozitiva | AI75: 2
A76: 1 | B76: 1 | C76: 2 | D76: 3 | E76: 1.3 | F76: 1 | G76: 3 | H76: 3 | I76: 2 | J76: 1.5 | K76: 1,6,j | L76: neuvedeno | M76: 4 | P76: 2 | Q76: 1.2 | S76: 2 | T76: 3 | U76: 3 | V76: 3 | W76: 3 | X76: ústní zkoušení, testy přes Forms zadání | Y76: 2 | AA76: 2 | AB76: 3 | AC76: přímý kontakt, komunikace, férové jednání | AD76: 4 | AE76: 1 | AF76: 5 | AG76: psychika, vedomosti | AH76: klid, čas, prostor na více věcí | AI76: 3
A77: 2 | B77: 1 | C77: 4 | D77: 2 | E77: 2 | F77: 1 | G77: 3 | H77: 2 | I77: 3 | J77: 1 | K77: 1.6 | M77: 2 | N77: Forms | O77: 3 | P77: 2 | Q77: 1,2,5 | S77: 1 | T77: 2 | U77: 3 | V77: 2 | W77: 1 | X77: zkoušení přes webkameru, testy přes Forms | Y77: 1 | AA77: 3 | AB77: 1 | AC77: přímý kontakt, prostředí doma bylo poté otravné | AD77: 4 | AE77: 1 | AF77: 5 | AG77: složitější domluva s učiteli, kratší čas na vyplnění testů abychom neopiovali | AH77: nemusela jsem dojíždět | AI77: 2
A78: 2 | B78: 1 | C78: 3 | D78: 1 | E78: 2.3 | F78: 1 | G78: 3 | H78: 2 | I78: 3 | J78: 1 | K78: 1.6 | M78: 2 | N78: Forms | O78: 3 | P78: 2 | Q78: 1,2,3,5,6 | S78: 1 | T78: 3 | U78: 2 | V78: 2 | W78: 1 | X78: zkoušení přes webkameru, testy přes Forms | Y78: 2 | AA78: 3 | AB78: 1 | AC78: přímý kontakt, prostředí školy | AD78: 4 | AE78: 1 | AF78: 2 | AG78: více úkolů než obvykle | AH78: nemuset dojíždět | AI78: 2
A79: 2 | B79: 1 | C79: 1 | D79: 2 | E79: 2 | F79: 1 | G79: 3 | H79: 3 | I79: 2 | J79: 1.5 | K79: 1,5,6,7,9 | M79: 3 | P79: 2 | Q79: 1.2 | S79: 2 | T79: 2 | U79: 2 | V79: 3 | W79: 1 | X79: neuvedeno | Y79: 1 | AA79: 4 | AB79: 2 | AC79: přímý kontakt s učiteli/spolužáky | AD79: 4 | AE79: 2 | AG79: žádná negativa | AH79: žádná pozitiva | AI79: 2
A80: 2 | B80: 1 | C80: 1 | D80: 2 | E80: 2 | F80: 1 | G80: 3 | H80: 3 | I80: 3 | J80: 1 | K80: 1,6,7,9 | M80: 4 | P80: 1 | Q80: 2.3 | S80: 1 | T80: 3 | U80: 2 | V80: 3 | W80: 1 | X80: testy, hodně krátké, hodně otázek, zkoušení | Y80: 4 | Z80: méně hodin, ale více úkolů | AA80: 2 | AB80: 2 | AC80: spolužáci, soustředění na hodinu | AD80: 5 | AE80: 2 | AG80: nesoustředila jsem se, psala si zápisky jen zřídka, více jsem na školu kašlala | AH80: nemusím tak brzo vstávat, testy přes počítač, méně hodin | AI80: 2
A81: 2 | B81: 1 | C81: 2 | D81: 3 | E81: 1.3 | F81: 1 | G81: 4 | H81: 4 | I81: 2 | J81: 1 | K81: 6 | M81: 4 | P81: 3 | Q81: 2 | S81: 2 | T81: 4 | U81: 3 | V81: 3 | W81: 1 | X81: ústní zkoušení přes Teams a testy v online školním prostředí | Y81: 2 | AA81: 4 | AB81: 1 | AC81: přímý kontakt se spolužáky | AD81: 5 | AE81: 2 | AG81: málo času na úkoly a testy | AH81: jsme nemuseli brzo vstávat | AI81: 2
A82: 2 | B82: 1 | C82: 4 | D82: 2 | E82: 2 | F82: 1 | G82: 4 | H82: 4 | I82: 3 | J82: 1 | K82: 6 | M82: 4 | P82: 2 | Q82: 2,3,5 | S82: 1 | T82: 1 | U82: 1 | V82: 1 | W82: 4 | X82: ústní zkoušení, testy Forms | Y82: 3 | Z82: některé předměty se přehodily nebo hodina odpadla | AA82: 1 | AB82: 3 | AC82: kontakt se spolužáky | AD82: 4 | AE82: 2 | AG82: žádná negativa | AH82: nemusela jsem dojíždět do školy, plánovala jsem si sama, kdy co udělám | AI82: 1
A83: 2 | B83: 1 | C83: 4 | D83: 1 | E83: 2.3 | F83: 1 | G83: 3 | H83: 3 | I83: 3 | J83: 1 | K83: 6 | M83: 4 | P83: 3 | Q83: 1,2,3,5,6 | S83: 1 | T83: 2 | U83: 1 | V83: 2 | W83: 1 | X83: ústní zkoušení, dotazy v hodinách, online testy | Y83: 2 | AA83: 2 | AB83: 1 | AC83: přímý kontakt s lidmi | AD83: 2 | AE83: 2 | AG83: žádná negativa | AH83: mohla jsem déle spát | AI83: 1
A84: 2 | B84: 1 | C84: 4 | D84: 1 | E84: 2.3 | F84: 1 | G84: 3 | H84: 3 | I84: 3 | J84: 1 | K84: 6 | M84: 4 | P84: 3 | Q84: 1,2,3,5 | S84: 1 | T84: 2 | U84: 1 | V84: 2 | W84: 2 | X84: ústní zkoušení, dotazy v hodinách, online testy | Y84: 2 | AA84: 2 | AB84: 1 | AC84: kontakt se spolužáky | AD84: 2 | AE84: 2 | AG84: žádná negativa | AH84: žádná pozitiva | AI84: 1
A85: 2 | B85: 1 | C85: 2 | D85: 1 | E85: 2.3 | F85: 1 | G85: 3 | H85: 4 | I85: 4 | J85: 1,3,5 | K85: 1,4,6,7,9 | M85: 4 | P85: 3 | Q85: 2,3,5,6 | S85: 2 | T85: 2 | U85: 2 | V85: 2 | W85: 3 | X85: ústní zkoušení, testy online | Y85: 2 | AA85: 2 | AB85: 3 | AC85: přímý kontakt | AD85: 3 | AE85: 2 | AG85: žádná negativa | AH85: žádná pozitiva | AI85: 3
A86: 1 | B86: 1 | C86: 1 | D86: 2 | E86: 1.3 | F86: 1 | G86: 4 | H86: 3 | I86: 3 | J86: 1 | K86: 1,4,6 | M86: 1 | N86: Kahoot! | O86: 4 | P86: 5 | Q86: 1,2,3,6,7 | R86: nahrávky | S86: 1 | T86: 3 | U86: 2 | V86: 2 | W86: 4 | X86: testy (forms), ústní zkoušení (videokonference) | Y86: 2 | AA86: 2 | AB86: 2 | AC86: nic | AD86: 4 | AE86: 2 | AG86: moc úkolů | AH86: spánek | AI86: 2
A87: 1 | B87: 1 | C87: 3 | D87: 1 | E87: 1 | F87: 1 | G87: 3 | H87: 3 | I87: 4 | J87: 1 | K87: 1,4,6 | M87: 1 | N87: Kahoot! | O87: 3 | P87: 1 | Q87: 1,2,3,5,6,7 | R87: zápisky | S87: 2 | T87: 4 | U87: 2 | V87: 2 | W87: 1 | X87: testy v teamsech | Y87: 4 | Z87: úkoly se posílaly náhodně, někdy i příliš brzy (ráno) | AA87: 3 | AB87: 3 | AC87: kamarádi, vtipné situace | AD87: 5 | AE87: 2 | AG87: velikost úkolů, testů | AH87: nemuselo se nikam chodit (dojíždění) | AI87: 2
A88: 2 | B88: 1 | C88: 4 | D88: 1 | E88: 2.3 | F88: 1 | G88: 4 | H88: 4 | I88: 3 | J88: 1 | K88: 6.9 | M88: 4 | P88: 2 | Q88: 1,2,3,6 | S88: 1 | T88: 2 | U88: 2 | V88: 2 | W88: 3 | X88: ústní zkoušení, testy ve Forms | Y88: 2 | AA88: 2 | AB88: 1 | AC88: kontakt s kamarády | AD88: 4 | AE88: 2 | AG88: žádný kontakt s kamarády | AH88: nemusela jsem tak brzo vstávat | AI88: 1
A89: 2 | B89: 1 | C89: 4 | D89: 2 | E89: 2.3 | F89: 1 | G89: 4 | H89: 4 | I89: 4 | J89: 1 | K89: 4.6 | M89: 4 | P89: 5 | Q89: 1,2,6 | S89: 1 | T89: 2 | U89: 2 | V89: 1 | W89: 2 | X89: testy forms, zadání Teams | Y89: 1 | AA89: 1 | AB89: 2 | AC89: nic | AD89: 4 | AE89: 2 | AG89: žádná negativa | AH89: žádná pozitiva | AI89: 3
A90: 2 | B90: 1 | C90: 4 | D90: 2 | E90: 2.3 | F90: 1 | G90: 4 | H90: 4 | I90: 4 | J90: 1 | K90: 4.6 | M90: 4 | P90: 5 | Q90: 1,2,6 | S90: 2 | T90: 2 | U90: 2 | V90: 2 | W90: 2 | X90: testy forms, zadání Teams | Y90: 2 | AA90: 2 | AB90: 1 | AC90: kontakt se spolužáky, znalosti | AD90: 5 | AE90: 2 | AG90: nedonutila jsem se tak dobře připravit na výuku | AH90: ldelší spánek, harmonogram dne jsem si mohla trochu upravit | AI90: 3
A91: 2 | B91: 1 | C91: 2 | D91: 3 | E91: 2.3 | F91: 1 | G91: 4 | H91: 3 | I91: 2 | J91: 1 | K91: 6 | M91: 3 | P91: 2 | Q91: 1,2,5 | S91: 2 | T91: 4 | U91: 2 | V91: 2 | W91: 1 | X91: testy ve Forms, málo času, aby se neopisovalo | Y91: 2 | AA91: 4 | AB91: 1 | AC91: kontakt s kamarády, obědy v jidelně | AD91: 5 | AE91: 2 | AG91: žádný přímý kontakt, málo času na vše, úkoly odevzdávány v přesný čas (do školy bych nenesla úkol v 6 večer) | AH91: Delší spánek, nemusela jsem se nikam připravovat, mohla jsem u toho jíst | AI91: 2
A92: 2 | B92: 1 | C92: 2 | D92: 1 | E92: 2.3 | F92: 1 | G92: 3 | H92: 3 | I92: 4 | J92: 1 | K92: 4.6 | M92: 2 | N92: Kahoot! | O92: 4 | P92: 2 | Q92: 1,2,6 | S92: 1 | T92: 3 | U92: 2 | V92: 3 | W92: 1 | X92: ústní zkoušení s kamerou, testy Forms, zadání s krátkým časovým limitem | Y92: 1 | AA92: 2 | AB92: 1 | AC92: motivace se učit, kontakt s lidmi | AD92: 5 | AE92: 2 | AG92: více úkolů, málo času na testy | AH92: více mimoškolního času, pohodlí domova | AI92: 1
A93: 2 | B93: 1 | C93: 4 | D93: 2 | E93: 1,2,3 | F93: 1 | G93: 3 | H93: 3 | I93: 4 | J93: 1 | K93: 4.6 | M93: 2 | N93: Kahoot! | O93: 4 | P93: 2 | Q93: 1,2,6 | S93: 1 | T93: 2 | U93: 2 | V93: 3 | W93: 1 | X93: ústní zkoušení s kamerou, testy Forms, zadání s krátkým časovým limitem na odevzdání | Y93: 1 | AA93: 2 | AB93: 3 | AC93: motivace se učit, kontakt se spolužáky | AD93: 5 | AE93: 2 | AG93: více úkolů, málo času na testy | AH93: více mimoškolního času, absence dojíždění, doma je teplo | AI93: 1
A94: 2 | B94: 1 | C94: 1 | D94: 2 | E94: 2 | F94: 1 | G94: 3 | H94: 3 | I94: 3 | J94: 1 | K94: 1,6,9 | M94: 2 | N94: Kahoot!, Quizlet | O94: 4 | P94: 2 | Q94: 1.2 | S94: 2 | T94: 1 | U94: 2 | V94: 2 | W94: 1 | X94: ústní zkoušení, testy ve Forms, ofocování prací a zasílání učiteli | Y94: 1 | AA94: 2 | AB94: 3 | AC94: kontakt se spolužáky, cesty do školy s kamarády | AD94: 2 | AE94: 2 | AG94: neviděla jsem se se spolužáky, trvalo dlouho než jsem si našla nový systém ve fungování doma (pracovní plocha, vaření jídla,..) | AH94: měla jsem více času na své koníky, sport, ruční práce, ušetřila jsem čas dopravou do a ze školy | AI94: 2
A95: 2 | B95: 1 | C95: 1 | D95: 2 | E95: 2.3 | F95: 1 | G95: 3 | H95: 4 | I95: 3 | J95: 1 | K95: 1,6,9 | M95: 2 | N95: Kahoot!, Quizlet | O95: 4 | P95: 2 | Q95: 1.2 | S95: 1 | T95: 2 | U95: 2 | V95: 2 | W95: 3 | X95: ústní zkoušení, testy ve Forms | Y95: 1 | AA95: 2 | AB95: 3 | AC95: kontakt se spolužáky | AD95: 4 | AE95: 2 | AG95: občasné nepochopení látky, která by se v prezenční výuce pochopila lépe, nevidění se s kamarády | AH95: nemusela jsem vstávat brzo a někam se dopravovat | AI95: 2
A96: 1 | B96: 1 | C96: 2 | D96: 2 | E96: 2 | F96: 1 | G96: 3 | H96: 3 | I96: 3 | J96: 1 | K96: 6 | M96: 4 | P96: 3 | Q96: 2 | S96: 3 | T96: 2 | U96: 2 | V96: 2 | W96: 1 | X96: neuvedeno | Y96: 3 | Z96: neuvedeno | AA96: 2 | AB96: 1 | AC96: nic | AD96: 4 | AE96: 2 | AG96: žádná negativa | AH96: žádná pozitiva | AI96: 2
A97: 2 | B97: 1 | C97: 4 | D97: 2 | E97: 2.3 | F97: 1 | G97: 4 | H97: 3 | I97: 3 | J97: 1 | K97: 6.9 | M97: 2 | N97: Kahoot! | O97: 4 | P97: 3 | Q97: 1,2,3 | S97: 2 | T97: 3 | U97: 2 | V97: 2 | W97: 1 | X97: testy ve forms, ústní zkoušení | Y97: 3 | Z97: občas se prohodily předměty | AA97: 2 | AB97: 1 | AC97: kontakt s kamarády | AD97: 5 | AE97: 1 | AF97: 2 | AG97: nuda, žádná motivace, žádní kamarádi | AH97: teplo domova, delší spánek | AI97: 1
A98: 1 | B98: 1 | C98: 3 | D98: 2 | E98: 2 | F98: 1 | G98: 4 | H98: 2 | I98: 3 | J98: 1 | K98: 1,4,9 | M98: 2 | N98: Kahoot! | O98: 3 | P98: 4 | Q98: 1,2,3 | S98: 2 | T98: 3 | U98: 2 | V98: 2 | W98: 1 | X98: testy přes forms, mock krátký čas | Y98: 1 | AA98: 1 | AB98: 1 | AC98: přímý kontakt se spolužáky a učiteli | AD98: 4 | AE98: 2 | AG98: bylo moc úkolů na krátkou dobu | AH98: někdy jsme mohli spát déle | AI98: 1
A99: 1 | B99: 1 | C99: 3 | D99: 2 | E99: 2.3 | F99: 1 | G99: 4 | H99: 3 | I99: 3 | J99: 1 | K99: 1.6 | M99: 1 | N99: Kahoot! | O99: 3 | P99: 4 | Q99: 1,2,5 | S99: 2 | T99: 2 | U99: 2 | V99: 2 | W99: 2 | X99: ústní zkoušení, testy online | Y99: 3 | Z99: přesun hodin, zrušení hodiny | AA99: 3 | AB99: 1 | AC99: přímý kontakt s učiteli, sranda | AD99: 4 | AE99: 2 | AG99: chaos (občasný), nefunkčnost techniky | AH99: žádné dojíždění | AI99: 2
A100: 2 | B100: 1 | C100: 4 | D100: 2 | E100: 2.3 | F100: 1 | G100: 4 | H100: 3 | I100: 3 | J100: 1 | K100: 1,4,6,9 | M100: 3 | P100: 3 | Q100: 1,2,3,5 | S100: 2 | T100: 3 | U100: 2 | V100: 2 | W100: 2 | X100: testy ve Forms na hodně krátkou dobu, zkoušení s webkamerou | Y100: 2 | AA100: 3 | AB100: 1 | AC100: jídelna, režim, kontakt s kamarády, celkově sociální kontakt | AD100: 5 | AE100: 2 | AG100: žádný kontakt s kamarády, nudné hodiny | AH100: pozdější vstávání | AI100: 3
...

Sheet uzavrene_otazky
B3: Pohlaví | D3: Počet respondentů | F3: Procentní vyjádření | K3: Pohlaví | L3: Procento
B4: Muž | D4: 38 | F4: =D4/$D$6 -> 0.2345679 | K4: Muži | L4: =F4 -> 0.2345679
B5: Žena | D5: 124 | F5: =D5/$D$6 -> 0.7654321 | K5: Ženy | L5: =F5 -> 0.7654321
B6: Celkem | D6: =SUM(D4:E5) -> 162 | F6: =SUM(F4:G5) -> 1
B12: Ročník studia | D12: Počet respondentů | F12: Procentní vyjádření | K12: Ročník studia | L12: Procento
B13: Druhý | D13: 52 | F13: =D13/D16 -> 0.32098765 | K13: Druhý | L13: =F13 -> 0.32098765
B14: Třetí | D14: 58 | F14: =D14/D16 -> 0.35802469 | K14: Třetí | L14: =F14 -> 0.35802469
B15: Čtvrtý | D15: 52 | F15: =D15/D16 -> 0.32098765 | K15: Čtvrtý | L15: =F15 -> 0.32098765
B16: Celkem | D16: =SUM(D13:E15) -> 162 | F16: =SUM(F13:G15) -> 1
B22: Finanční výdaje | D22: Počet respondentů | F22: Procentní vyjádření | K22: Finanční výdaje | L22: Procento
B23: Ano | D23: =kodovana_data!C167 -> 24 | F23: =D23/$D$27 -> 0.14814815 | K23: =B23 -> Ano | L23: =F23 -> 0.14814815
B24: Spíše ano | D24: =kodovana_data!C169 -> 23 | F24: =D24/$D$27 -> 0.14197531 | K24: =B24 -> Spíše ano | L24: =F24 -> 0.14197531
B25: Spíše ne | D25: =kodovana_data!C171 -> 41 | F25: =D25/$D$27 -> 0.25308642 | K25: =B25 -> Spíše ne | L25: =F25 -> 0.25308642
B26: Ne | D26: =kodovana_data!C173 -> 74 | F26: =D26/$D$27 -> 0.45679012 | K26: =B26 -> Ne | L26: =F26 -> 0.45679012
B27: Celkem | D27: =SUM(D23:E26) -> 162 | F27: =SUM(F23:G26) -> 1
B33: Připravenost distanční výuky | D33: Počet respondentů | F33: Procentní vyjádření | K33: =B33 -> Připravenost distanční výuky | L33: Procento
B34: Ano | D34: =kodovana_data!D167 -> 43 | F34: =D34/$D$38 -> 0.2654321 | K34: =B34 -> Ano | L34: =F34 -> 0.2654321
B35: Spíše ano | D35: =kodovana_data!D169 -> 88 | F35: =D35/$D$38 -> 0.54320988 | K35: =B35 -> Spíše ano | L35: =F35 -> 0.54320988
B36: Spíše ne | D36: =kodovana_data!D171 -> 25 | F36: =D36/$D$38 -> 0.15432099 | K36: =B36 -> Spíše ne | L36: =F36 -> 0.15432099
B37: Ne | D37: =kodovana_data!D173 -> 6 | F37: =D37/$D$38 -> 0.037037037 | K37: =B37 -> Ne | L37: =F37 -> 0.037037037
B38: Celkem | D38: =SUM(D34:E37) -> 162 | F38: =SUM(F34:G37) -> 1
B42: Zařízení využitá při distanční výuce | D42: Počet odpovědí | F42: Procentní vyjádření | K42: =B42 -> Zařízení využitá při distanční výuce | L42: Procento
B43: Počítač | D43: =kodovana_data!E167 -> 43 | F43: =D43/$D$47 -> 0.13650794 | K43: =B43 -> Počítač | L43: =F43 -> 0.13650794
B44: Notebook | D44: =kodovana_data!E169 -> 131 | F44: =D44/$D$47 -> 0.41587302 | K44: =B44 -> Notebook | L44: =F44 -> 0.41587302
B45: Smartphone | D45: =kodovana_data!E171 -> 135 | F45: =D45/$D$47 -> 0.42857143 | K45: =B45 -> Smartphone | L45: =F45 -> 0.42857143
B46: Tablet | D46: =kodovana_data!E173 -> 6 | F46: =D46/$D$47 -> 0.019047619 | K46: =B46 -> Tablet | L46: =F46 -> 0.019047619
B47: Celkem | D47: =SUM(D43:E46) -> 315 | F47: =SUM(F43:G46) -> 1
B51: Zapnutá webkamera - žáci | D51: Počet respondentů | F51: Procentní vyjádření | K51: =B51 -> Zapnutá webkamera - žáci | L51: Procento
B52: Ano | D52: =kodovana_data!G167 -> 2 | F52: =D52/$D$56 -> 0.012345679 | K52: =B52 -> Ano | L52: =F52 -> 0.012345679
B53: Spíše ano | D53: =kodovana_data!G169 -> 3 | F53: =D53/$D$56 -> 0.018518519 | K53: =B53 -> Spíše ano | L53: =F53 -> 0.018518519
B54: Spíše ne | D54: =kodovana_data!G171 -> 96 | F54: =D54/$D$56 -> 0.59259259 | K54: =B54 -> Spíše ne | L54: =F54 -> 0.59259259
B55: Ne | D55: =kodovana_data!G173 -> 61 | F55: =D55/$D$56 -> 0.37654321 | K55: =B55 -> Ne | L55: =F55 -> 0.37654321
B56: Celkem | D56: =SUM(D52:E55) -> 162 | F56: =SUM(F52:G55) -> 1
B60: Zapnutá webkamera - učitelé | D60: Počet respondentů | F60: Procentní vyjádření | K60: =B60 -> Zapnutá webkamera - učitelé | L60: Procento
B61: Ano | D61: =kodovana_data!H167 -> 1 | F61: =D61/$D$65 -> 0.0061728395 | K61: =B61 -> Ano | L61: =F61 -> 0.0061728395
B62: Spíše ano | D62: =kodovana_data!H169 -> 64 | F62: =D62/$D$65 -> 0.39506173 | K62: =B62 -> Spíše ano | L62: =F62 -> 0.39506173
B63: Spíše ne | D63: =kodovana_data!H171 -> 76 | F63: =D63/$D$65 -> 0.4691358 | K63: =B63 -> Spíše ne | L63: =F63 -> 0.4691358
B64: Ne | D64: =kodovana_data!H173 -> 21 | F64: =D64/$D$65 -> 0.12962963 | K64: =B64 -> Ne | L64: =F64 -> 0.12962963
B65: Celkem | D65: =SUM(D61:E64) -> 162 | F65: =SUM(F61:G64) -> 1
B69: Frekventovanost problémů v komunikaci | D69: Počet respondentů | F69: Procentní vyjádření | K69: =B69 -> Frekventovanost problémů v komunikaci | L69: Procento
B70: Vždy | D70: =kodovana_data!I167 -> 3 | F70: =D70/$D$75 -> 0.018518519 | K70: =B70 -> Vždy | L70: =F70 -> 0.018518519
B71: Často | D71: =kodovana_data!I169 -> 44 | F71: =D71/$D$75 -> 0.27160494 | K71: =B71 -> Často | L71: =F71 -> 0.27160494
B72: Občas | D72: =kodovana_data!I171 -> 92 | F72: =D72/$D$75 -> 0.56790123 | K72: =B72 -> Občas | L72: =F72 -> 0.56790123
B73: Zřídka | D73: =kodovana_data!I173 -> 23 | F73: =D73/$D$75 -> 0.14197531 | K73: =B73 -> Zřídka | L73: =F73 -> 0.14197531
B74: Nikdy | D74: =kodovana_data!I175 -> 0 | F74: =D74/D75 -> 0 | K74: =B74 -> Nikdy | L74: =F74 -> 0
B75: Celkem | D75: =SUM(D70:E74) -> 162 | F75: =SUM(F70:G74) -> 1
B79: Prostředky využité pro komunikaci s učitelem | D79: Počet odpovědí | F79: Procentní vyjádření | K79: =B79 -> Prostředky využité pro komunikaci s učitelem | L79: Procento
B80: MS Teams | D80: =kodovana_data!J167 -> 162 | F80: =D80/$D$89 -> 0.82653061 | K80: =B80 -> MS Teams | L80: =F80 -> 0.82653061
B81: Zoom | D81: =kodovana_data!J169 -> 0 | F81: 0 | K81: =B81 -> Zoom | L81: -
B82: Google Meet | D82: =kodovana_data!J171 -> 1 | F82: =D82/$D$89 -> 0.0051020408 | K82: =B82 -> Google Meet | L82: =F82 -> 0.0051020408
B83: Discord | D83: =kodovana_data!J173 -> 0 | F83: =D83/$D$89 -> 0 | K83: =B83 -> Discord | L83: =F83 -> 0
B84: E-mail | D84: =kodovana_data!J175 -> 29 | F84: =D84/$D$89 -> 0.14795918 | K84: =B84 -> E-mail | L84: =F84 -> 0.14795918
B85: Facebook (messenger) | D85: =kodovana_data!J177 -> 2 | F85: =D85/$D$89 -> 0.010204082 | K85: =B85 -> Facebook (messenger) | L85: =F85 -> 0.010204082
B86: WhatsApp | D86: =kodovana_data!J179 -> 1 | F86: =D86/$D$89 -> 0.0051020408 | K86: =B86 -> WhatsApp | L86: =F86 -> 0.0051020408
B87: Skype | D87: =kodovana_data!J181 -> 0 | F87: 0 | K87: =B87 -> Skype | L87: =F87 -> 0
B88: Jiné | D88: =kodovana_data!J183 -> 1 | F88: =D88/$D$89 -> 0.0051020408 | K88: =B88 -> Jiné | L88: =F88 -> 0.0051020408
B89: Celkem | D89: =SUM(D80:E88) -> 196 | F89: =SUM(F80:G88) -> 1
B93: Prostředky využité pro komunikaci se spolužáky | D93: Počet odpovědí | F93: Procentní vyjádření | K93: =B93 -> Prostředky využité pro komunikaci se spolužáky | L93: Procento
B94: MS Teams | D94: =kodovana_data!K167 -> 124 | F94: =D94/$D$104 -> 0.28440367 | K94: =B94 -> MS Teams | L94: =F94 -> 0.28440367
B95: Zoom | D95: =kodovana_data!K169 -> 1 | F95: =D95/$D$104 -> 0.002293578 | K95: =B95 -> Zoom | L95: =F95 -> 0.002293578
B96: Google Meet | D96: =kodovana_data!K171 -> 0 | F96: =D96/$D$104 -> 0 | K96: =B96 -> Google Meet | L96: =F96 -> 0
B97: Discord | D97: =kodovana_data!K173 -> 32 | F97: =D97/$D$104 -> 0.073394495 | K97: =B97 -> Discord | L97: =F97 -> 0.073394495
B98: E-mail | D98: =kodovana_data!K175 -> 34 | F98: =D98/$D$104 -> 0.077981651 | K98: =B98 -> E-mail | L98: =F98 -> 0.077981651
B99: Facebook (messenger) | D99: =kodovana_data!K177 -> 145 | F99: =D99/$D$104 -> 0.33256881 | K99: =B99 -> Facebook (messenger) | L99: =F99 -> 0.33256881
B100: WhatsApp | D100: =kodovana_data!K179 -> 10 | F100: =D100/$D$104 -> 0.02293578 | K100: =B100 -> WhatsApp | L100: =F100 -> 0.02293578
B101: Skype | D101: =kodovana_data!K181 -> 0 | F101: =D101/$D$104 -> 0 | K101: =B101 -> Skype | L101: =F101 -> 0
B102: Telefon | D102: =kodovana_data!K183 -> 75 | F102: =D102/$D$104 -> 0.17201835 | K102: =B102 -> Telefon | L102: =F102 -> 0.17201835
B103: Jiné | D103: =kodovana_data!K185 -> 15 | F103: =D103/$D$104 -> 0.03440367 | K103: =B103 -> Jiné | L103: =F103 -> 0.03440367
B104: Celkem | D104: =SUM(D94:E103) -> 436 | F104: =SUM(F94:G103) -> 1
B108: Prostředky využité ke komunikaci se spolužáky - jiné | D108: Počet odpovědí | F108: Procentní vyjádření | K108: =B108 -> Prostředky využité ke komunikaci se spolužáky - jiné | L108: Procento
B109: Instagram | D109: =kodovana_data!L167 -> 10 | F109: =D109/D111 -> 0.66666667 | K109: =B109 -> Instagram | L109: =F109 -> 0.66666667
B110: Ostatní | D110: =kodovana_data!L169 -> 5 | F110: =D110/D111 -> 0.33333333 | K110: =B110 -> Ostatní | L110: =F110 -> 0.33333333
B111: Celkem | D111: =SUM(D109:E110) -> 15 | F111: =SUM(F109:G110) -> 1
B115: Využití interaktivních aplikací | D115: Počet respondentů | F115: Procentní vyjádření | K115: =B115 -> Využití interaktivních aplikací | L115: Procento
B116: ano/Spíše ano | D116: =kodovana_data!M167+kodovana_data!M169 -> 121 | F116: =D116/$D$118 -> 0.74691358 | K116: =B116 -> ano/Spíše ano | L116: =F116 -> 0.74691358
B117: Ne/Spíše ne | D117: =kodovana_data!M171+kodovana_data!M173 -> 41 | F117: =D117/$D$118 -> 0.25308642 | K117: =B117 -> Ne/Spíše ne | L117: =F117 -> 0.25308642
B118: Celkem | D118: =SUM(D116:E117) -> 162 | F118: =SUM(F116:G117) -> 1
B124: Interaktivní aplikace využité při výuce | D124: Počet odpovědí | F124: Procentní vyjádření | K124: =B124 -> Interaktivní aplikace využité při výuce | L124: Procento
B125: Kahoot! | D125: =kodovana_data!N167 -> 107 | F125: =D125/$D$129 -> 0.74825175 | K125: =B125 -> Kahoot! | L125: =F125 -> 0.74825175
B126: Quizlet | D126: =kodovana_data!N169 -> 17 | F126: =D126/$D$129 -> 0.11888112 | K126: =B126 -> Quizlet | L126: =F126 -> 0.11888112
B127: Forms | D127: =kodovana_data!N171 -> 6 | F127: =D127/$D$129 -> 0.041958042 | K127: =B127 -> Forms | L127: =F127 -> 0.041958042
B128: Ostatní | D128: =kodovana_data!N173 -> 13 | F128: =D128/$D$129 -> 0.090909091 | K128: =B128 -> Ostatní | L128: =F128 -> 0.090909091
B129: Celkem | D129: =SUM(D125:E128) -> 143 | F129: =SUM(F125:G128) -> 1
B137: Četnost využití interaktivních aplikací | D137: Počet respondentů | F137: Procentní vyjádření | K137: =B137 -> Četnost využití interaktivních aplikací | L137: Procento
B138: Vždy | D138: =kodovana_data!O167 -> 0 | F138: =D138/$D$142 -> 0 | K138: =B138 -> Vždy | L138: =F138 -> 0
B139: Často | D139: =kodovana_data!O169 -> 9 | F139: =D139/$D$142 -> 0.074380165 | K139: =B139 -> Často | L139: =F139 -> 0.074380165
B140: Občas | D140: =kodovana_data!O171 -> 85 | F140: =D140/$D$142 -> 0.70247934 | K140: =B140 -> Občas | L140: =F140 -> 0.70247934
B141: Zřídka | D141: =kodovana_data!O173 -> 27 | F141: =D141/$D$142 -> 0.2231405 | K141: =B141 -> Zřídka | L141: =F141 -> 0.2231405
B142: Celkem | D142: =SUM(D138:E141) -> 121 | F142: =SUM(F138:G141) -> 1
B146: Interaktivní aplikace využívají spíše mladší učitelé | D146: Počet respondentů | F146: Procentní vyjádření | K146: =B146 -> Interaktivní aplikace využívají spíše mladší učitelé | L146: Procento
B147: Souhlasím | D147: =kodovana_data!P167 -> 12 | F147: =D147/$D$152 -> 0.074074074 | K147: =B147 -> Souhlasím | L147: =F147 -> 0.074074074
B148: Spíše souhlasím | D148: =kodovana_data!P169 -> 64 | F148: =D148/$D$152 -> 0.39506173 | K148: =B148 -> Spíše souhlasím | L148: =F148 -> 0.39506173
B149: Nevím | D149: =kodovana_data!P171 -> 41 | F149: =D149/$D$152 -> 0.25308642 | K149: =B149 -> Nevím | L149: =F149 -> 0.25308642
B150: Spíše nesouhlasím | D150: =kodovana_data!P173 -> 32 | F150: =D150/$D$152 -> 0.19753086 | K150: =B150 -> Spíše nesouhlasím | L150: =F150 -> 0.19753086
B151: Nesouhlasím | D151: =kodovana_data!P175 -> 13 | F151: =D151/$D$152 -> 0.080246914 | K151: =B151 -> Nesouhlasím | L151: =F151 -> 0.080246914
B152: Celkem | D152: =SUM(D147:E151) -> 162 | F152: =SUM(F147:G151) -> 1
B156: Způsob předávání nové látky | D156: Počet odpovědí | F156: Procentní vyjádření | K156: =B156 -> Způsob předávání nové látky | L156: Procento
B157: Čistý přednes | D157: =kodovana_data!Q167 -> 141 | F157: =D157/$D$164 -> 0.26806084 | K157: =B157 -> Čistý přednes | L157: =F157 -> 0.26806084
B158: Prezentace | D158: =kodovana_data!Q169 -> 157 | F158: =D158/$D$164 -> 0.29847909 | K158: =B158 -> Prezentace | L158: =F158 -> 0.29847909
B159: Videa | D159: =kodovana_data!Q171 -> 82 | F159: =D159/$D$164 -> 0.15589354 | K159: =B159 -> Videa | L159: =F159 -> 0.15589354
...

Sheet otevreny_odpovedi
B2: Co respondentům nejvíce scházelo při distanční výuce | D2: Počet odpovědí | F2: Procentní vyjádření
B3: Přímý kontakt s učiteli | D3: =37+5+9 -> 51 | F3: =D3/$D$8 -> 0.22767857
B4: Přímý kontakt se spolužáky | D4: =63+15+5+7 -> 90 | F4: =D4/$D$8 -> 0.40178571
B5: Motivace/soustředění | D5: =9+6+10+15 -> 40 | F5: =D5/$D$8 -> 0.17857143
B6: Prostředí školy/režim | D6: 20 | F6: =D6/$D$8 -> 0.089285714
B7: Nic | D7: 23 | F7: =D7/$D$8 -> 0.10267857
B8: Celkem | D8: =SUM(D3:E7) -> 224 | F8: =SUM(F3:G7) -> 1
B12: Největší vnímaná negativa online výuky | D12: Počet odpovědí | F12: Procentní vyjádření
B13: Mnoho úkolů | D13: 44 | F13: =D13/$D$20 -> 0.19298246
B14: Krátký čas na testy | D14: 25 | F14: =D14/$D$20 -> 0.10964912
B15: Neporozumění látce | D15: =22+14 -> 36 | F15: =D15/$D$20 -> 0.15789474
B16: Kratší/delší hodiny (krátké přestávky) | D16: 27 | F16: =D16/$D$20 -> 0.11842105
B17: Problémy s komunikací | D17: 38 | F17: =D17/$D$20 -> 0.16666667
B18: Pohyb (sezení u PC) | D18: 11 | F18: =D18/$D$20 -> 0.048245614
B19: Žádná negativa | D19: 47 | F19: =D19/$D$20 -> 0.20614035
B20: Celkem | D20: =SUM(D13:E19) -> 228 | F20: =SUM(F13:G19) -> 1
B24: Největší vnímaná pozitiva online výuky | D24: Počet odpovědí | F24: Procentní vyjádření
B25: Nemuset dojíždět do školy | D25: 30 | F25: =D25/$D$31 -> 0.1369863
B26: Více času na úkoly/své věci | D26: 55 | F26: =D26/$D$31 -> 0.25114155
B27: Pozdější vstávání/delší spánek | D27: =24+14 -> 38 | F27: =D27/$D$31 -> 0.17351598
B28: Domácí prostředí | D28: 34 | F28: =D28/$D$31 -> 0.15525114
B29: Pravidelná snídaně | D29: 12 | F29: =D29/$D$31 -> 0.054794521
B30: Žádná pozitiva | D30: 50 | F30: =D30/$D$31 -> 0.2283105
B31: Celkem | D31: =SUM(D25:E30) -> 219 | F31: =SUM(F25:G30) -> 1
