Workbook

Sheet kodovana_data
A1: 1. Pohlaví | B1: 2. Ročník | C1: 3. Finanční výdaje | D1: 4. Připravenost dist. Výuky | E1: 5. Technologie | F1: 6. Komunikační prostředky | G1: 7. Webová kamera žáci | H1: 8. Webová kamera učitelé | I1: 9. Problémy v komunikaci | J1: 10. Prostředky ke komunikaci s učitelem | K1: 11. Prostředky ke komunikaci se spolužáky | L1: 11j. Prostředky ke komunikaci | M1: 12. Interaktivní aplikace | N1: 13. Interaktivní akplikace příklady | O1: 14. Četnost využití aplikací | P1: 15. Interaktivní aplikace - mladí učitelé | Q1: 16. Způsob předávání nové látky | R1: 16,7. Způsob předávání nové látky | S1: 17. Dotazy | T1: 18. Stíhaly jste úkoly? | U1: 19. Srozumitelnost komunikace | V1: 20. Info. o výuce včas | W1: 21. Čas věnovaný studiu | X1: 22. Popis testování | Y1: 23. Organizovanost výuky | Z1: 23a. Změny ve výuce | AA1: 24. Dostatečný čas na pauzu | AB1: 25. Klasické, či online vzdělávání? | AC1: 26. Co vám scházelo při výuce | AD1: 27. Kvalita vzdělání | AE1: 28. Doučování | AF1: 29. Příčina doučování | AG1: 30. Negativa distanční výuky | AH1: 31. Pozitiva distanční výuky | AI1: 32. Klasicá výuka vs. Hybridní
A2: 2 | B2: 2 | C2: 4 | D2: 2 | E2: 2,3,4 | F2: 1 | G2: 4 | H2: 3 | I2: 3 | J2: 1 | K2: 1.6 | M2: 2 | N2: Kahoot! | O2: 4 | P2: 3 | Q2: 1,2,3,5 | S2: 2 | T2: 2 | U2: 2 | V2: 2 | W2: 1 | X2: ústní zkoušení, interaktivní testy (Forms) | Y2: 1 | AA2: 2 | AB2: 3 | AC2: Osobní kontakt se spolužáky | AD2: 4 | AE2: 2 | AG2: Větší stres, nezvyklá situace, učitelé nevěděli jak k distanční výuce přistoupit. | AH2: Zlepšení dovedností s IT technikou | AI2: 1
A3: 2 | B3: 2 | C3: 1 | D3: 2 | E3: 3.4 | F3: 1 | G3: 4 | H3: 3 | I3: 2 | J3: 1 | K3: 1.6 | M3: 2 | N3: Kahoot! | O3: 4 | P3: 2 | Q3: 1,2,6 | S3: 1 | T3: 1 | U3: 1 | V3: 3 | W3: 1 | X3: ústní zkoušení, interaktivní testy | Y3: 2 | AA3: 3 | AB3: 3 | AC3: Přátelé | AD3: 5 | AE3: 2 | AG3: žádný pohyb, každý den probýhal stejně bez přátelské interakce, mnohem více úkolů, úzkost | AH3: Žádné dojíždění, čas si můžeme sami rozvrhnout | AI3: 1
A4: 2 | B4: 2 | C4: 4 | D4: 2 | E4: 1,2,3 | F4: 1 | G4: 4 | H4: 3 | I4: 3 | J4: 1 | K4: 1.6 | M4: 2 | N4: Kahoot! | O4: 3 | P4: 2 | Q4: 1,2,3,5 | S4: 1 | T4: 1 | U4: 1 | V4: 2 | W4: 4 | X4: testy (Forms), ústní zkoušení | Y4: 1 | AA4: 4 | AB4: 1 | AC4: prostředí školy, strach z testů - do školy jsem se vždy naučila, ale v online výce ne | AD4: 5 | AE4: 2 | AG4: bolest očí a zad (celý den sedět a koukat na PC), nedostatek pohybu, učili jsme s podle mého názoru méně věcí | AH4: žádná pozitiva | AI4: 1
A5: 2 | B5: 2 | C5: 3 | D5: 2 | E5: 1,2,3 | F5: 1 | G5: 3 | H5: 3 | I5: 3 | J5: 1 | K5: 6 | M5: 2 | N5: Kahoot! | O5: 3 | P5: 5 | Q5: 1.2 | S5: 2 | T5: 3 | U5: 2 | V5: 3 | W5: 1 | X5: ústní zkoušení, testy | Y5: 1 | AA5: 4 | AB5: 1 | AC5: přímý kontakt s kamarády | AD5: 5 | AE5: 1 | AF5: 1 | AG5: učitelé chtěli příliš mnoho úkolů za krátký čas, chyběly mi kamarádky | AH5: mohla jsem se v klidu najíst, nemusela jsem chvátat, dodržování pravidelného režimu stravování, dobrý spánek, mohla jsem si kdykoliv dojít na WC, absence brzkého vstávání (dojíždění), mení stres. | AI5: 2
A6: 2 | B6: 2 | C6: 4 | D6: 2 | E6: 1,2,3 | F6: 1 | G6: 3 | H6: 3 | I6: 3 | J6: 1 | K6: 1.6 | M6: 1 | N6: Kahoot! | O6: 3 | P6: 4 | Q6: 1.2 | S6: 2 | T6: 1 | U6: 2 | V6: 2 | W6: 1 | X6: ústní zkoušení, testy | Y6: 1 | AA6: 3 | AB6: 1 | AC6: kontakt se spolužáky | AD6: 4 | AE6: 1 | AF6: 1 | AG6: moc úkolů na volný čas | AH6: snídaně a jídlo obecně v hodinách | AI6: 1
A7: 2 | B7: 2 | C7: 2 | D7: 2 | E7: 1 | F7: 1 | G7: 3 | H7: 4 | I7: 3 | J7: 1 | K7: 5.6 | M7: 1 | N7: Kahoot!, Quizlet | O7: 3 | P7: 2 | Q7: 1.2 | S7: 3 | T7: 1 | U7: 2 | V7: 4 | W7: 1 | X7: testy, ústní zkoušení | Y7: 1 | AA7: 4 | AB7: 1 | AC7: přímý kontakt s učitely/spolužáky | AD7: 4 | AE7: 2 | AG7: složitejší komunikace, přetahování času ve výuce | AH7: nemusela jsem brzo vstávat | AI7: 1
A8: 2 | B8: 2 | C8: 4 | D8: 2 | E8: 2.3 | F8: 1 | G8: 3 | H8: 3 | I8: 4 | J8: 1 | K8: 5.6 | M8: 2 | N8: Kahoot!, Quizlet | O8: 3 | P8: 2 | Q8: 2.5 | S8: 2 | T8: 2 | U8: 2 | V8: 3 | W8: 2 | X8: ústní zkoušení, interaktivní testy | Y8: 1 | AA8: 3 | AB8: 1 | AC8: přímý kontakt s učitely | AD8: 2 | AE8: 1 | AF8: 4 | AG8: přetahování 45 minutové vyučovací hodiny | AH8: nemusela jsem dojíždět | AI8: 1
A9: 2 | B9: 2 | C9: 3 | D9: 2 | E9: 2 | F9: 1 | G9: 4 | H9: 3 | I9: 4 | J9: 1 | K9: 5.6 | M9: 2 | N9: Kahoot!, Quizlet | O9: 3 | P9: 3 | Q9: 1.2 | S9: 2 | T9: 2 | U9: 2 | V9: 3 | W9: 2 | X9: interaktivní testy, ústní zkoušení | Y9: 1 | AA9: 3 | AB9: 1 | AC9: přímý kontakt | AD9: 2 | AE9: 1 | AF9: 4 | AG9: zhoršená a zdlouhavější komunikace | AH9: žádná pozitiva | AI9: 1
A10: 2 | B10: 2 | C10: 3 | D10: 1 | E10: 2 | F10: 1 | G10: 3 | H10: 3 | I10: 3 | J10: 1 | K10: 6 | M10: 2 | N10: Kahoot! | O10: 3 | P10: 5 | Q10: 1.2 | S10: 1 | T10: 2 | U10: 2 | V10: 3 | W10: 1 | X10: testy, ústní zkoušení | Y10: 1 | AA10: 3 | AB10: 1 | AC10: přímý kontakt s kamarády | AD10: 5 | AE10: 2 | AG10: učitelé požadovali mnoho úkolů, které jsme museli plnit ve volném čase | AH10: Mohla jsem vstávat později | AI10: 1
A11: 1 | B11: 2 | C11: 4 | D11: 2 | E11: 1,2,3 | F11: 1 | G11: 3 | H11: 2 | I11: 3 | J11: 1.5 | K11: 1.9 | M11: 3 | P11: 2 | Q11: 1,2,3 | S11: 2 | T11: 3 | U11: 2 | V11: 2 | W11: 2 | X11: zkoušení přes videohovor, testy v MS Forms | Y11: 1 | AA11: 4 | AB11: 2 | AC11: přednes učitelů | AD11: 5 | AE11: 2 | AG11: v podstatě nic jsem se nenaučil | AH11: mohl jsem vstávat déle a mohl jsem jíst v hodině | AI11: 2
A12: 2 | B12: 2 | C12: 4 | D12: 3 | E12: 2.3 | F12: 1 | G12: 3 | H12: 2 | I12: 3 | J12: 1 | K12: 1.6 | M12: 1 | N12: Kahoot! | O12: 3 | P12: 3 | Q12: 2.5 | S12: 1 | T12: 3 | U12: 3 | V12: 2 | W12: 1 | X12: testy - Forms, zkoušení s kamerou | Y12: 2 | AA12: 4 | AB12: 3 | AC12: pořádné vysvětlení látky | AD12: 4 | AE12: 2 | AG12: mnoho úkolů | AH12: byla jsem doma | AI12: 2
A13: 2 | B13: 2 | C13: 2 | D13: 3 | E13: 2.3 | F13: 1 | G13: 1 | H13: 2 | I13: 1 | J13: 1 | K13: 1 | M13: 2 | N13: Kahoot! | O13: 4 | P13: 3 | Q13: 2 | S13: 3 | T13: 4 | U13: 4 | V13: 4 | W13: 1 | X13: Testy | Y13: 4 | Z13: Ne všechny hodiny byly online | AA13: 2 | AB13: 2 | AC13: nic | AD13: 4 | AE13: 2 | AG13: Špatné připojení - nenaučili jsme se látku pořádně | AH13: Nemuseli jsme vstávat brzo, větší komfort | AI13: 2
A14: 2 | B14: 2 | C14: 4 | D14: 3 | E14: 2.3 | F14: 1 | G14: 3 | H14: 2 | I14: 3 | J14: 1 | K14: 1,6,9 | M14: 2 | N14: Kahoot! | O14: 3 | P14: 3 | Q14: 2.5 | S14: 2 | T14: 3 | U14: 2 | V14: 2 | W14: 2 | X14: ústní zkoušení, online testy | Y14: 2 | AA14: 3 | AB14: 2 | AC14: pořádné vysvětlení látky, kontakt se spolužáky | AD14: 4 | AE14: 2 | AG14: těžší pochopení látky, příliš mnoho úkolů | AH14: mohli jsme si více čas rozvrhnout | AI14: 2
A15: 2 | B15: 2 | C15: 4 | D15: 1 | E15: 1.3 | F15: 1 | G15: 4 | H15: 3 | I15: 3 | J15: 1 | K15: 1.6 | M15: 2 | N15: Kahoot! | O15: 3 | P15: 2 | Q15: 1,2,3 | S15: 1 | T15: 2 | U15: 2 | V15: 2 | W15: 2 | X15: interaktivní testy, zkoušení se zapnutou webkamerou, testy ve Forms | Y15: 2 | AA15: 1 | AB15: 3 | AC15: nic mi nescházelo | AD15: 4 | AE15: 1 | AF15: 3 | AG15: nadměrné množství úkolů a zadání | AH15: více volného času, možnost se najíst ve 12 hodin doma | AI15: 2
A16: 1 | B16: 2 | C16: 3 | D16: 2 | E16: 1.3 | F16: 1 | G16: 4 | H16: 3 | I16: 4 | J16: 1 | K16: 1,5,6 | M16: 1 | N16: Kahoot! | O16: 3 | P16: 4 | Q16: 5 | S16: 1 | T16: 2 | U16: 2 | V16: 2 | W16: 1 | X16: ústní zkoušení, testy online (Forms) | Y16: 1 | AA16: 2 | AB16: 1 | AC16: kontakt se spolužáky a patřičný pohyb (většinu dne jsme strávili výukou a řešením úkolů u PC) | AD16: 3 | AE16: 1 | AF16: 2 | AG16: někdy se můžu potýkat s technickými problémy | AH16: žádná pozitiva | AI16: 1
A17: 2 | B17: 2 | C17: 4 | D17: 2 | E17: 2.3 | F17: 1 | G17: 4 | H17: 3 | I17: 3 | J17: 1 | K17: 1.6 | M17: 2 | N17: Kahoot! | O17: 3 | P17: 3 | Q17: 1,2,3 | S17: 1 | T17: 2 | U17: 2 | V17: 1 | W17: 2 | X17: ústní zkoušení, online testy | Y17: 2 | AA17: 2 | AB17: 3 | AC17: kontakt se spolužáky | AD17: 4 | AE17: 2 | AG17: žádná negativa | AH17: žádná pozitiva | AI17: 2
A18: 2 | B18: 2 | C18: 1 | D18: 2 | E18: 2.3 | F18: 1 | G18: 4 | H18: 2 | I18: 3 | J18: 1 | K18: 1,6,9 | M18: 2 | N18: Kahoot!, Quizlet | O18: 3 | P18: 2 | Q18: 1,2,3,5,6 | S18: 2 | T18: 3 | U18: 2 | V18: 2 | W18: 2 | X18: zkoušení s kamerou, testy ve Forms, vyjímečně do sešitu písemky | Y18: 1 | AA18: 3 | AB18: 3 | AC18: Přímý kontakt s učitely a spolužáky | AD18: 4 | AE18: 1 | AF18: 3 | AG18: Nechuť cokoliv dělat, když sedím doma | AH18: Měla jsem čas na snídani | AI18: 3
A19: 2 | B19: 2 | C19: 3 | D19: 3 | E19: 2.3 | F19: 1 | G19: 3 | H19: 4 | I19: 2 | J19: 1 | K19: 1,6,9 | M19: 2 | N19: Kahoot!, Quizlet | O19: 2 | P19: 4 | Q19: 1,2,3,5,6 | S19: 2 | T19: 2 | U19: 2 | V19: 2 | W19: 3 | X19: Testy v online školním prostředí, ústní zkoušení | Y19: 1 | AA19: 3 | AB19: 2 | AC19: Kontakt se všemi | AD19: 3 | AE19: 2 | AG19: Málo času na online testy. Malá tolerance při nefungování internetu, nebo při pomalém internetu - velký problém | AH19: Více času na rodinu a osobní život. Přehlednost úkolů a testů (kdy a co píšeme) | AI19: 2
A20: 2 | B20: 2 | C20: 3 | D20: 3 | E20: 1.2 | F20: 1 | G20: 4 | H20: 2 | I20: 2 | J20: 1.5 | K20: 1.6 | M20: 1 | N20: Kahoot!, Quizlet | O20: 2 | P20: 4 | Q20: 1,2,3,6 | S20: 2 | T20: 3 | U20: 2 | V20: 3 | W20: 2 | X20: testy, ústní zkoušení | Y20: 2 | AA20: 3 | AB20: 1 | AC20: kontakt se spolužáky, pohyb | AD20: 5 | AE20: 1 | AF20: 1 | AG20: moc úkolů, které se nedaly stíhat, nesrozumitelnost látky | AH20: prostředí domova - nenervovala jsem se | AI20: 2
A21: 2 | B21: 2 | C21: 2 | D21: 3 | E21: 2.3 | F21: 1 | G21: 4 | H21: 2 | I21: 3 | J21: 1.5 | K21: 1.6 | M21: 1 | N21: Kahoot!, Quizlet | O21: 2 | P21: 2 | Q21: 1,2,3,6 | S21: 1 | T21: 3 | U21: 2 | V21: 3 | W21: 3 | X21: ústní zkoušení, testy | Y21: 2 | AA21: 4 | AB21: 3 | AC21: Pohyb | AD21: 5 | AE21: 2 | AG21: Technické problémy, málo pohybu, moc úkolů | AH21: možnost plánování a time management podle sebe | AI21: 2
A22: 1 | B22: 2 | C22: 2 | D22: 1 | E22: 1.3 | F22: 1 | G22: 4 | H22: 4 | I22: 2 | J22: 1 | K22: 1.6 | M22: 2 | N22: Kahoot! | O22: 3 | P22: 4 | Q22: 1,2,3,5,6 | S22: 2 | T22: 2 | U22: 2 | V22: 2 | W22: 3 | X22: Testy v Formsech, ústní s webkou | Y22: 2 | AA22: 3 | AB22: 1 | AC22: prostředí školy | AD22: 4 | AE22: 2 | AG22: Větší prostor pro podvody, menší motivace | AH22: Nemusel jsem dojíždět, úspora času | AI22: 1
A23: 2 | B23: 2 | C23: 1 | D23: 1 | E23: 2.3 | F23: 1 | G23: 3 | H23: 2 | I23: 2 | J23: 1 | K23: 1,4,5,9 | M23: 2 | N23: Kahoot! | O23: 3 | P23: 4 | Q23: 1,2,3,5 | S23: 1 | T23: 1 | U23: 2 | V23: 1 | W23: 1 | X23: Zkoušení přes MS Teams přes soukromý hovor s kamerou nebo max někde ve třech, testy byly na omezený čas také na Teams formou Forms | Y23: 1 | AA23: 3 | AB23: 2 | AC23: lehce jsem ztrácela pozornost nebo usínala | AD23: 4 | AE23: 2 | AG23: podvody studentů | AH23: mohla jsem si rozvrhnout lépe svůj čas a nemusela jsem být jen doma | AI23: 2
A24: 1 | B24: 2 | C24: 1 | D24: 1 | E24: 2.3 | F24: 1 | G24: 3 | H24: 3 | I24: 4 | J24: 1 | K24: 1,2,6,9 | M24: 2 | N24: Kahoot! | O24: 3 | P24: 4 | Q24: 1,2,3,5,6 | S24: 1 | T24: 2 | U24: 1 | V24: 2 | W24: 1 | X24: Přes soukromý hovor s učitelem se zapnutou kamerou nebo přes Forms | Y24: 2 | AA24: 2 | AB24: 1 | AC24: Přímý kontakt, spolužáci, rutina | AD24: 5 | AE24: 1 | AF24: 5 | AG24: omezený kontakt s učiteli | AH24: pohodlnost | AI24: 2
A25: 2 | B25: 2 | C25: 4 | D25: 2 | E25: 2.3 | F25: 1 | G25: 4 | H25: 2 | I25: 3 | J25: 1 | K25: 1,5,6 | M25: 2 | N25: Kahoot! | O25: 3 | P25: 2 | Q25: 1,2,5 | S25: 2 | T25: 3 | U25: 2 | V25: 2 | W25: 3 | X25: ústní zkoušení, testy v online školním prostředí - Forms | Y25: 2 | AA25: 3 | AB25: 1 | AC25: spolužáci, jakási disciplána ve stávání | AD25: 5 | AE25: 2 | AG25: žádný pohyb, nevídala jsem spolužáky, plno předmětů jsem se hůře učila za notebookem | AH25: žádná pozitiva | AI25: 2
A26: 2 | B26: 2 | C26: 4 | D26: 2 | E26: 2.3 | F26: 1 | G26: 3 | H26: 3 | I26: 3 | J26: 1,5,7 | K26: 1,6,9 | M26: 2 | N26: Kahoot! | O26: 3 | P26: 4 | Q26: 1,2,3,5,6 | S26: 2 | T26: 2 | U26: 2 | V26: 2 | W26: 3 | X26: testy ve forms hlavně, ústní zkoušení s webkamerou | Y26: 2 | AA26: 4 | AB26: 1 | AC26: kontakt s lidmi | AD26: 4 | AE26: 2 | AG26: neustálé koukání do počítače | AH26: žádná pozitiva | AI26: 2
A27: 1 | B27: 2 | C27: 3 | D27: 2 | E27: 1.3 | F27: 1 | G27: 4 | H27: 2 | I27: 3 | J27: 1 | K27: 1,4,6 | M27: 2 | N27: Kahoot! | O27: 3 | P27: 2 | Q27: 1.2 | S27: 2 | T27: 2 | U27: 2 | V27: 1 | W27: 3 | X27: ústní zkoušení | Y27: 1 | AA27: 2 | AB27: 2 | AC27: přímý kontakt | AD27: 2 | AE27: 2 | AG27: občas horší komunikace | AH27: občasná větší volnost, dobré prostředí | AI27: 2
A28: 2 | B28: 2 | C28: 4 | D28: 1 | E28: 2.3 | F28: 1 | G28: 4 | H28: 3 | I28: 3 | J28: 1 | K28: 1,6,9 | M28: 1 | O28: 3 | P28: 2 | Q28: 2 | S28: 2 | T28: 2 | U28: 2 | V28: 2 | W28: 2 | X28: testy na omezený čas, zkoušení přes kameru | Y28: 1 | AA28: 4 | AB28: 2 | AC28: přímý kontakt se spolužáky, menší volnost (úkoly) | AD28: 1 | AE28: 2 | AG28: žádná negativa | AH28: měla jsem čas na vše podle sebe, nemusela jsem dojíždět | AI28: 2
A29: 1 | B29: 2 | C29: 3 | D29: 2 | E29: 2.3 | F29: 1 | G29: 4 | H29: 2 | I29: 4 | J29: 1 | K29: 1,4,6 | M29: 2 | N29: Kahoot! | O29: 3 | P29: 2 | Q29: 2 | S29: 2 | T29: 3 | U29: 2 | V29: 2 | W29: 1 | X29: neuvedeno | Y29: 2 | AA29: 3 | AB29: 3 | AC29: prostředí, příliš mnoho úkolů | AD29: 5 | AE29: 2 | AG29: žádná negativa | AH29: méně hodin, uspořádat si práci, úkoly na odpoledně | AI29: 2
A30: 1 | B30: 2 | C30: 4 | D30: 2 | E30: 1 | F30: 1 | G30: 3 | H30: 2 | I30: 3 | J30: 1 | K30: 4 | M30: 1 | N30: Kahoot! | O30: 3 | P30: 3 | Q30: 2.3 | S30: 1 | T30: 2 | U30: 2 | V30: 1 | W30: 3 | X30: interaktivní testy, ústní zkoušení | Y30: 2 | AA30: 3 | AB30: 1 | AC30: přímý kontakt s učiteli | AD30: 4 | AE30: 2 | AG30: nedokázal jsem se plně soustředit | AH30: rozvržení času podle nás | AI30: 3
A31: 2 | B31: 2 | C31: 4 | D31: 1 | E31: 2 | F31: 1 | G31: 3 | H31: 2 | I31: 2 | J31: 1 | K31: 6 | M31: 3 | O31: 4 | P31: 4 | Q31: 1,2,6 | S31: 2 | T31: 3 | U31: 3 | V31: 3 | W31: 3 | X31: neuvedeno | Y31: 2 | AA31: 2 | AB31: 1 | AC31: nic | AD31: 5 | AE31: 2 | AG31: žádná negativa | AH31: žádná pozitiva | AI31: 2
A32: 2 | B32: 2 | C32: 4 | D32: 2 | E32: 2.3 | F32: 1 | G32: 4 | H32: 2 | I32: 3 | J32: 1.5 | K32: 1,6,9 | M32: 1 | N32: Kahoot! | O32: 4 | P32: 3 | Q32: 1.2 | S32: 1 | T32: 2 | U32: 2 | V32: 1 | W32: 1 | X32: interaktivní testy a ústní zkoušení | Y32: 1 | AA32: 3 | AB32: 1 | AC32: kontakt se spolužáky | AD32: 4 | AE32: 2 | AG32: Trávení více času škoulou, zádné vídání spolužáků | AH32: Nemusela jsem dojíždět | AI32: 1
A33: 1 | B33: 2 | C33: 1 | D33: 2 | E33: 2.3 | F33: 1 | G33: 3 | H33: 2 | I33: 2 | J33: 1 | K33: 1.6 | M33: 2 | N33: Kahoot! | O33: 3 | P33: 2 | Q33: 1,2,3,5 | S33: 2 | T33: 3 | U33: 3 | V33: 3 | W33: 2 | X33: testy Forms | Y33: 2 | AA33: 2 | AB33: 3 | AC33: kontakt | AD33: 4 | AE33: 1 | AF33: 1 | AG33: málo individuální přístup, nepřehledné úkoly, stres | AH33: plánování času, pozdější vstávání | AI33: 2
A34: 1 | B34: 2 | C34: 4 | D34: 1 | E34: 2.3 | F34: 1 | G34: 4 | H34: 2 | I34: 2 | J34: 1 | K34: 1.6 | M34: 1 | N34: Kahoot! | O34: 3 | P34: 2 | Q34: 1,2,3 | S34: 2 | T34: 2 | U34: 2 | V34: 2 | W34: 3 | X34: neuvedeno | Y34: 2 | AA34: 1 | AB34: 1 | AC34: přímý kontakt se spolužáky | AD34: 5 | AE34: 1 | AF34: 4 | AG34: nižší soustředěnost na výklad učitele | AH34: více volného času | AI34: 1
A35: 2 | B35: 2 | C35: 4 | D35: 1 | E35: 2.3 | F35: 1 | G35: 3 | H35: 4 | I35: 3 | J35: 1.5 | K35: 1,6,9,j | L35: instagram, snapchat | M35: 2 | N35: Kahoot! | O35: 3 | P35: 2 | Q35: 1,2,3 | S35: 3 | T35: 1 | U35: 2 | V35: 2 | W35: 1 | X35: ústní zkoušení jen v 1 předmětu, jinak byly testy v online prostředí | Y35: 2 | AA35: 3 | AB35: 1 | AC35: pocit odnést si něco v hlavě z učivo po hodinách (doučovala jsem se spíše ze zápisu z hodin, ne přímo v té hodině) | AD35: 4 | AE35: 1 | AF35: 2 | AG35: málo času na vypracování testu, neochota dovysvětlit látku některých učitelů, Teams nám zůstaly v této "normální" době a zadávají sem stále úkoly, i když chodíme do školy, krátké hodiny u některých učitelů (10 - 15 min., namísto 45 minut) | AH35: učitelé se naučili více pracovat v online prostředí | AI35: 1
A36: 2 | B36: 2 | C36: 1 | D36: 2 | E36: 2.3 | F36: 1 | G36: 4 | H36: 3 | I36: 2 | J36: 1 | K36: 1,5,6,9 | M36: 1 | N36: Kahoot!, E-twinning, Quizlet | O36: 3 | P36: 1 | Q36: 1,2,3,5,6 | S36: 2 | T36: 3 | U36: 2 | V36: 2 | W36: 2 | X36: testy zadávali učitelé přes Teams, ústní zkoušení probíhalo pouze u 1 předmětu | Y36: 1 | AA36: 2 | AB36: 2 | AC36: kontakt se spolužáky, řešení problémů s učitelem někdy bylo trochu obtížnější přes PC | AD36: 4 | AE36: 2 | AG36: horší komunikace s učiteli | AH36: úkoly jsem mohla dělat kdy jsem chtěla, lépe rozvržený čas | AI36: 1
A37: 2 | B37: 2 | C37: 3 | D37: 3 | E37: 2.3 | F37: 1 | G37: 4 | H37: 3 | I37: 2 | J37: 1 | K37: 1,5,6 | M37: 2 | N37: Kahoot! | O37: 3 | P37: 4 | Q37: 1,2,6 | S37: 2 | T37: 3 | U37: 2 | V37: 3 | W37: 2 | X37: Formou testu ve Forms | Y37: 2 | AA37: 4 | AB37: 2 | AC37: kontakt s kamarády | AD37: 4 | AE37: 2 | AG37: žádná negativa | AH37: rozvrhnutí učiva během dne | AI37: 2
A38: 1 | B38: 2 | C38: 4 | D38: 2 | E38: 1.3 | F38: 1 | G38: 3 | H38: 2 | I38: 2 | J38: 1 | K38: 1,4,6 | M38: 2 | O38: 3 | P38: 3 | Q38: 1,2,3,6 | S38: 2 | T38: 3 | U38: 2 | V38: 2 | W38: 1 | X38: Testy online | Y38: 2 | AA38: 2 | AB38: 1 | AC38: nic | AD38: 4 | AE38: 2 | AG38: žádná negativa | AH38: žádná pozitiva | AI38: 2
A39: 2 | B39: 2 | C39: 3 | D39: 2 | E39: 1,2,3 | F39: 1 | G39: 4 | H39: 2 | I39: 3 | J39: 1 | K39: 1,6,9 | M39: 1 | N39: Kahoot! | O39: 3 | P39: 3 | Q39: 1,2,3 | S39: 2 | T39: 3 | U39: 2 | V39: 2 | W39: 1 | X39: testy ve Forms, ústní zkoušení | Y39: 1 | AA39: 2 | AB39: 1 | AC39: obědy | AD39: 5 | AE39: 2 | AG39: bylo to nezáživné a nedokázala jsem se plně soustředit, takže jsem se toho moc nenaučila | AH39: jelikož dojíždím, tak mi distanční výuka ušetřila spoustu času a vyhla jsem se nepříjemným lidem ve škole | AI39: 1
A40: 2 | B40: 2 | C40: 4 | D40: 2 | E40: 2.3 | F40: 1 | G40: 3 | H40: 3 | I40: 3 | J40: 1 | K40: 1.6 | M40: 1 | N40: Kahoot!, Google | O40: 3 | P40: 2 | Q40: 1,2,3 | S40: 2 | T40: 3 | U40: 2 | V40: 2 | W40: 1 | X40: Testy ve Forms | Y40: 2 | AA40: 2 | AB40: 1 | AC40: Přímý kontakt se splužáky, živý výklad od učitele | AD40: 5 | AE40: 2 | AG40: úkol, který byl místo online hodiny, my často zabral víc než 45 minut, často učitelé měli problém s technickými znalostmi nebo byl problém s připojením | AH40: nebylo třeba dojíždět, úkoly jsme si mohli rozvrhnout časově podle sebe | AI40: 2
...

Sheet uzavrene_otazky
B3: Pohlaví | D3: Počet respondentů | F3: Procentní vyjádření | K3: Pohlaví | L3: Procento
B4: Muž | D4: 38 | F4: =D4/$D$6 -> 0.2345679 | K4: Muži | L4: =F4 -> 0.2345679
B5: Žena | D5: 124 | F5: =D5/$D$6 -> 0.7654321 | K5: Ženy | L5: =F5 -> 0.7654321
B6: Celkem | D6: =SUM(D4:E5) -> 162 | F6: =SUM(F4:G5) -> 1
B12: Ročník studia | D12: Počet respondentů | F12: Procentní vyjádření | K12: Ročník studia | L12: Procento
B13: Druhý | D13: 52 | F13: =D13/D16 -> 0.32098765 | K13: Druhý | L13: =F13 -> 0.32098765
B14: Třetí | D14: 58 | F14: =D14/D16 -> 0.35802469 | K14: Třetí | L14: =F14 -> 0.35802469
B15: Čtvrtý | D15: 52 | F15: =D15/D16 -> 0.32098765 | K15: Čtvrtý | L15: =F15 -> 0.32098765
B16: Celkem | D16: =SUM(D13:E15) -> 162 | F16: =SUM(F13:G15) -> 1
B22: Finanční výdaje | D22: Počet respondentů | F22: Procentní vyjádření | K22: Finanční výdaje | L22: Procento
B23: Ano | D23: =kodovana_data!C167 -> 24 | F23: =D23/$D$27 -> 0.14814815 | K23: =B23 -> Ano | L23: =F23 -> 0.14814815
B24: Spíše ano | D24: =kodovana_data!C169 -> 23 | F24: =D24/$D$27 -> 0.14197531 | K24: =B24 -> Spíše ano | L24: =F24 -> 0.14197531
B25: Spíše ne | D25: =kodovana_data!C171 -> 41 | F25: =D25/$D$27 -> 0.25308642 | K25: =B25 -> Spíše ne | L25: =F25 -> 0.25308642
B26: Ne | D26: =kodovana_data!C173 -> 74 | F26: =D26/$D$27 -> 0.45679012 | K26: =B26 -> Ne | L26: =F26 -> 0.45679012
B27: Celkem | D27: =SUM(D23:E26) -> 162 | F27: =SUM(F23:G26) -> 1
B33: Připravenost distanční výuky | D33: Počet respondentů | F33: Procentní vyjádření | K33: =B33 -> Připravenost distanční výuky | L33: Procento
B34: Ano | D34: =kodovana_data!D167 -> 43 | F34: =D34/$D$38 -> 0.2654321 | K34: =B34 -> Ano | L34: =F34 -> 0.2654321
B35: Spíše ano | D35: =kodovana_data!D169 -> 88 | F35: =D35/$D$38 -> 0.54320988 | K35: =B35 -> Spíše ano | L35: =F35 -> 0.54320988
B36: Spíše ne | D36: =kodovana_data!D171 -> 25 | F36: =D36/$D$38 -> 0.15432099 | K36: =B36 -> Spíše ne | L36: =F36 -> 0.15432099
B37: Ne | D37: =kodovana_data!D173 -> 6 | F37: =D37/$D$38 -> 0.037037037 | K37: =B37 -> Ne | L37: =F37 -> 0.037037037
B38: Celkem | D38: =SUM(D34:E37) -> 162 | F38: =SUM(F34:G37) -> 1
B42: Zařízení využitá při distanční výuce | D42: Počet odpovědí | F42: Procentní vyjádření | K42: =B42 -> Zařízení využitá při distanční výuce | L42: Procento
B43: Počítač | D43: =kodovana_data!E167 -> 43 | F43: =D43/$D$47 -> 0.13650794 | K43: =B43 -> Počítač | L43: =F43 -> 0.13650794
B44: Notebook | D44: =kodovana_data!E169 -> 131 | F44: =D44/$D$47 -> 0.41587302 | K44: =B44 -> Notebook | L44: =F44 -> 0.41587302
B45: Smartphone | D45: =kodovana_data!E171 -> 135 | F45: =D45/$D$47 -> 0.42857143 | K45: =B45 -> Smartphone | L45: =F45 -> 0.42857143
B46: Tablet | D46: =kodovana_data!E173 -> 6 | F46: =D46/$D$47 -> 0.019047619 | K46: =B46 -> Tablet | L46: =F46 -> 0.019047619
B47: Celkem | D47: =SUM(D43:E46) -> 315 | F47: =SUM(F43:G46) -> 1
B51: Zapnutá webkamera - žáci | D51: Počet respondentů | F51: Procentní vyjádření | K51: =B51 -> Zapnutá webkamera - žáci | L51: Procento
B52: Ano | D52: =kodovana_data!G167 -> 2 | F52: =D52/$D$56 -> 0.012345679 | K52: =B52 -> Ano | L52: =F52 -> 0.012345679
B53: Spíše ano | D53: =kodovana_data!G169 -> 3 | F53: =D53/$D$56 -> 0.018518519 | K53: =B53 -> Spíše ano | L53: =F53 -> 0.018518519
B54: Spíše ne | D54: =kodovana_data!G171 -> 96 | F54: =D54/$D$56 -> 0.59259259 | K54: =B54 -> Spíše ne | L54: =F54 -> 0.59259259
B55: Ne | D55: =kodovana_data!G173 -> 61 | F55: =D55/$D$56 -> 0.37654321 | K55: =B55 -> Ne | L55: =F55 -> 0.37654321
B56: Celkem | D56: =SUM(D52:E55) -> 162 | F56: =SUM(F52:G55) -> 1
B60: Zapnutá webkamera - učitelé | D60: Počet respondentů | F60: Procentní vyjádření | K60: =B60 -> Zapnutá webkamera - učitelé | L60: Procento
B61: Ano | D61: =kodovana_data!H167 -> 1 | F61: =D61/$D$65 -> 0.0061728395 | K61: =B61 -> Ano | L61: =F61 -> 0.0061728395
B62: Spíše ano | D62: =kodovana_data!H169 -> 64 | F62: =D62/$D$65 -> 0.39506173 | K62: =B62 -> Spíše ano | L62: =F62 -> 0.39506173
B63: Spíše ne | D63: =kodovana_data!H171 -> 76 | F63: =D63/$D$65 -> 0.4691358 | K63: =B63 -> Spíše ne | L63: =F63 -> 0.4691358
B64: Ne | D64: =kodovana_data!H173 -> 21 | F64: =D64/$D$65 -> 0.12962963 | K64: =B64 -> Ne | L64: =F64 -> 0.12962963
B65: Celkem | D65: =SUM(D61:E64) -> 162 | F65: =SUM(F61:G64) -> 1
B69: Frekventovanost problémů v komunikaci | D69: Počet respondentů | F69: Procentní vyjádření | K69: =B69 -> Frekventovanost problémů v komunikaci | L69: Procento
...

Sheet otevreny_odpovedi
B2: Co respondentům nejvíce scházelo při distanční výuce | D2: Počet odpovědí | F2: Procentní vyjádření
B3: Přímý kontakt s učiteli | D3: =37+5+9 -> 51 | F3: =D3/$D$8 -> 0.22767857
B4: Přímý kontakt se spolužáky | D4: =63+15+5+7 -> 90 | F4: =D4/$D$8 -> 0.40178571
B5: Motivace/soustředění | D5: =9+6+10+15 -> 40 | F5: =D5/$D$8 -> 0.17857143
B6: Prostředí školy/režim | D6: 20 | F6: =D6/$D$8 -> 0.089285714
B7: Nic | D7: 23 | F7: =D7/$D$8 -> 0.10267857
B8: Celkem | D8: =SUM(D3:E7) -> 224 | F8: =SUM(F3:G7) -> 1
B12: Největší vnímaná negativa online výuky | D12: Počet odpovědí | F12: Procentní vyjádření
B13: Mnoho úkolů | D13: 44 | F13: =D13/$D$20 -> 0.19298246
B14: Krátký čas na testy | D14: 25 | F14: =D14/$D$20 -> 0.10964912
B15: Neporozumění látce | D15: =22+14 -> 36 | F15: =D15/$D$20 -> 0.15789474
B16: Kratší/delší hodiny (krátké přestávky) | D16: 27 | F16: =D16/$D$20 -> 0.11842105
B17: Problémy s komunikací | D17: 38 | F17: =D17/$D$20 -> 0.16666667
B18: Pohyb (sezení u PC) | D18: 11 | F18: =D18/$D$20 -> 0.048245614
B19: Žádná negativa | D19: 47 | F19: =D19/$D$20 -> 0.20614035
B20: Celkem | D20: =SUM(D13:E19) -> 228 | F20: =SUM(F13:G19) -> 1
B24: Největší vnímaná pozitiva online výuky | D24: Počet odpovědí | F24: Procentní vyjádření
B25: Nemuset dojíždět do školy | D25: 30 | F25: =D25/$D$31 -> 0.1369863
B26: Více času na úkoly/své věci | D26: 55 | F26: =D26/$D$31 -> 0.25114155
B27: Pozdější vstávání/delší spánek | D27: =24+14 -> 38 | F27: =D27/$D$31 -> 0.17351598
B28: Domácí prostředí | D28: 34 | F28: =D28/$D$31 -> 0.15525114
B29: Pravidelná snídaně | D29: 12 | F29: =D29/$D$31 -> 0.054794521
B30: Žádná pozitiva | D30: 50 | F30: =D30/$D$31 -> 0.2283105
B31: Celkem | D31: =SUM(D25:E30) -> 219 | F31: =SUM(F25:G30) -> 1
